BEGIN:VCALENDAR
VERSION:2.0
PRODID:-//綠色生活教育基金 - ECPv6.15.18//NONSGML v1.0//EN
CALSCALE:GREGORIAN
METHOD:PUBLISH
X-ORIGINAL-URL:https://www.club-o.org
X-WR-CALDESC:Events for 綠色生活教育基金
REFRESH-INTERVAL;VALUE=DURATION:PT1H
X-Robots-Tag:noindex
X-PUBLISHED-TTL:PT1H
BEGIN:VTIMEZONE
TZID:UTC
BEGIN:STANDARD
TZOFFSETFROM:+0000
TZOFFSETTO:+0000
TZNAME:UTC
DTSTART:20160101T000000
END:STANDARD
END:VTIMEZONE
BEGIN:VEVENT
DTSTART;TZID=UTC:20170429T190000
DTEND;TZID=UTC:20170429T204500
DTSTAMP:20260423T092612
CREATED:20171019T215349Z
LAST-MODIFIED:20171026T180951Z
UID:2581-1493492400-1493498700@www.club-o.org
SUMMARY:「銅人療法」簡介會
DESCRIPTION:主講：林敏怡\n（著名音樂人及治療師）\n\n\n能量治療是自然療法的一門，利用環境和群體之間的互動，配合人體本身的自我療癒能力，產生客觀上可以測量出來的療癒效果。「銅人療法」起源於美國波士頓，由資深音樂人林敏怡於2006年引進香港，其療效超卓，方法簡易安全。 \n\n			\n		\n	\n	\n	\n	\n		1 「銅人療法」簡介會2 「銅人療法」簡介會3 「銅人療法」簡介會4 「銅人療法」簡介會5 「銅人療法」簡介會
URL:https://www.club-o.org/event/%e3%80%8c%e9%8a%85%e4%ba%ba%e7%99%82%e6%b3%95%e3%80%8d%e7%b0%a1%e4%bb%8b%e6%9c%83/
CATEGORIES:網上錄音,高能量晚會
ATTACH;FMTTYPE=image/jpeg:https://www.club-o.org/wp-content/uploads/2017/10/34704702771_252644d3c8_k.jpg
END:VEVENT
END:VCALENDAR