BEGIN:VCALENDAR
VERSION:2.0
PRODID:-//綠色生活教育基金 - ECPv6.15.18//NONSGML v1.0//EN
CALSCALE:GREGORIAN
METHOD:PUBLISH
X-ORIGINAL-URL:https://www.club-o.org
X-WR-CALDESC:Events for 綠色生活教育基金
REFRESH-INTERVAL;VALUE=DURATION:PT1H
X-Robots-Tag:noindex
X-PUBLISHED-TTL:PT1H
BEGIN:VTIMEZONE
TZID:UTC
BEGIN:STANDARD
TZOFFSETFROM:+0000
TZOFFSETTO:+0000
TZNAME:UTC
DTSTART:20160101T000000
END:STANDARD
END:VTIMEZONE
BEGIN:VEVENT
DTSTART;TZID=UTC:20170930T070000
DTEND;TZID=UTC:20171007T203000
DTSTAMP:20260423T062526
CREATED:20170930T023318Z
LAST-MODIFIED:20170930T023318Z
UID:2164-1506754800-1507408200@www.club-o.org
SUMMARY:講 座 日 期 更 改 通 知  (9月30日及10月7日的高能量晚會)
DESCRIPTION:講 座 日 期 更 改 通 知  \n \n原定9月30日高能量晚會 \n《一位年輕人的唐卡藝術追隨旅程》 (主講：周凱漩老師) \n因導師工作關係，將與10月7日高能量晚會 \n《♥愛心圈♥：收放溫柔的生命力》 (主持：Club O療癒師團) 對調， \n敬請留意。 \nClub O\n2017年9月2日
URL:https://www.club-o.org/event/%e8%ac%9b-%e5%ba%a7-%e6%97%a5-%e6%9c%9f-%e6%9b%b4-%e6%94%b9-%e9%80%9a-%e7%9f%a5-9%e6%9c%8830%e6%97%a5%e5%8f%8a10%e6%9c%887%e6%97%a5%e7%9a%84%e9%ab%98%e8%83%bd%e9%87%8f%e6%99%9a%e6%9c%83/
END:VEVENT
END:VCALENDAR