BEGIN:VCALENDAR
VERSION:2.0
PRODID:-//綠色生活教育基金 - ECPv6.15.18//NONSGML v1.0//EN
CALSCALE:GREGORIAN
METHOD:PUBLISH
X-ORIGINAL-URL:https://www.club-o.org
X-WR-CALDESC:Events for 綠色生活教育基金
REFRESH-INTERVAL;VALUE=DURATION:PT1H
X-Robots-Tag:noindex
X-PUBLISHED-TTL:PT1H
BEGIN:VTIMEZONE
TZID:UTC
BEGIN:STANDARD
TZOFFSETFROM:+0000
TZOFFSETTO:+0000
TZNAME:UTC
DTSTART:20160101T000000
END:STANDARD
END:VTIMEZONE
BEGIN:VEVENT
DTSTART;TZID=UTC:20171111T110000
DTEND;TZID=UTC:20171111T150000
DTSTAMP:20260423T044926
CREATED:20171026T215124Z
LAST-MODIFIED:20171026T215124Z
UID:2778-1510398000-1510412400@www.club-o.org
SUMMARY:我要做大廚之秋冬美食篇
DESCRIPTION:在Club O學了這麼多素食理論、營養學，又手執多個素食食譜，咁你又有沒有真的\n落手做過呢？\n今次工作坊大家有機會齊齊動手整番幾味，仲有得學大家都期待已久的素薑醋！\n機會難得，名額有限，齊齊落手做吧！ \n● 導師：Daisy及活得自在廚藝隊\n● 日期：11月11、25日(逢週六，共兩堂)\n● 時間：上午11:00 – 下午3:00\n● 地點：Club O 會址G、H室\n● 費用：全期$598 (會員$528)；單堂$398 (會員$338)，費用包括茶點及午膳。
URL:https://www.club-o.org/event/%e6%88%91%e8%a6%81%e5%81%9a%e5%a4%a7%e5%bb%9a%e4%b9%8b%e7%a7%8b%e5%86%ac%e7%be%8e%e9%a3%9f%e7%af%87/
CATEGORIES:新心靈工作坊
ATTACH;FMTTYPE=image/jpeg:https://www.club-o.org/wp-content/uploads/2017/10/cook_jpg.jpg
END:VEVENT
END:VCALENDAR