BEGIN:VCALENDAR
VERSION:2.0
PRODID:-//綠色生活教育基金 - ECPv6.15.18//NONSGML v1.0//EN
CALSCALE:GREGORIAN
METHOD:PUBLISH
X-ORIGINAL-URL:https://www.club-o.org
X-WR-CALDESC:Events for 綠色生活教育基金
REFRESH-INTERVAL;VALUE=DURATION:PT1H
X-Robots-Tag:noindex
X-PUBLISHED-TTL:PT1H
BEGIN:VTIMEZONE
TZID:UTC
BEGIN:STANDARD
TZOFFSETFROM:+0000
TZOFFSETTO:+0000
TZNAME:UTC
DTSTART:20160101T000000
END:STANDARD
END:VTIMEZONE
BEGIN:VEVENT
DTSTART;TZID=UTC:20171224T200000
DTEND;TZID=UTC:20171224T230000
DTSTAMP:20260423T032949
CREATED:20171026T205145Z
LAST-MODIFIED:20171026T205145Z
UID:2752-1514145600-1514156400@www.club-o.org
SUMMARY:香港素食會 x 素食青年 x Revol Vegan Fitness - 真。平安夜 狂歡派對2017
DESCRIPTION:「平安夜好想平安？」\n「平安夜好想人同動物都平安？」\n「一起來參加無動物成份既平安夜狂歡派對啦﹗」 \n內容：\n1) 教練團和大家見面，分享型與美的素食運動心得\n2) 和純素食美食集郵時間\n3) 品嚐各式純素美食\n4) 胎裏素大口仔唱歌\n5) 交換禮物 (參加者需預備一份家中無用的無價精品) \n● 日期：12月24日 (週日)\n● 時間：晚上8:00 – 11:00\n● 地點：Club O會址G、H室\n● 主持：素食青年 X Revol Vegan Fitness\n● 收費：$198\n● 名額：60人\n● 註1：請盡早於辦公時間向Club O職員報名留位\n● 註2：各位必須「自備環保餐具」及食物盒，如有剩餘的食物可拿走
URL:https://www.club-o.org/event/%e9%a6%99%e6%b8%af%e7%b4%a0%e9%a3%9f%e6%9c%83-x-%e7%b4%a0%e9%a3%9f%e9%9d%92%e5%b9%b4-x-revol-vegan-fitness-%e7%9c%9f%e3%80%82%e5%b9%b3%e5%ae%89%e5%a4%9c-%e7%8b%82%e6%ad%a1%e6%b4%be%e5%b0%8d2017/
CATEGORIES:綠色﹒潮
ATTACH;FMTTYPE=image/jpeg:https://www.club-o.org/wp-content/uploads/2017/10/kids.jpg
END:VEVENT
END:VCALENDAR