BEGIN:VCALENDAR
VERSION:2.0
PRODID:-//綠色生活教育基金 - ECPv6.15.18//NONSGML v1.0//EN
CALSCALE:GREGORIAN
METHOD:PUBLISH
X-WR-CALNAME:綠色生活教育基金
X-ORIGINAL-URL:https://www.club-o.org
X-WR-CALDESC:Events for 綠色生活教育基金
REFRESH-INTERVAL;VALUE=DURATION:PT1H
X-Robots-Tag:noindex
X-PUBLISHED-TTL:PT1H
BEGIN:VTIMEZONE
TZID:UTC
BEGIN:STANDARD
TZOFFSETFROM:+0000
TZOFFSETTO:+0000
TZNAME:UTC
DTSTART:20170101T000000
END:STANDARD
END:VTIMEZONE
BEGIN:VEVENT
DTSTART;VALUE=DATE:20180301
DTEND;VALUE=DATE:20180410
DTSTAMP:20260422T182811
CREATED:20180124T204646Z
LAST-MODIFIED:20180226T204144Z
UID:3096-1519862400-1523318399@www.club-o.org
SUMMARY:Club O G\, H室裝修，工程期間Club O店將如常營業
DESCRIPTION:Club O G\, H室將於3月1至19日進行翻新工程，配合集中素食廚藝的發展方向。工程期間Club O店將如常營業，請繼續多多支持。
URL:https://www.club-o.org/event/club-o-g-h%e5%ae%a4%e8%a3%9d%e4%bf%ae%ef%bc%8c%e5%b7%a5%e7%a8%8b%e6%9c%9f%e9%96%93club-o%e5%ba%97%e5%b0%87%e5%a6%82%e5%b8%b8%e7%87%9f%e6%a5%ad/
LOCATION:Club O\, 旺角亞皆老街86號昌明大厦7字樓FGH室
CATEGORIES:admin
END:VEVENT
END:VCALENDAR