BEGIN:VCALENDAR
VERSION:2.0
PRODID:-//綠色生活教育基金 - ECPv6.15.18//NONSGML v1.0//EN
CALSCALE:GREGORIAN
METHOD:PUBLISH
X-ORIGINAL-URL:https://www.club-o.org
X-WR-CALDESC:Events for 綠色生活教育基金
REFRESH-INTERVAL;VALUE=DURATION:PT1H
X-Robots-Tag:noindex
X-PUBLISHED-TTL:PT1H
BEGIN:VTIMEZONE
TZID:UTC
BEGIN:STANDARD
TZOFFSETFROM:+0000
TZOFFSETTO:+0000
TZNAME:UTC
DTSTART:20170101T000000
END:STANDARD
END:VTIMEZONE
BEGIN:VEVENT
DTSTART;TZID=UTC:20181204T130000
DTEND;TZID=UTC:20181204T153000
DTSTAMP:20260421T031627
CREATED:20181115T015228Z
LAST-MODIFIED:20181115T015228Z
UID:4387-1543928400-1543937400@www.club-o.org
SUMMARY:你也是療癒師
DESCRIPTION:你也是療癒師 \n時間：逢星期二 下午 1:00 – 3:30 \n導師：Club O療癒師團 \n費用：(單堂)   非會員 $150      會員 $120\n(雙月證*) 非會員 $500      會員 $488 \n註：12月25日沒有堂 \n*購買雙月證即可享受 Club O 在兩個月內所有 週一「療癒夜」與 週二「你也是療癒師」 的活動
URL:https://www.club-o.org/event/%e4%bd%a0%e4%b9%9f%e6%98%af%e7%99%82%e7%99%92%e5%b8%ab-2/
LOCATION:Club O\, 旺角亞皆老街86號昌明大厦7字樓FGH室
CATEGORIES:心靈互動
END:VEVENT
BEGIN:VEVENT
DTSTART;TZID=UTC:20181204T191500
DTEND;TZID=UTC:20181204T204500
DTSTAMP:20260421T031627
CREATED:20181115T015501Z
LAST-MODIFIED:20181115T015501Z
UID:4397-1543950900-1543956300@www.club-o.org
SUMMARY:心靈太極體驗班
DESCRIPTION:【心靈太極體驗班】 \n太極行氣活血大家都知道，但坊間的師傅可能比較少從一個靈修的角度切入。 \n其實，太極哲學教人處世來自道家的基礎，練習中是意識和身體不斷溝通的過程。對修行者來說，是一個好好自我認識的機會。 \n  \n周可凡會用太極和意像的框架引導大家經歷意識和身體微妙的關係。通過太極活樁、單式、對練的過程， \n你會學到怎樣用意識或者意像令到自己更加放鬆和清靜，也從中體驗到大家常聽過的「捨己從人」，「用意不用力」、「天人合一」等。 \n  \n放鬆、放空… 歡迎你給個機會自己，讓你身心靈互相溝通周可凡會用太極和意像的框架引導大家經歷意識和身體微妙的關係。通過太極活樁、單式、對練的過程，你會學到怎樣用意識或者意像令到自己更加放鬆和清靜，也從中體驗到大家常聽過的「捨己從人」，「用意不用力」、「天人合一」等。 \n日期：12月4日（星期二） \n時間：晚上7:15-8:45 \n費用：非會員 ＄180 會員＄160 \n名額: 12 人 \n*參加可凡冬季太極課程的學員有優先位置，並可免費參與。
URL:https://www.club-o.org/event/%e5%bf%83%e9%9d%88%e5%a4%aa%e6%a5%b5%e9%ab%94%e9%a9%97%e7%8f%ad-2/
LOCATION:Club O\, 旺角亞皆老街86號昌明大厦7字樓FGH室
CATEGORIES:新心靈工作坊
END:VEVENT
END:VCALENDAR