BEGIN:VCALENDAR
VERSION:2.0
PRODID:-//綠色生活教育基金 - ECPv6.15.18//NONSGML v1.0//EN
CALSCALE:GREGORIAN
METHOD:PUBLISH
X-WR-CALNAME:綠色生活教育基金
X-ORIGINAL-URL:https://www.club-o.org
X-WR-CALDESC:Events for 綠色生活教育基金
REFRESH-INTERVAL;VALUE=DURATION:PT1H
X-Robots-Tag:noindex
X-PUBLISHED-TTL:PT1H
BEGIN:VTIMEZONE
TZID:UTC
BEGIN:STANDARD
TZOFFSETFROM:+0000
TZOFFSETTO:+0000
TZNAME:UTC
DTSTART:20170101T000000
END:STANDARD
END:VTIMEZONE
BEGIN:VEVENT
DTSTART;TZID=UTC:20181208T150000
DTEND;TZID=UTC:20181208T170000
DTSTAMP:20260421T031543
CREATED:20181115T040517Z
LAST-MODIFIED:20181121T033047Z
UID:4462-1544281200-1544288400@www.club-o.org
SUMMARY:【放鬆易】工作坊
DESCRIPTION:都市人工作生活壓力大，經常過分緊張、容易疲勞，只要掌握簡易實用的按摩治療小技巧，放鬆可以很容易！\n內容：\n1) 肩頸按摩法\n2) 肌肉放鬆練習\n3) 保健和伸展活動 \n報名：https://goo.gl/forms/oGrNHbEm2OUB9lGR2 \n時間：12月8日 (星期六) 下午3:00 – 5:00\n主講：Francis Lo（加拿大註冊反射按摩治療師）\n地點：旺角亞皆老街80號昌明大廈7樓FGH室\n費用：非會員＄50 會員＄40\n查詢：2619 0000／whatsapp 6773 6361 \n導師簡介\n從事按摩師二十年，喜用雙手作治療工具，專注改善病人血液循環及伸展能力。 \n座位有限，如有興趣參與此分享會，請填妥登記表格或直接報名\n付款方法：\n1. 親臨會址付款(只收現金)\n2. 銀行轉帳 (匯豐銀行戶口號碼：804-8-004280 戶口名稱：Green Living Education Foundation Ltd. )\n活動參加者請將入數收據連同姓名、(會員號碼)、聯絡電話及參加活動名稱及日期等Whatsapp至67736361或發訊息至我們臉書 Club O 綠色生活
URL:https://www.club-o.org/event/%e3%80%90%e6%94%be%e9%ac%86%e6%98%93%e3%80%91%e5%b7%a5%e4%bd%9c%e5%9d%8a/
LOCATION:Club O\, 旺角亞皆老街86號昌明大厦7字樓FGH室
CATEGORIES:綠色茶座
ATTACH;FMTTYPE=image/jpeg:https://www.club-o.org/wp-content/uploads/2018/11/20181208_MassagePoster-scaled.jpg
END:VEVENT
BEGIN:VEVENT
DTSTART;TZID=UTC:20181208T191500
DTEND;TZID=UTC:20181208T204500
DTSTAMP:20260421T031543
CREATED:20181115T040632Z
LAST-MODIFIED:20181210T213917Z
UID:4464-1544296500-1544301900@www.club-o.org
SUMMARY:培育一個有感覺的孩子
DESCRIPTION:https://www.club-o.org/wp-content/uploads/2018/11/20181208_YeahMan-online-audio-converter.com_.mp3\n都市人與大自然的隔閡愈來愈遠，電子世界的沈迷令到我們失去感覺，成為港爸港媽，接著培養出港孩，野人和太太決心改變現況，成立大自然遊戲室，帶孩子走進大自然，重啟五感，給孩子一個正常的童年。 \n報名：https://goo.gl/forms/0BWZEgh6MR1VcR8Z2 \n日期：12月8日（星期六）\n時間：晚上7:15－8:45\n主講：野人（「自然脈絡」創辦人）\n地點：旺角亞皆老街80號昌明大廈7樓FGH室\n費用：免費活動，自由捐助\n查詢：2619 0000／whatsapp 6773 6361 \n講者簡介：\n野人擇居郊外７年\, 身體力行\, 感動大眾\,實踐綠色環保的生活。香港大學畢業後，即立志推廣環保，成立社會企業－－自然脈絡，從事前線的自然教育工作，帶領無數人上山下海，感受自然的靜與美。２００６年起，更擇居郊外，開地耕作，感悟人與自然的關係，進一步把自身的實踐分享給廣大市民，成為新一代推廣綠色環保的活躍份子。 \n座位有限，如有興趣參與此分享會，請填妥登記表格
URL:https://www.club-o.org/event/%e9%99%aa%e8%82%b2%e4%b8%80%e5%80%8b%e6%9c%89%e6%84%9f%e8%a6%ba%e7%9a%84%e5%ad%a9%e5%ad%90/
LOCATION:Club O\, 旺角亞皆老街86號昌明大厦7字樓FGH室
CATEGORIES:網上錄音,高能量晚會
ATTACH;FMTTYPE=image/jpeg:https://www.club-o.org/wp-content/uploads/2018/11/20181208_YeahManEvent.jpg
END:VEVENT
END:VCALENDAR