BEGIN:VCALENDAR
VERSION:2.0
PRODID:-//綠色生活教育基金 - ECPv6.15.18//NONSGML v1.0//EN
CALSCALE:GREGORIAN
METHOD:PUBLISH
X-WR-CALNAME:綠色生活教育基金
X-ORIGINAL-URL:https://www.club-o.org
X-WR-CALDESC:Events for 綠色生活教育基金
REFRESH-INTERVAL;VALUE=DURATION:PT1H
X-Robots-Tag:noindex
X-PUBLISHED-TTL:PT1H
BEGIN:VTIMEZONE
TZID:UTC
BEGIN:STANDARD
TZOFFSETFROM:+0000
TZOFFSETTO:+0000
TZNAME:UTC
DTSTART:20170101T000000
END:STANDARD
END:VTIMEZONE
BEGIN:VEVENT
DTSTART;TZID=UTC:20181229T150000
DTEND;TZID=UTC:20181229T170000
DTSTAMP:20260421T031545
CREATED:20181120T023144Z
LAST-MODIFIED:20181205T002444Z
UID:4491-1546095600-1546102800@www.club-o.org
SUMMARY:心醫醫心：做自己的神奇療癒師
DESCRIPTION:病，從來都不是用手術用藥物醫好的。所有什病都是心病，不是病病而是人病；所以要醫的其實不是病而是人。醫人只有醫心。祥哥來告訴你，你的病有什麼任務，教你若不想病下去要怎樣醫心（4大要訣：變了心就無需病完再病）。 \n  \n時間：12月 29日 (星期六) 下午3:00 – 5:00 \n主講：周兆祥博士 \n費用：非會員＄50         會員＄40
URL:https://www.club-o.org/event/%e5%bf%83%e9%86%ab%e9%86%ab%e5%bf%83%ef%bc%9a%e5%81%9a%e8%87%aa%e5%b7%b1%e7%9a%84%e7%a5%9e%e5%a5%87%e7%99%82%e7%99%92%e5%b8%ab/
LOCATION:Club O\, 旺角亞皆老街86號昌明大厦7字樓FGH室
CATEGORIES:綠色茶座
ATTACH;FMTTYPE=image/jpeg:https://www.club-o.org/wp-content/uploads/2018/11/20181229_DrChowEvent.jpg
END:VEVENT
BEGIN:VEVENT
DTSTART;TZID=UTC:20181229T191500
DTEND;TZID=UTC:20181229T204500
DTSTAMP:20260421T031545
CREATED:20181115T021600Z
LAST-MODIFIED:20181120T024333Z
UID:4449-1546110900-1546116300@www.club-o.org
SUMMARY:愛笑瑜珈
DESCRIPTION:愛笑瑜珈 \n時間：12月29日及1月26日（星期六）晚上7:15－8:45 \n導師：Dick \n費用：免費活動，自由捐助
URL:https://www.club-o.org/event/%e6%84%9b%e7%ac%91%e7%91%9c%e7%8f%88-6/
LOCATION:Club O\, 旺角亞皆老街86號昌明大厦7字樓FGH室
CATEGORIES:高能量晚會
ATTACH;FMTTYPE=image/png:https://www.club-o.org/wp-content/uploads/2018/08/LaughingYoga.png
END:VEVENT
END:VCALENDAR