BEGIN:VCALENDAR
VERSION:2.0
PRODID:-//綠色生活教育基金 - ECPv6.15.18//NONSGML v1.0//EN
CALSCALE:GREGORIAN
METHOD:PUBLISH
X-WR-CALNAME:綠色生活教育基金
X-ORIGINAL-URL:https://www.club-o.org
X-WR-CALDESC:Events for 綠色生活教育基金
REFRESH-INTERVAL;VALUE=DURATION:PT1H
X-Robots-Tag:noindex
X-PUBLISHED-TTL:PT1H
BEGIN:VTIMEZONE
TZID:UTC
BEGIN:STANDARD
TZOFFSETFROM:+0000
TZOFFSETTO:+0000
TZNAME:UTC
DTSTART:20180101T000000
END:STANDARD
END:VTIMEZONE
BEGIN:VEVENT
DTSTART;TZID=UTC:20190831T143000
DTEND;TZID=UTC:20190831T160000
DTSTAMP:20260421T012624
CREATED:20190807T212937Z
LAST-MODIFIED:20190827T233704Z
UID:5425-1567261800-1567267200@www.club-o.org
SUMMARY:我的茹素餐盤 3 - 用餐的態度
DESCRIPTION:此工作坊分享用餐時的態度，讓參加者理食單單只進食，還有思想，以及理解健康飲食可單只是關注食物的質素和配搭。\n工作坊內容：\n• 食的種類\n• 蔬食的種類及原因。\n• 健康飲食的原則。 \n主講：鄭浩光 (國家高級公共營養師)\n日期：8月31日 (六)\n時間：下午2:30 – 4:00\n地點：Club O 會址 GH 室\n費用：非會員$50 會員$40 \n網上報名：https://forms.gle/wQuEohHyzeHEJar36\n如有興趣參與此活動，請填妥此登記表格 \n查詢：2619 0000／WhatsApp 請按此
URL:https://www.club-o.org/event/%e6%88%91%e7%9a%84%e8%8c%b9%e7%b4%a0%e9%a4%90%e7%9b%a4-3-%e7%94%a8%e9%a4%90%e7%9a%84%e6%85%8b%e5%ba%a6/
CATEGORIES:綠色茶座
ATTACH;FMTTYPE=image/jpeg:https://www.club-o.org/wp-content/uploads/2019/08/0831_我的茹素餐盤3banner-01-scaled.jpg
END:VEVENT
BEGIN:VEVENT
DTSTART;TZID=UTC:20190831T150000
DTEND;TZID=UTC:20190831T163000
DTSTAMP:20260421T012624
CREATED:20190827T013915Z
LAST-MODIFIED:20190827T233757Z
UID:5462-1567263600-1567269000@www.club-o.org
SUMMARY:從Human Design學懂愛人、愛自己
DESCRIPTION:常言道：「愛別人之前先要愛自己」。Human Design人類設計是一門嶄新的認識自己的靈性智慧，尤如人生使用說明書，藉此去認識自己的天賦、性格，讓你在生命中作出決策，找出人生方向，學懂去活出自己，更愛自己，與别人建立親密關係。 \n  \n日期： 8月31日 (六) \n時間：下午3:00-4:30 \n地點：Club O會址B室 (旺角亞皆老街80號昌明大廈7樓B室) \n主講：Stanley 鐘源 (Human Design人類設計分析師) \n費用：非會員$50   會員$40 \n查詢：2619 0000／WhatsApp 請按此 \n  \n出席講座前，可先登入 人類設計PLUS \nhttps://humandesign.plus/mainssl/modules/MySpace/index.php，製作自己的人類設計圖。 \n  \n人類設計是什麼？ \n⼈類設計是拉．烏魯．胡 Ra Uru Hu 於1987 年創⽴的新興學說，將現代先進的遺傳基因科學，結合了古今中外的智慧，集⼤成並以精確的⽅式呈現，給每個⼈呈現出⽣以來最原本的出廠設定。 ⼈類設計圖的創造出自家一派別的曼陀羅全息圖，其主要要素與原理包括了微中⼦、易經、印度脈輪、遺傳基因、猶太卡巴拉 (⽣命樹) 、占星學等等。 \n  \n⼈類設計的基本層⾯分析： 當我們獲得⾃⼰的⼈類設計圖後，可以經以下層⾯逐步了解⾃⼰的設計； \n\n類型\n⼈⽣策略\n⼈⽣輪廓\n九⼤能量中⼼\n定義(有顏⾊之處)與無定義(沒有顏⾊之處)\n閘⾨與通道\n\n（Reference: https://humandesign.plus/mainssl/modules/MySpace/index.php?sn=humandesign&pg=ZC127581）
URL:https://www.club-o.org/event/%e5%be%9ehuman-design%e5%ad%b8%e6%87%82%e6%84%9b%e4%ba%ba%e3%80%81%e6%84%9b%e8%87%aa%e5%b7%b1/
ATTACH;FMTTYPE=image/jpeg:https://www.club-o.org/wp-content/uploads/2019/08/0831_從Human-Design學懂愛人愛自己BANNER-01-scaled.jpg
END:VEVENT
END:VCALENDAR