BEGIN:VCALENDAR
VERSION:2.0
PRODID:-//綠色生活教育基金 - ECPv6.15.18//NONSGML v1.0//EN
CALSCALE:GREGORIAN
METHOD:PUBLISH
X-ORIGINAL-URL:https://www.club-o.org
X-WR-CALDESC:Events for 綠色生活教育基金
REFRESH-INTERVAL;VALUE=DURATION:PT1H
X-Robots-Tag:noindex
X-PUBLISHED-TTL:PT1H
BEGIN:VTIMEZONE
TZID:UTC
BEGIN:STANDARD
TZOFFSETFROM:+0000
TZOFFSETTO:+0000
TZNAME:UTC
DTSTART:20180101T000000
END:STANDARD
END:VTIMEZONE
BEGIN:VEVENT
DTSTART;TZID=UTC:20190928T143000
DTEND;TZID=UTC:20190928T160000
DTSTAMP:20260421T013358
CREATED:20190828T000221Z
LAST-MODIFIED:20190828T000221Z
UID:5564-1569681000-1569686400@www.club-o.org
SUMMARY:預防及逆轉糖尿病工作坊
DESCRIPTION:本港平均每十人就有一人患糖尿病，近年更有年輕化趨勢。糖尿病人患心血管疾病的風險較普通人高兩至四倍，其他與糖尿病有關的併發症包括腎病變、視網膜病變、神經病變等，每年更有近 200 宗因視網膜所導致的失明個案。每三十人就有一人為三十歲以下，大多因飲食習慣西化及缺乏運動所致。第二型糖尿病前期患者的胰島素抗性血糖值是可以很正常，直到後期才確診，所以單單量度空腹血糖值是不可靠的。此工作坊會與大家分享： \n\n認識血糖值，明白測血糖有時是自欺欺人的行為，不可盡信。\n如何判斷自己是否第二型糖尿病患者的高危人族？\n預防及逆轉糖尿病血糖調節的方法\n\n  \n主講：鄭浩光 (國家高級公共營養師) \n日期：9月28日 (六) \n時間：下午2:30 – 4:00 \n地點：Club O會址B室 \n收費：非會員$50  會員$40
URL:https://www.club-o.org/event/%e9%a0%90%e9%98%b2%e5%8f%8a%e9%80%86%e8%bd%89%e7%b3%96%e5%b0%bf%e7%97%85%e5%b7%a5%e4%bd%9c%e5%9d%8a-2/
CATEGORIES:綠色茶座
END:VEVENT
BEGIN:VEVENT
DTSTART;TZID=UTC:20190928T191500
DTEND;TZID=UTC:20190928T204500
DTSTAMP:20260421T013358
CREATED:20190828T002115Z
LAST-MODIFIED:20190828T002115Z
UID:5570-1569698100-1569703500@www.club-o.org
SUMMARY:愛笑瑜珈
DESCRIPTION:日期：9月28日（星期六）\n時間：晚上7:15－8:45\n導師：Dick\n費用：免費活動，自由捐助\n*無需報名
URL:https://www.club-o.org/event/%e6%84%9b%e7%ac%91%e7%91%9c%e7%8f%88-12/
CATEGORIES:心靈互動,身心舒展
ATTACH;FMTTYPE=image/jpeg:https://www.club-o.org/wp-content/uploads/2018/01/dickyu.jpg
END:VEVENT
END:VCALENDAR