BEGIN:VCALENDAR
VERSION:2.0
PRODID:-//綠色生活教育基金 - ECPv6.15.18//NONSGML v1.0//EN
CALSCALE:GREGORIAN
METHOD:PUBLISH
X-WR-CALNAME:綠色生活教育基金
X-ORIGINAL-URL:https://www.club-o.org
X-WR-CALDESC:Events for 綠色生活教育基金
REFRESH-INTERVAL;VALUE=DURATION:PT1H
X-Robots-Tag:noindex
X-PUBLISHED-TTL:PT1H
BEGIN:VTIMEZONE
TZID:UTC
BEGIN:STANDARD
TZOFFSETFROM:+0000
TZOFFSETTO:+0000
TZNAME:UTC
DTSTART:20180101T000000
END:STANDARD
END:VTIMEZONE
BEGIN:VEVENT
DTSTART;TZID=UTC:20191001T130000
DTEND;TZID=UTC:20191001T153000
DTSTAMP:20260421T012621
CREATED:20191010T031159Z
LAST-MODIFIED:20191010T031159Z
UID:5688-1569934800-1569943800@www.club-o.org
SUMMARY:你也是療癒師
DESCRIPTION:日期：10月1、8、15、22、29日(星期二) \n時間：下午1:00-3:30 \n地點：Club O會址GH室（旺角亞皆老街80號昌明大厦7字樓GH室） \n費用：(單堂) 非會員$150  會員 $120 \n(月證)      非會員 $250  會員 $244 \n*購買「月證」即可在一個月內享受 Club O 週四「療癒夜」與 週二「你也是療癒師」 的活動 \n  \n查詢：2619 0000／WhatsApp 請按此 <https://api.whatsapp.com/send?phone=85267736361> (座位有限，請先報名或登記) \n  \n1/10《薩滿儀式互動體驗》- 導師：Keerti Anurag \n薩滿儀式是一場奧妙的體驗，透過象徵意義和符號，運作於我們的身體、情緒體、心智體，以及靈性體的物質和能量中，以及多維不同時空之下，讓事情跟我們真心呈現的過程。 \n導師簡介： \nKeerti Anurag(蜻蜓) \n熱愛薩滿文化。十年前遇上恩師，完成以北美印第安為主的薩滿訓練，通過考試及儀式成為一名薩滿治療師。 \n曾在世界各地體驗或協助不同儀式，當中包括：荷蘭/秘魯死藤水儀式、巴西死藤水製作儀式，及於南澳原住民社區旅居打工換宿一個月。曾跟各地不同的傳統薩滿或現代薩滿治療師學習和以第一身體會各種薩滿治療手法應用和精神哲學價值，了解不同文化背後的身心靈精神面貌。 \n  \n8/10《擁抱您的黑暗面 – 啟動您的基因禮物》- 導師：Derek Lam \n每一個靈魂都選擇了最適合自己的課題和身體，讓自己可以在地球上享受不同的經歷。我們透過每一刻的選擇，一步一步的回到自己的本源。 \n宇宙安排了一切的禮物等待我們發現，而一切都收藏在我們的基因之中。所有的禮物都收藏在我們的陰影之中。 \n我們會了解基因匙 Gene Keys這套工具，解構我們獨特的設計，以無比的愛去展現，重新認識自己的行為模式和天賦，把自己的陰影轉化為愛，把傷口轉化為養分，我們都可以重新擁抱全部的自己 \n我們都有重新選擇生命的可能。 \n導師簡介： \nDerek Lam \n三階Aura Soma諮詢師；四階天使靈氣療癒師 \n研究身心靈約20年，在學習不同的工具中，更確定生活離不開靈性，靈性不能沒有生活。 \n於2016年由設計轉移至全職為心靈工作，開始走進內在探索的旅程，了解並折除自我信念及限制，開始踏上意識的旅程，主要以Aura Soma、Gene Keys、Tarot、靈氣等工具探索生命。 \n於2018年創辦Divine Orchestra平台，致力透過意識的轉化去改變生命，打破個人限制，擴展個人意識及連結情緒，讓生命重回自己的當下，重新憶起自己的本來面目，重新掌握自己的個人實相。 \n  \n15/10《心像術冥想》- 導師：周可凡 \n可凡會帶一門透過圖像來療癒、轉化和揚升的冥想法。心像術源自西藏，它能讓我們更新及轉化過去，療癒情緒創傷，轉化信念，創造不一樣的實相。 \n導師簡介： \n周可凡 \n修業於倫敦國際演藝學院; 是一位導演、表演者、身心靈導師。周可凡九歳開始學太極\, 2011年自己開班，曾於 OKIAN、「流白之間」、香港演藝學院 和 波蘭 Ludwik State School of Drama (Krakow) 碩士學系教授太極拳。可凡也一直學習能量療癒，在 Club O 每星期的療癒課已有十年的參與和經驗。也在淸邁跟 Cory Croymans 學靈氣\, 成為臼井靈氣的第八代傳人。靜心方面，她多次參加內觀中心的十日課程，在社區也有帶不同的的正念節目。近年遇上 School of the Heart 的掌門人 Daniel Mitel，成為本校第一代的心像術導師。 \n  \n22/10《能量療癒 x 動禪》- 導師：胡美玲Jessica \n透過靜坐、行禪、動禪、呼吸練習，連接自己，讓自己的狀態充滿正能量。 \n導師簡介： \n胡美玲Jessica，2004年起參加綠色生活教育基金的Club O 活動，並於2018年暑假在 Club O 手療課當主持。感恩曾參加的十日內觀、台灣法鼓山的禪修，與及跟隨皇道瑜伽 （Raja Yoga）修習冥想方法。感恩靈修路上相遇的每一位老師(不能盡錄)。 \n現時目標是經常提醒自己將心安定下來，學習覺察每個當下、提起正念、活得自在。 不斷修習能量治療及靈氣，願意分享學習，一起成長。 \n  \n29/10 《身意內導研究 x 能量療癒》- 導師：盧淑嫺 Mimi Lo \n「身意內導研究」(Somatics) 著重透過第一身對身體的感知經驗來學習。Somatics 一字由「Soma」演變而來。有別於可以看到的有形個體「Body」，「Soma」是指依靠自身從內在感覺所認知的身體 (perceived from within through sensation)。 \n活動中參加者跟隨導師的語言引導和啟發去活動身體，先喚醒身體的感知，開啟其運作功能，並讓身體放慢地自然運作。在探索身體的過程中，我們會專注呼吸、身體和地心引力的關係等，透過自身內在觀察身體的不同部位及其運作方式，是如何組織和合作，從而發掘身體的放鬆狀態、新的覺知和協調，令參加者很自覺和很有意識地去感知身體和動作，不但能了解自己的習慣或限制，也能開啟新的肢體運用和潛能，並更有效率地運用身體。 \n導師簡介： \n盧淑嫺 Mimi Lo \n自由身藝術工作者，「香港舞動所能」(DanceAbility Hong Kong) 藝術總監及認證導師、「親子接觸‧香港」(ContaKids)認證導師。畢業於香港演藝學院現代舞系，主修編舞及舞蹈導演；近年熱衷接觸即興及阿根廷探。以「兩口米」長期組織接觸即興斟「得嫺斟下」及「由細玩到大」，讓不同年齡及身體能力的朋友均可參與，並以「身意內導研究」(Somatics)持續進行身體探索。
URL:https://www.club-o.org/event/%e4%bd%a0%e4%b9%9f%e6%98%af%e7%99%82%e7%99%92%e5%b8%ab-3/
CATEGORIES:心靈互動,高能量晚會
END:VEVENT
END:VCALENDAR