BEGIN:VCALENDAR
VERSION:2.0
PRODID:-//綠色生活教育基金 - ECPv6.15.18//NONSGML v1.0//EN
CALSCALE:GREGORIAN
METHOD:PUBLISH
X-ORIGINAL-URL:https://www.club-o.org
X-WR-CALDESC:Events for 綠色生活教育基金
REFRESH-INTERVAL;VALUE=DURATION:PT1H
X-Robots-Tag:noindex
X-PUBLISHED-TTL:PT1H
BEGIN:VTIMEZONE
TZID:UTC
BEGIN:STANDARD
TZOFFSETFROM:+0000
TZOFFSETTO:+0000
TZNAME:UTC
DTSTART:20180101T000000
END:STANDARD
END:VTIMEZONE
BEGIN:VEVENT
DTSTART;TZID=UTC:20191003T191500
DTEND;TZID=UTC:20191003T204500
DTSTAMP:20260421T025920
CREATED:20191016T211205Z
LAST-MODIFIED:20191016T211205Z
UID:5740-1570130100-1570135500@www.club-o.org
SUMMARY:療癒夜(10月份)
DESCRIPTION:10月3日: 愛心圈大休息（自由定價）\n10月10日: 一對一能量療癒課\n10月17日: 心像術冥想\n10月24日: 一對一能量療癒課\n10月31日: 星光體脈輪療癒 \n日期：逢星期四 晚上 7:15 – 8:45\n導師：Club O療癒師團\n費用：(單堂) 非會員 $120 會員 $100 \n❤ 10月3 日：愛心圈大休息（自由定價）\n這個自由定價的晚上是非常適合想試試能量療癒是什麼的朋友 + 想回來共修的療癒師。\n「能量療癒」（energy healing) 就是用大宇宙的氣場，來調節一個人或一個群體的不平衡。所謂的「病」是一種和大自然韻律的偏差，而能量療癒就是用靜心的方法回復最根本、最完善的狀態。有些氣功師傅會用自己的真氣來幫人治癒，但本能療癒強調用大宇宙的能量，而不是個人的能量。我們在這裏是使用最簡單直接的方法來「搭通天地綫」\, 通過入靜的狀態，啟動自我們每個人都附有自癒的能力。 \n❤ 10月 10 、24日 療癒夜 : 一對一能量療癒課\n想藉由能量療癒獲得「深層的療癒」或者「深層的練功」 ?\n參加者會接受半小時 或 以上的療癒，啓動每個人都有的自癒能力。名額有限，要先報名。 \n10月10日：https://forms.gle/cCmVERag22Uzf6ku5\n10月24日：https://forms.gle/PKMKFqXD4id4NgnH9 \n❤ 10月17日: 心像術冥想\n可凡會帶一門透過圖像來療癒、轉化和揚升的冥想法。心像術源自西藏，它能讓我們更新及轉化過去，療癒情緒創傷，轉化信念，創造不一樣的實相。 \n❤ 10月31日: 星光體脈輪療癒\n我們每個人都有個氣場，而生命上經歷的創傷也有機會殘留在氣場裏。這個晚上，一群聖火傳承 《浴光之路》的畢業生會為大家服務，點亮每個人在氣場裏不同層次的陰影，給案主一個機會把這個部分在上意識顯現出來，從中為這個陰影轉化。 \n查詢｜2619 0000／WhatsApp 請按此 <https://api.whatsapp.com/send?phone=85267736361>
URL:https://www.club-o.org/event/%e7%99%82%e7%99%92%e5%a4%9c10%e6%9c%88%e4%bb%bd/
CATEGORIES:心靈互動,新心靈工作坊,身心舒展
END:VEVENT
END:VCALENDAR