BEGIN:VCALENDAR
VERSION:2.0
PRODID:-//綠色生活教育基金 - ECPv6.15.18//NONSGML v1.0//EN
CALSCALE:GREGORIAN
METHOD:PUBLISH
X-WR-CALNAME:綠色生活教育基金
X-ORIGINAL-URL:https://www.club-o.org
X-WR-CALDESC:Events for 綠色生活教育基金
REFRESH-INTERVAL;VALUE=DURATION:PT1H
X-Robots-Tag:noindex
X-PUBLISHED-TTL:PT1H
BEGIN:VTIMEZONE
TZID:UTC
BEGIN:STANDARD
TZOFFSETFROM:+0000
TZOFFSETTO:+0000
TZNAME:UTC
DTSTART:20180101T000000
END:STANDARD
END:VTIMEZONE
BEGIN:VEVENT
DTSTART;TZID=UTC:20191013T130000
DTEND;TZID=UTC:20191013T160000
DTSTAMP:20260421T031542
CREATED:20191010T032941Z
LAST-MODIFIED:20191010T032941Z
UID:5700-1570971600-1570982400@www.club-o.org
SUMMARY:蔬乎里廚藝證書課程【升呢掂II】
DESCRIPTION:（進階六堂 每堂可獨立報名 及每堂回贈$100 Club O店現金券） \n  \n全港首創！蔬食廚藝實習證書課程，現正招生！由資深素食烹飪導師（經驗多達13年）任教，課程易學實用，全100%植物性食材，更有專業中西醫及營養師貼士和免費食譜，現共有三個階段（每階段均設證書）： \n1)     開飯易（入門六堂） \n2)     升呢掂（進階六堂） \n3)     大師班（精進八堂） \n每堂獨立收費｜$499／堂（回贈$100 Club O店現金券） \n每階段*優惠｜$2699／六堂（共回贈$600 Club O店現金券） \n上課地點：旺角亞皆老街80-86號昌明大廈7字樓 \n時間：13:00 – 16:00（3小時） \n*完成一階段可獲頒證書 \n  \n查詢：2619 0000／WhatsApp 6773 6361 \n  \n10月13日-西式    導師：Ken Kwong \n–       紅菜頭蘋果藜麥沙律、椰菜花南瓜薑湯、蕃茄蘑菇醬焗意粉 \n  \n10月20日-韓式    導師：Ken Kwong \n–       雜錦青瓜大拼盤、韓式野菜炒粉絲、韓國雜菌豆腐大醬湯 \n  \n11月3日-意式      導師：Linda Lau \n–       卡布里蕃茄沙律、意大利飯、蜜汁燉梨 \n  \n11月24日-泰式    導師：Miss Kwok \n–       青木瓜柚子沙律、泰式菠蘿炒飯、冬蔭公湯 \n  \n12月1日-日式      導師：Miss Kwok \n–       涼拌芝麻鮮蔬(菠菜、蓮藕、甘筍)、黎麥手卷壽司、關東煮 \n  \n12月8日-印式      導師：Linda Lau \n–       印式馬鈴薯香草沙律、印度豆蔬湯( Dahl )、番茄燴蔬球（Kofta） \n 
URL:https://www.club-o.org/event/%e8%94%ac%e4%b9%8e%e9%87%8c%e5%bb%9a%e8%97%9d%e8%ad%89%e6%9b%b8%e8%aa%b2%e7%a8%8b%e3%80%90%e5%8d%87%e5%91%a2%e6%8e%82ii%e3%80%91/
CATEGORIES:廚藝證書課程,綠色廚房
ATTACH;FMTTYPE=image/jpeg:https://www.club-o.org/wp-content/uploads/2019/10/181011-Soulful-kitchen-booklet-cover.jpg
END:VEVENT
END:VCALENDAR