BEGIN:VCALENDAR
VERSION:2.0
PRODID:-//綠色生活教育基金 - ECPv6.15.18//NONSGML v1.0//EN
CALSCALE:GREGORIAN
METHOD:PUBLISH
X-WR-CALNAME:綠色生活教育基金
X-ORIGINAL-URL:https://www.club-o.org
X-WR-CALDESC:Events for 綠色生活教育基金
REFRESH-INTERVAL;VALUE=DURATION:PT1H
X-Robots-Tag:noindex
X-PUBLISHED-TTL:PT1H
BEGIN:VTIMEZONE
TZID:UTC
BEGIN:STANDARD
TZOFFSETFROM:+0000
TZOFFSETTO:+0000
TZNAME:UTC
DTSTART:20180101T000000
END:STANDARD
END:VTIMEZONE
BEGIN:VEVENT
DTSTART;TZID=UTC:20191019T143000
DTEND;TZID=UTC:20191019T160000
DTSTAMP:20260421T031441
CREATED:20191016T211359Z
LAST-MODIFIED:20191016T211359Z
UID:5746-1571495400-1571500800@www.club-o.org
SUMMARY:常見都市病的飲食及生活模式預防工作坊
DESCRIPTION:大部分的慢性病都是與不良的生活及飲食模式所導致，我們找醫生只能短暫舒緩病徵及治療緊急的疾病。最長遠改善健康，必須要靠自己改正不良的生活及飲食模式，才可達致最佳的治療效果。此工作坊會為大家介紹一般都市病的起因，包括高血壓、高血脂、高膽固醇、心腦血管病、關節炎、痛風、癌症等。並且分享改善酸化體質的飲食套餐及生活模式，作為預防及改善慢性病的基礎。 \n主講：鄭浩光 (國家高級公共營養師)\n日期：10月19日 (週六)\n時間：下午2:30 – 4:00\n地點：Club O 會址GH室\n收費：非會員$50 會員$40 \n網上報名：https://forms.gle/WisMkqz4uHni8ih96\n名額有限，如有興趣參與此活動，請填妥此登記表格 \n查詢：2619 0000／WhatsApp 請按此 <https://api.whatsapp.com/send?phone=85267736361>
URL:https://www.club-o.org/event/%e5%b8%b8%e8%a6%8b%e9%83%bd%e5%b8%82%e7%97%85%e7%9a%84%e9%a3%b2%e9%a3%9f%e5%8f%8a%e7%94%9f%e6%b4%bb%e6%a8%a1%e5%bc%8f%e9%a0%90%e9%98%b2%e5%b7%a5%e4%bd%9c%e5%9d%8a-3/
CATEGORIES:綠色茶座
END:VEVENT
END:VCALENDAR