BEGIN:VCALENDAR
VERSION:2.0
PRODID:-//綠色生活教育基金 - ECPv6.15.18//NONSGML v1.0//EN
CALSCALE:GREGORIAN
METHOD:PUBLISH
X-ORIGINAL-URL:https://www.club-o.org
X-WR-CALDESC:Events for 綠色生活教育基金
REFRESH-INTERVAL;VALUE=DURATION:PT1H
X-Robots-Tag:noindex
X-PUBLISHED-TTL:PT1H
BEGIN:VTIMEZONE
TZID:UTC
BEGIN:STANDARD
TZOFFSETFROM:+0000
TZOFFSETTO:+0000
TZNAME:UTC
DTSTART:20180101T000000
END:STANDARD
END:VTIMEZONE
BEGIN:VEVENT
DTSTART;TZID=UTC:20191020T100000
DTEND;TZID=UTC:20191020T130000
DTSTAMP:20260421T031627
CREATED:20191016T211843Z
LAST-MODIFIED:20191016T211843Z
UID:5752-1571565600-1571576400@www.club-o.org
SUMMARY:能量療癒義診
DESCRIPTION:運用擴大療癒法的雷射光束，掃描、清理、釋放、轉化、重建身體的所有系統、細胞與電子，並療癒精微體，治療身、心、靈各層面的問題，為生命帶來完整與完美。 \n導師：蔡穎輝（註冊中醫師、香港大學行為健康碩士）\n時間：10月20日（星期日）早上10:00－下午1:00\n費用：免費活動，自由捐助\n*註：每次治療時間約為一小時，\n請預先登記及準時出席，額滿即止。\n*此為會員優先活動 \n查詢｜2619 0000／WhatsApp 請按此 <https://api.whatsapp.com/send?phone=85267736361>
URL:https://www.club-o.org/event/%e8%83%bd%e9%87%8f%e7%99%82%e7%99%92%e7%be%a9%e8%a8%ba-10/
CATEGORIES:心靈互動,新心靈工作坊
END:VEVENT
END:VCALENDAR