BEGIN:VCALENDAR
VERSION:2.0
PRODID:-//綠色生活教育基金 - ECPv6.15.18//NONSGML v1.0//EN
CALSCALE:GREGORIAN
METHOD:PUBLISH
X-ORIGINAL-URL:https://www.club-o.org
X-WR-CALDESC:Events for 綠色生活教育基金
REFRESH-INTERVAL;VALUE=DURATION:PT1H
X-Robots-Tag:noindex
X-PUBLISHED-TTL:PT1H
BEGIN:VTIMEZONE
TZID:UTC
BEGIN:STANDARD
TZOFFSETFROM:+0000
TZOFFSETTO:+0000
TZNAME:UTC
DTSTART:20180101T000000
END:STANDARD
END:VTIMEZONE
BEGIN:VEVENT
DTSTART;TZID=UTC:20191021T140000
DTEND;TZID=UTC:20191021T200000
DTSTAMP:20260421T031619
CREATED:20191016T210108Z
LAST-MODIFIED:20191016T210108Z
UID:5730-1571666400-1571688000@www.club-o.org
SUMMARY:Club O 寧靜空間
DESCRIPTION:將疲憊的身體，煩躁的心情，放在一個寧靜的空間。隨意靜坐、冥想！自然而然的與天地連接，將內在的負能量轉化為愛自己的正能量。\n生活其實可以好簡單！當下自身圓滿！喜悅無所不在！\n活在當下，活好當下。\n享受當下，活出自己。\n隨心！隨意！隨緣！\n自然！自在！自足！\n自由出入，全程禁語，與 自己同在。\n日期：10月21\, 28日 (星期一)\n時間：下午2:00至晚上8:00\n費用：免費活動，隨緣樂助！ \n內容：\n2:00 – 5:00pm – 靜坐時間\n5:00 – 6:00pm – 休息時間\n6:00 – 8:00pm – 靜坐時間 \n天氣轉涼請帶備外套。
URL:https://www.club-o.org/event/club-o-%e5%af%a7%e9%9d%9c%e7%a9%ba%e9%96%93/
CATEGORIES:心靈互動,新心靈工作坊,高能量晚會
END:VEVENT
END:VCALENDAR