BEGIN:VCALENDAR
VERSION:2.0
PRODID:-//綠色生活教育基金 - ECPv6.15.18//NONSGML v1.0//EN
CALSCALE:GREGORIAN
METHOD:PUBLISH
X-ORIGINAL-URL:https://www.club-o.org
X-WR-CALDESC:Events for 綠色生活教育基金
REFRESH-INTERVAL;VALUE=DURATION:PT1H
X-Robots-Tag:noindex
X-PUBLISHED-TTL:PT1H
BEGIN:VTIMEZONE
TZID:UTC
BEGIN:STANDARD
TZOFFSETFROM:+0000
TZOFFSETTO:+0000
TZNAME:UTC
DTSTART:20190101T000000
END:STANDARD
END:VTIMEZONE
BEGIN:VEVENT
DTSTART;TZID=UTC:20200204T010000
DTEND;TZID=UTC:20200204T030000
DTSTAMP:20260421T003642
CREATED:20200119T032151Z
LAST-MODIFIED:20200119T032151Z
UID:5994-1580778000-1580785200@www.club-o.org
SUMMARY:我和妳的一個約會: 療癒師 playdate 計劃
DESCRIPTION:日期： 2月4日 – 3月3 日   \n費用：$650\, 會員 $600 \n           (計劃 + 雙月證 $900/ 會員$888)\n         *購買「雙月證」即可在 2-3 月內參與 Club O 週二的「你也是療癒師」+ 週四的「療癒夜」\n名額: 10 位\n報名 : http://bit.ly/clubohealing-feb \n  \n作為療癒師我們都需要被療癒，也需要實習的機會。這個月我們開展一個療癒師 playdate 計劃: 容讓宇宙賜給我們一些最能夠開啟我們的相遇，也吸引一些剛需要我們出現的朋友！這個計劃會持續一個月，每星期大家可以回來共修，分享，match 一個新的 play date. \n  \n\n2月4日 (1:00-3:00 pm) Club O 療癒共修: 可凡會做 grounding\, 介紹計劃詳情，與大家定下一些遊戲規則，做第一個星期的 matching。\n2月11 日 (off-site)  : 第二個星期的 matching。鼓勵參加者自己找地方做 play date\, 在 Club O 以外自己搵資源進行療癒交換。\n2月18 日 (1:00-3:30 pm) Club O 療癒共修。大家互相 check-in\, 分享成長的點滴。做第三個星期的 matching。\n3月3日 在大自然 off-site 的總結。\n\n\n計劃當中包一次的場地資助。療癒師與計劃中另一位療癒師可 (在本會房間有空檔的時) 預定一次 2.5 鐘的互術療癒 session。 \n  \n計劃很適合： \n\n 已經有經驗的療癒師 ，想在一個非商業的關係下交流，得到療癒和滋養。\n 需要實習的療癒師 ，從交流的過程得到更多經驗。\n 需要整合自己風格的療癒師 。現在我們也可能同不同傳統學習。這個平台是一個好機會令我們能夠找到自己的獨特風格。\n\n4. 信任宇宙豐盛的療癒師 ，藉着這次機會容許宇宙給我們最需要的禮物和療癒 。\n \n報名：https://forms.gle/z1hUMcg8qBqRdo4q6 \n查詢 | 2619 0000 / WhatsApp 請按此 \n<http://api.whatsapp.com/send?phone=85267736361>
URL:https://www.club-o.org/event/%e6%88%91%e5%92%8c%e5%a6%b3%e7%9a%84%e4%b8%80%e5%80%8b%e7%b4%84%e6%9c%83-%e7%99%82%e7%99%92%e5%b8%ab-playdate-%e8%a8%88%e5%8a%83/
LOCATION:Club O\, 旺角亞皆老街86號昌明大厦7字樓FGH室
CATEGORIES:心靈互動,新心靈工作坊
END:VEVENT
END:VCALENDAR