BEGIN:VCALENDAR
VERSION:2.0
PRODID:-//綠色生活教育基金 - ECPv6.15.18//NONSGML v1.0//EN
CALSCALE:GREGORIAN
METHOD:PUBLISH
X-ORIGINAL-URL:https://www.club-o.org
X-WR-CALDESC:Events for 綠色生活教育基金
REFRESH-INTERVAL;VALUE=DURATION:PT1H
X-Robots-Tag:noindex
X-PUBLISHED-TTL:PT1H
BEGIN:VTIMEZONE
TZID:UTC
BEGIN:STANDARD
TZOFFSETFROM:+0000
TZOFFSETTO:+0000
TZNAME:UTC
DTSTART:20190101T000000
END:STANDARD
END:VTIMEZONE
BEGIN:VEVENT
DTSTART;TZID=UTC:20200206T163000
DTEND;TZID=UTC:20200206T180000
DTSTAMP:20260421T043017
CREATED:20200120T220509Z
LAST-MODIFIED:20200120T220509Z
UID:6025-1581006600-1581012000@www.club-o.org
SUMMARY:心．零天台
DESCRIPTION:日期：2020年2月6、20日 星期四 \n時間：16:30-18:00 \n主講：Susie 胡美玲 \n地址：香港九龍旺角亞皆老街80號昌明大厦7字樓FGH室\n費用 : 自由定價\n\n《心．零天台》題目 \n2月6日  充滿希望的自己 \n2月20日改變自己的藝術\n\n以敞開、喜悦、輕鬆自在的狀態，樂在其中…… \n活動會隨緣隨喜提供和身心靈相關的主題，跟大家一起討論，一起共修，連結自己，進入靜心狀態，讓大家專注當下。當中也加進香功練習，讓大家行氣活血，加強五臟六腑的新陳代謝，使得組成內臟的細胞充滿活力和生機。 \n  \n報名：https://forms.gle/z1hUMcg8qBqRdo4q6 \n查詢 | 2619 0000 / WhatsApp 請按此 \n<http://api.whatsapp.com/send?phone=85267736361> \n  \n\n【導師簡介】 \n胡美玲 Susie Woo \n2004年起參加綠色生活教育基金的 Club O 活動，體驗他們舉辦各類覺醒的共修。於2018年夏在 Club O 手療課當主持，2019年5月起在 Club O《心．零天台》活動當主持。  \n感恩修持路上相遇的恩師，曾修習靈氣等能量治療，學習手鼓及泛音（或稱喉唱）。現時以覺察每個當下、提起正念、活得自在為修習的功課。 \n 
URL:https://www.club-o.org/event/%e5%bf%83%ef%bc%8e%e9%9b%b6%e5%a4%a9%e5%8f%b0-5/
LOCATION:Club O\, 旺角亞皆老街86號昌明大厦7字樓FGH室
CATEGORIES:心靈互動
END:VEVENT
BEGIN:VEVENT
DTSTART;TZID=UTC:20200206T191500
DTEND;TZID=UTC:20200206T204500
DTSTAMP:20260421T043017
CREATED:20200120T205915Z
LAST-MODIFIED:20200120T210216Z
UID:6011-1581016500-1581021900@www.club-o.org
SUMMARY:療癒夜
DESCRIPTION:2月6日：愛心圈大休息* (自由定價) \n2月13日： 意像與療癒 (導師：周可凡) \n2月20日：一對一能量療癒課  \n2月27日：心像術冥想  (導師：周可凡)  \n  \n日期：逢星期四 晚上 7:15 – 8:45 \n費用：(單堂) 非會員 $222 會員 $200 \n           (雙月證) 非會員 $600 會員 $540 \n*購買「雙月證」即可在 2-3 月內參與 Club O 週二的「你也是療癒師」和週四的「療癒夜」 \n\n報名 : http://bit.ly/clubohealing-feb\n \n  \n\n2月6日：愛心圈大休息（自由定價）\n\n這個自由定價的晚上是非常適合想試試能量療癒是什麼的朋友 + 想回來共修的療癒師。 \n             「能量療癒」（energy healing) 就是用大宇宙的氣場，來調節一個人或一個群體的不平衡。所謂的「病」是一種和大自然韻律的偏差，而能量療癒就是用靜心的方法回復最根本、最完善的狀態。有些氣功師傅會用自己的真氣來幫人治癒，但本能療癒強調用大宇宙                   的能量，而不是個人的能量。我們在這裏是使用最簡單直接的方法來「搭通天地綫」\, 通過入靜的狀態，啟動自我們每個人都附有自癒的能力。\n\n      •  2月 13 日 意像與療癒 (導師：周可凡) \n這天，可凡會帶大家體驗意象的威力，提高自己的頻率，訓練自己的內在感官。 \n當中會體會的練習包括： \n– 來自 Daskalos 的一些練習，訓練好自己內在的感官 \n– 對練的部分，讓大家經歷手療 \n  \n      •  2月 20 日 療癒夜 : 一對一能量療癒課 \n想藉由能量療癒獲得「深層的療癒」或者「深層的練功」 ? \n參加者會接受半小時 或 以上的療癒，啓動每個人都有的自癒能力。名額有限，要先報名。 \n  \n      •  2月27日: 心像術 Heart Imagery 冥想 (導師：周可凡) \n可凡會帶一門透過圖像來療癒、轉化和揚升的冥想法。心像術源自西藏，它能讓我們更新及轉化過去，療癒情緒創傷，轉化信念，創造不一樣的實相。 \n  \n  \n報名：https://forms.gle/z1hUMcg8qBqRdo4q6 \n查詢 | 2619 0000 / WhatsApp 請按此 \n<http://api.whatsapp.com/send?phone=85267736361> \n  \n【導師簡介】 \n可凡 Keisha 是心像術冥想導師，臼井靈氣的第七代傳人，和太極導師。 在 Club O 每星期的療癒課已有十年的參與和經驗。也曾多次參加內觀中心 S.N. Goenka 的十日課程，在社區也常帶領不同正念工作坊。為 The School of the Heart 香港分支的創辦人之一。太極方面\, 九歳和李雅芳 (陳式太極) 開始學太極拳，2006 遇上了杜維德師父 (吳式太極)，2011年自己開班，曾於 OKIAN、「流白之間」、香港演藝學院 和 波蘭 Ludwik State School of Drama (Krakow) 碩士學系教授太極拳。
URL:https://www.club-o.org/event/%e7%99%82%e7%99%92%e5%a4%9c2%e6%9c%88%e4%bb%bd/
LOCATION:Club O\, 旺角亞皆老街86號昌明大厦7字樓FGH室
CATEGORIES:心靈互動
END:VEVENT
END:VCALENDAR