BEGIN:VCALENDAR
VERSION:2.0
PRODID:-//綠色生活教育基金 - ECPv6.15.18//NONSGML v1.0//EN
CALSCALE:GREGORIAN
METHOD:PUBLISH
X-ORIGINAL-URL:https://www.club-o.org
X-WR-CALDESC:Events for 綠色生活教育基金
REFRESH-INTERVAL;VALUE=DURATION:PT1H
X-Robots-Tag:noindex
X-PUBLISHED-TTL:PT1H
BEGIN:VTIMEZONE
TZID:UTC
BEGIN:STANDARD
TZOFFSETFROM:+0000
TZOFFSETTO:+0000
TZNAME:UTC
DTSTART:20190101T000000
END:STANDARD
END:VTIMEZONE
BEGIN:VEVENT
DTSTART;TZID=UTC:20200208T143000
DTEND;TZID=UTC:20200208T160000
DTSTAMP:20260421T074230
CREATED:20200121T000836Z
LAST-MODIFIED:20200121T000836Z
UID:6076-1581172200-1581177600@www.club-o.org
SUMMARY:道家養生工作坊
DESCRIPTION:道家養生是一套已動靜相兼的運動，從根源性改善我們身心質素，重點在於：\n1.使肢體動作柔軟\n2.讓臟腑運作正常(內臟體操)，調節內分泌機能；\n3.道家無諍的思想，開放心靈世界，在練習時體會與天地萬物為一體。 \n網上報名：\nhttps://forms.gle/G8dF6Ny8Y4D2L2h6A \n*註：只限舊生參加* \n【導師簡介】\n自80年代起，李師父分別學習了鶴翔莊氣功、道家養生功、六字訣、太極功。\n94年開始在法注文化書院修讀佛學和道家思想，許多功法都是源於道家修身和修心的精神脉絡。李師父不是佛教徒或道教徒，但非常欣賞佛家和道家思想。\n95年開始教功，全是義務性質，沒有門派和師徒的形式主義。其一是基於個人興趣。其二是發出一個訊息，「身心健康」需要自己負責的，通過練習氣功和運動幫助體質提升。 \n查詢｜2619 0000／WhatsApp 請按此 <https://api.whatsapp.com/send?phone=85267736361>
URL:https://www.club-o.org/event/%e9%81%93%e5%ae%b6%e9%a4%8a%e7%94%9f%e5%b7%a5%e4%bd%9c%e5%9d%8a/
LOCATION:Club O\, 旺角亞皆老街86號昌明大厦7字樓FGH室
CATEGORIES:身心舒展
END:VEVENT
END:VCALENDAR