BEGIN:VCALENDAR
VERSION:2.0
PRODID:-//綠色生活教育基金 - ECPv6.15.18//NONSGML v1.0//EN
CALSCALE:GREGORIAN
METHOD:PUBLISH
X-WR-CALNAME:綠色生活教育基金
X-ORIGINAL-URL:https://www.club-o.org
X-WR-CALDESC:Events for 綠色生活教育基金
REFRESH-INTERVAL;VALUE=DURATION:PT1H
X-Robots-Tag:noindex
X-PUBLISHED-TTL:PT1H
BEGIN:VTIMEZONE
TZID:UTC
BEGIN:STANDARD
TZOFFSETFROM:+0000
TZOFFSETTO:+0000
TZNAME:UTC
DTSTART:20210101T000000
END:STANDARD
END:VTIMEZONE
BEGIN:VEVENT
DTSTART;TZID=UTC:20220226T140000
DTEND;TZID=UTC:20220226T160000
DTSTAMP:20260421T081333
CREATED:20220209T203841Z
LAST-MODIFIED:20220209T203841Z
UID:8482-1645884000-1645891200@www.club-o.org
SUMMARY:抗疫茹素餐盤 1 – 食物處理、烹調及儲存
DESCRIPTION:此工作坊會為您分享以亞洲人經常使用的\n食材，讓大家更易掌握較全面的飲食指引。 \n工作坊內容\n｜烹調及處理蔬菜、全穀雜糧、\n豆類、果仁、種籽及海藻類食物\n｜儲存蔬菜\n｜抗疫健康素食錦囊\n｜製作發芽豆類 \n主講：鄭浩光 (國家高級公共營養師)\n日期：2月26日 (週六)\n時間：下午2:30 – 4:00\n收費：$50 (會員 $45)\n｜線上課堂｜
URL:https://www.club-o.org/event/%e6%8a%97%e7%96%ab%e8%8c%b9%e7%b4%a0%e9%a4%90%e7%9b%a4-1-%e9%a3%9f%e7%89%a9%e8%99%95%e7%90%86%e3%80%81%e7%83%b9%e8%aa%bf%e5%8f%8a%e5%84%b2%e5%ad%98/
ATTACH;FMTTYPE=image/jpeg:https://www.club-o.org/wp-content/uploads/2022/02/抗疫茹素餐盤-1-–-食物處理、烹調及儲存.jpg
END:VEVENT
END:VCALENDAR