BEGIN:VCALENDAR
VERSION:2.0
PRODID:-//綠色生活教育基金 - ECPv6.15.18//NONSGML v1.0//EN
CALSCALE:GREGORIAN
METHOD:PUBLISH
X-WR-CALNAME:綠色生活教育基金
X-ORIGINAL-URL:https://www.club-o.org
X-WR-CALDESC:Events for 綠色生活教育基金
REFRESH-INTERVAL;VALUE=DURATION:PT1H
X-Robots-Tag:noindex
X-PUBLISHED-TTL:PT1H
BEGIN:VTIMEZONE
TZID:UTC
BEGIN:STANDARD
TZOFFSETFROM:+0000
TZOFFSETTO:+0000
TZNAME:UTC
DTSTART:20230101T000000
END:STANDARD
END:VTIMEZONE
BEGIN:VEVENT
DTSTART;VALUE=DATE:20240401
DTEND;VALUE=DATE:20240402
DTSTAMP:20260421T012721
CREATED:20170622T001747Z
LAST-MODIFIED:20170622T001747Z
UID:12183-1711929600-1712015999@www.club-o.org
SUMMARY:(Club O 店及辦事處 休息 - closed)
DESCRIPTION:
URL:https://www.club-o.org/event/club-o-%e5%ba%97%e5%8f%8a%e8%be%a6%e4%ba%8b%e8%99%95-%e4%bc%91%e6%81%af-closed-2024-04-01/
CATEGORIES:admin
END:VEVENT
END:VCALENDAR