BEGIN:VCALENDAR
VERSION:2.0
PRODID:-//綠色生活教育基金 - ECPv6.15.18//NONSGML v1.0//EN
CALSCALE:GREGORIAN
METHOD:PUBLISH
X-ORIGINAL-URL:https://www.club-o.org
X-WR-CALDESC:Events for 綠色生活教育基金
REFRESH-INTERVAL;VALUE=DURATION:PT1H
X-Robots-Tag:noindex
X-PUBLISHED-TTL:PT1H
BEGIN:VTIMEZONE
TZID:UTC
BEGIN:STANDARD
TZOFFSETFROM:+0000
TZOFFSETTO:+0000
TZNAME:UTC
DTSTART:20160101T000000
END:STANDARD
END:VTIMEZONE
BEGIN:VEVENT
DTSTART;TZID=UTC:20191107T191500
DTEND;TZID=UTC:20191107T204500
DTSTAMP:20260420T181615
CREATED:20191019T203808Z
LAST-MODIFIED:20191019T203808Z
UID:5775-1573154100-1573159500@www.club-o.org
SUMMARY:療癒夜(11月份)
DESCRIPTION:日期：逢星期四 \n時間：晚上 7:15 – 8:45 \n導師：Club O療癒師團 \n內容： \n11月7日：愛心圈大休息（自由定價） \n11月14日：心像術冥想 (導師：周可凡) \n11月21日：心靈頌唱 (導師：Winston Lau劉俊賢) \n11月28日：一對一能量療癒課 \n費用：(單堂)   非會員 $120     會員 $100 \n(月證)      非會員 $300  會員 $270 \n*購買「月證」即可在一個月內參與 Club O 週二的「你也是療癒師」和週四的「療癒夜」 \n  \n  \n    11月7日：愛心圈大休息（自由定價） \n這個自由定價的晚上是非常適合想試試能量療癒是什麼的朋友 + 想回來共修的療癒師。 \n「能量療癒」（energy healing) 就是用大宇宙的氣場，來調節一個人或一個群體的不平衡。所謂的「病」是一種和大自然韻律的偏差，而能量療癒就是用靜心的方法回復最根本、最完善的狀態。有些氣功師傅會用自己的真氣來幫人治癒，但本能療癒強調用大宇宙的能量，而不是個人的能量。我們在這裏是使用最簡單直接的方法來「搭通天地綫」\, 通過入靜的狀態，啟動自我們每個人都附有自癒的能力。 \n  \n  \n    11月14日: 心像術冥想 (導師：周可凡) \n可凡會帶一門透過圖像來療癒、轉化和揚升的冥想法。心像術源自西藏，它能讓我們更新及轉化過去，療癒情緒創傷，轉化信念，創造不一樣的實相。 \n  \n【導師簡介】 \n周可凡是 The School of the Heart 香港分支的創辦人之一和 本校心像術 (Heart Imagery) 導師。是靈氣和手療的修練者，臼井靈氣的第七代傳人; 在 Club O 每星期的療癒課已有十年的參與和經驗。也曾多次參加內觀中心 S.N. Goenka 的十日課程，在社區也常帶領不同正念工作坊。太極方面\, 九歳和李雅芳 (陳式太極) 開始學太極拳，2006 遇上了杜維德師父 (吳式太極)，2011年自己開班，曾於 OKIAN、「流白之間」、香港演藝學院 和 波蘭 Ludwik State School of Drama (Krakow) 碩士學系教授太極拳。 \n  \n  \n    11月 21日：心靈頌唱 (導師：Winston Lau 劉俊賢) \n讓我們透過頌唱與身心靈連結，穿透恐懼與苦難，在紛亂的世代回到本原，帶著憐憫和信心繼續上路。 \n  \n【導師簡介】 \nWinston Lau 劉俊賢，一位用生命創作的藝術行者，善於利用不同媒介與心靈溝通，過程中更體驗到療癒的力量。一直熱愛探索活著各種可能性的他，喜愛以非傳統方式啟發不同人仕體驗更深層的世界。曾於香港、台灣、泰國、美國及西班牙等地教授另類創意身心靈課程。 \n畢業於美國芝加哥藝術學院，2008年與友人成立了位於香港賽馬會創意藝術中心L5-16的W Studio，Winston深知頭腦無法全然了解生命，所以他選擇扎根於大地，用藝術與看不見的世界及內心連結，過程中慢慢把藝術與生命融為一體，以天賦的創意直覺體驗生存真諦。 \n  \n  \n    11月28日 療癒夜 : 一對一能量療癒課 \n想藉由能量療癒獲得「深層的療癒」或者「深層的練功」 ? \n參加者會接受半小時 或 以上的療癒，啓動每個人都有的自癒能力。名額有限，要先報名。 \n  \n11月28日報名： https://forms.gle/LJGqJod5LF6A2HVTA \n  \n  \n查詢｜2619 0000／WhatsApp 請按此 <https://api.whatsapp.com/send?phone=85267736361>
URL:https://www.club-o.org/event/%e7%99%82%e7%99%92%e5%a4%9c11%e6%9c%88%e4%bb%bd/
CATEGORIES:心靈互動,療癒夜
END:VEVENT
BEGIN:VEVENT
DTSTART;TZID=UTC:20190905T191500
DTEND;TZID=UTC:20190905T204500
DTSTAMP:20260420T181615
CREATED:20190827T025909Z
LAST-MODIFIED:20190827T232033Z
UID:5478-1567710900-1567716300@www.club-o.org
SUMMARY:療癒夜(9月份)
DESCRIPTION:逢星期四 晚上7:15-8:45 \n9月5日 : 愛心圈大休息（自由定價）\n9月12 日: 靈性療癒分享\n9月19 日：一對一療癒夜\n9月26日: 心像術冥想 \n9月5 日：愛心圈大休息（自由定價）\n這個自由定價的晚上是非常適合想試試能量療癒是什麼的朋友 + 想回來共修的療癒師。\n「能量療癒」（energy healing) 就是用大宇宙的氣場，來調節一個人或一個群體的不平衡。所謂的「病」是一種和大自然韻律的偏差，而能量療癒就是用靜心的方法回復最根本、最完善的狀態。有些氣功師傅會用自己的真氣來幫人治癒，但本能療癒強調用大宇宙的能量，而不是個人的能量。我們在這裏是使用最簡單直接的方法來「搭通天地綫」\, 通過入靜的狀態，啟動自我們每個人都附有自癒的能力。 \n9月12 日：【靈性療癒分享會】\n今年可凡去了台灣和意大利連續上了三次 Ron Young 的靈性療癒的訓練，回來介紹少少她遇上的經歷和她所了解這套傳的世界觀。\n– 家族排列可能聽過，但是靈性排列是什麼？\n– 在這個傳統裏，為什麼這麼強調母親的角色（包括我們的血緣媽媽和大地媽媽）？\n– 當中的智慧怎樣可以幫助我們理解或面對香港近日的動盪？ \n9月19 日：一對一能量療癒課\n想藉由能量療癒獲得「深層的療癒」或者「深層的練功」 ?\n參加者會接受半小時 或 以上的療癒，啓動每個人都有的自癒能力。名額有限，要先報名。\n19/9 一對一能量療癒課 報名：https://bit.ly/31EgdiG \n9月26日: 心像術冥想\n可凡會帶一門透過圖像來療癒、轉化和揚升的冥想法。心像術源自西藏，它能讓我們更新及轉化過去，療癒情緒創傷，轉化信念，創造不一樣的實相。 \n導師：Club O療癒師團\n費用：(單堂) 非會員 $120 會員 $100\n(雙月證*) 非會員 $500 會員 $488\n*購買雙月證即可享受 Club O 在兩個月內所有 週四「療癒夜」與 週二「你也是療癒師」 的活動 \n查詢：2619 0000／WhatsApp 請按此 
URL:https://www.club-o.org/event/%e7%99%82%e7%99%92%e5%a4%9c9%e6%9c%88%e4%bb%bd/
CATEGORIES:心靈互動,新心靈工作坊,療癒夜
ATTACH;FMTTYPE=image/jpeg:https://www.club-o.org/wp-content/uploads/2019/08/Healingnight_SEP2019-01.jpg
END:VEVENT
BEGIN:VEVENT
DTSTART;TZID=UTC:20190801T191500
DTEND;TZID=UTC:20190801T204500
DTSTAMP:20260420T181615
CREATED:20190802T230843Z
LAST-MODIFIED:20190827T233342Z
UID:5376-1564686900-1564692300@www.club-o.org
SUMMARY:療癒夜(8月份)
DESCRIPTION:日期：逢星期四 \n時間：晚上 7:15 – 8:45 \n導師：Club O療癒師團 \n內容： \n8月1日：愛心圈療癒課（自由定價） \n8月8日：一對一能量療癒課 \n8月15日：音響能量療癒大休息 \n8月22日：一對一能量療癒課 \n8月29日：《萬物頌歌》靜心和分享 \n費用：(單堂)   非會員 $120      會員 $100 \n(雙月證*)  非會員 $500      會員 $488 \n*購買雙月證即可享受 Club O 在兩個月內所有 週四「療癒夜」與 週二「你也是療癒師」 的活動 \n  \n  \n\n8月1 日：愛心圈療癒課\n\n這個自由定價的晚上是非常適合想試試能量療癒是什麼的朋友 + 想回來共修的療癒師。 \n「能量療癒」（energy healing) 就是用大宇宙的氣場，來調節一個人或一個群體的不平衡。所謂的「病」是一種和大自然韻律的偏差，而能量療癒就是用靜心的方法回復最根本、最完善的狀態。有些氣功師傅會用自己的真氣來幫人治癒，但本能療癒強調用大宇宙的能量，而不是個人的能量。我們在這裏是使用最簡單直接的方法來「搭通天地綫」\, 通過入靜的狀態，啟動自我們每個人都附有自癒的能力。 \n  \n\n8月 8 、22日 療癒夜 : 一對一能量療癒課\n\n想藉由能量療癒獲得「深層的療癒」或者「深層的練功」 ? \n參加者會接受半小時 或 以上的療癒，啓動每個人都有的自癒能力。名額有限，要先報名。 \n  \n8月 8 日報名：https://forms.gle/rRqrgVEoXDfMngcX7 \n8月 22 日 報名：https://forms.gle/T9iZQFqFcRyeLx9i9 \n  \n\n8月15日 療癒夜 : 音響能量療癒大休息\n\n頌缽、手指琴、OM…會為大家創造怎樣的一個療癒夜? \n通過入靜的大休息狀態，啟動我們自癒的能力。 \n  \n\n8月29日 療癒夜: 《萬物頌歌》靜心和分享 *\n\n剛從意大利回來，可凡與大家分享聖方濟各亞西西的《萬物頌歌》 (The Canticle of the Creatures)。這首詩稱呼太陽、風、火為兄弟，稱呼月亮、星辰、水、和死亡為自己的姐妹。通過靜心和分享，我們會和大地衆生的神聖連接起來。 \n  \n**雖然原文來至一個基督聖人，本節目是超越宗教的界限。 \n  \n日期：逢星期四 \n時間：晚上 7:15 – 8:45 \n地點：旺角亞皆老街80號昌明大廈7字樓FGH室 \n導師：Club O療癒師團 \n費用：(單堂)   非會員 $120      會員 $100 \n(雙月證*)  非會員 $500  會員 $488 \n*購買雙月證即可享受 Club O 在兩個月內所有 週四「療癒夜」與 週二「你也是療癒師」 的活動 \n  \n查詢：2619 0000／WhatsApp 請按此  \n  \n付款方法： \n\n親臨會址付款(只收現金)\n銀行轉帳 (匯豐銀行戶口號碼：804-8-004280 戶口名稱：Green Living Education Foundation Ltd. )\n\n活動參加者請將入數收據連同姓名、(會員號碼)、聯絡電話及參加活動名稱及日期等Whatsapp至67736361或發訊息至我們臉書 Club O 綠色生活
URL:https://www.club-o.org/event/%e7%99%82%e7%99%92%e5%a4%9c8%e6%9c%88%e4%bb%bd/
CATEGORIES:療癒夜
ATTACH;FMTTYPE=image/jpeg:https://www.club-o.org/wp-content/uploads/2019/08/Healingnight_Aug2019-01.jpg
END:VEVENT
BEGIN:VEVENT
DTSTART;TZID=UTC:20190704T191500
DTEND;TZID=UTC:20190704T204500
DTSTAMP:20260420T181615
CREATED:20190627T223018Z
LAST-MODIFIED:20190627T223018Z
UID:5288-1562267700-1562273100@www.club-o.org
SUMMARY:療癒夜(7月)
DESCRIPTION:7月4 日：愛心圈療癒課 \n這個自由定價的晚上是非常適合想試試能量療癒是什麼的朋友 + 想回來共修的療癒師。 \n「能量療癒」（energy healing) 就是用大宇宙的氣場，來調節一個人或一個群體的不平衡。所謂的「病」是一種和大自然韻律的偏差，而能量療癒就是用靜心的方法回復最根本、最完善的狀態。有些氣功師傅會用自己的真氣來幫人治癒，但本能療癒強調用大宇宙的能量，而不是個人的能量。我們在這裏是使用最簡單直接的方法來「搭通天地綫」\, 通過入靜的狀態，啟動自我們每個人都附有自癒的能力。 \n  \n7月11、25日：一對一能量療癒課 \n想藉由能量療癒獲得「深層的療癒」或者「深層的練功」 ? \n參加者會接受半小時 或 以上的療癒，啓動每個人都有的自癒能力。名額有限，要先報名。 \n  \n7月11日 報名：https://forms.gle/7ZUrSyG7HZoBErJC6 \n  \n7月25日 報名：https://forms.gle/VQyJZfxTnTJBPCPc9 \n  \n7月18日： 心像術冥想療癒課 \n可凡會帶一門透過圖像來療癒、轉化和揚升的冥想法。心像術源自西藏，它能讓我們更新及轉化過去，療癒情緒創傷，轉化信念，創造不一樣的實相。 \n  \n日期：逢星期四 \n時間：晚上 7:15 – 8:45 \n地點：旺角亞皆老街80號昌明大廈7字樓FGH室 \n導師：Club O療癒師團 \n費用：(單堂)   非會員 $120 會員 $100 \n(雙月證*) 非會員 $500  會員 $488 \n*購買雙月證即可享受 Club O 在兩個月內所有 週四「療癒夜」與 週二「你也是療癒師」 的活動 \n  \n查詢：2619 0000／WhatsApp 6773 6361 \n  \n付款方法： \n\n親臨會址付款(只收現金)\n銀行轉帳 (匯豐銀行戶口號碼：804-8-004280 戶口名稱：Green Living Education Foundation Ltd. )\n\n活動參加者請將入數收據連同姓名、(會員號碼)、聯絡電話及參加活動名稱及日期等Whatsapp至67736361或發訊息至我們臉書 Club O 綠色生活
URL:https://www.club-o.org/event/%e7%99%82%e7%99%92%e5%a4%9c7%e6%9c%88/
CATEGORIES:療癒夜
ATTACH;FMTTYPE=image/jpeg:https://www.club-o.org/wp-content/uploads/2019/06/Healingnight_Jul2019-01.jpg
END:VEVENT
BEGIN:VEVENT
DTSTART;TZID=UTC:20190507T130000
DTEND;TZID=UTC:20190507T153000
DTSTAMP:20260420T181615
CREATED:20190430T015144Z
LAST-MODIFIED:20190430T015144Z
UID:5030-1557234000-1557243000@www.club-o.org
SUMMARY:你也是療癒師（5月7、14日）
DESCRIPTION:話說「心的磁場比腦袋強 5000 倍，心的電磁場又比腦袋強 100\,000 倍。」 \n可是人的心是無常的，它的念頭不斷、不斷地在變，有說一秒鐘我們念頭生滅，念起念滅有二十一萬六千個念頭。 \n誰可以令自己的心靜止下來，暫停想東西? 回到當下與歸零的狀態。 \n「一念善即天堂，一念惡即地獄。」 \n問問你自己: 到底你多久沒有和自己的心好好連接了? \n你讓什麼樣的生活模式不斷擾亂你的內心平靜? \n要練習好好照顧這顆心，與內在自我的統一和連結。 \n有興趣一起來Club O 用心練習分享”搭通天地綫”的朋友，請把頭腦放空，放下分析，放鬆身心，體驗2個多小時的共同修習。 \n一切方法都可以用上，也可以全然放下，按照個人覺得合適，就恰當地使用相應相關的工具吧! \n連結自己的身體，讓自己身心準備，送愛療癒他人。 \n  \n7/5【能量療癒 x 動禪】 \n先從拉筋伸展的練習開始，讓心更加輕鬆、專注，進而體驗安定的喜悅與寧靜。 \n  \n14/5【能量療癒 x 頌讀的迴響】 \n籍由頌讀散文故事或專題文章，感受當中的能量，讓自己感動。 \n  \n下半節會帶大家感受能量療癒（energy healing)，籍著大宇宙的氣場， 透過各種靜心的方法回復最根本、最完善身心的狀態。有些人會用自己的真氣來幫人治癒，但真氣和本能治療的不同是， 本能療癒強調籍著宇宙的大能，而不是個人有限的力量。我們的課程是使用最簡單直接的方法來「搭通天地綫」，通過入靜的狀態，啟動自我本已潛藏的自癒能力。 \n  \n日期： 5月7、14日 \n時間：星期二 下午1:00－3:30 \n地點：旺角亞皆老街80號昌明大厦7字樓FGH室 \n費用：(單堂) 非會員$150 會員 $120 \n(雙月証)非會員$500 會員 $488* \n(*持有雙月証即可享受兩個月內所有Club O 的療癒課程) \n備註 : 請參加者穿著舒適可供活動的衣物。 \n  \n查詢：2619 0000／whatsapp 6773 6361 (座位有限，請先報名或登記)
URL:https://www.club-o.org/event/%e4%bd%a0%e4%b9%9f%e6%98%af%e7%99%82%e7%99%92%e5%b8%ab%ef%bc%885%e6%9c%887%e3%80%8114%e6%97%a5%ef%bc%89/
CATEGORIES:心靈互動,療癒夜
END:VEVENT
BEGIN:VEVENT
DTSTART;TZID=UTC:20190502T191500
DTEND;TZID=UTC:20190502T204500
DTSTAMP:20260420T181616
CREATED:20190430T022657Z
LAST-MODIFIED:20190430T022657Z
UID:5041-1556824500-1556829900@www.club-o.org
SUMMARY:療癒夜
DESCRIPTION:日期：逢星期四 \n時間：晚上 7:15 – 8:45 \n導師：Club O療癒師團 \n內容： \n5月2日：愛心圈療癒課（自由定價） \n5月9日：一對一能量療癒課 \n5月16日：手療師經驗分享及共修 \n5月23日：一對一能量療癒課 \n5月30日 : 罄聲療癒 \n費用：(單堂)   非會員 $120      會員 $100\n(雙月證*) 非會員 $500      會員 $488 \n*購買雙月證即可享受 Club O 在兩個月內所有 週四「療癒夜」與 週二「你也是療癒師」的活動 \n  \n5月 9 日 療癒夜 : 一對一能量療癒課 \nhttps://forms.gle/cQ6Zoi2ugqqcxkKw6 \n  \n5月 23 日 療癒夜 : 一對一能量療癒課 \nhttps://forms.gle/6VaTxggcxZKs9AzE6 \n  \n  \nFacebook Event: \n5月2 日：愛心圈療癒課（自由定價） \n這個自由定價的晚上是非常適合想試試能量療癒是什麼的朋友 + 想回來共修的療癒師。 \n「能量療癒」（energy healing) 就是用大宇宙的氣場，來調節一個人或一個群體的不平衡。所謂的「病」是一種和大自然韻律的偏差，而能量療癒就是用靜心的方法回復最根本、最完善的狀態。有些氣功師傅會用自己的真氣來幫人治癒，但本能療癒強調用大宇宙的能量，而不是個人的能量。我們在這裏是使用最簡單直接的方法來「搭通天地綫」\, 通過入靜的狀態，啟動自我們每個人都附有自癒的能力。 \n  \n5月9、23日：一對一能量療癒課 \n想藉由能量療癒獲得「深層的療癒」或者「深層的練功」 ? \n参加者會接受半小時 或 以上的療癒，啓動每個人都有的自癒能力。名額有限，要先報名。 \n  \n5月9日 報名：https://forms.gle/cQ6Zoi2ugqqcxkKw6 \n  \n5月23日 報名：https://forms.gle/6VaTxggcxZKs9AzE6 \n  \n5月16日：手療師經驗分享及共修 \n愛心圈手療師會分享替人手療 ，或是被手療的心得，並會療癒共修。 \n  \n5月30日 : 磬聲療癒 \n磬聲療癒，簡稱「磬療」，加上音樂做身心靈大清洗。歡迎自行攜帶磬缽前來共享。 \n  \n日期：逢星期四 \n時間：晚上 7:15 – 8:45 \n地點：旺角亞皆老街80號昌明大厦7字樓FGH室 \n導師：Club O療癒師團 \n費用：(單堂)   非會員 $120         會員 $100 \n(雙月證*) 非會員 $500         會員 $488 \n*購買雙月證即可享受 Club O 在兩個月內所有 週四「療癒夜」與 週二「你也是療癒師」 的活動 \n  \n查詢：2619 0000／whatsapp 6773 6361
URL:https://www.club-o.org/event/%e7%99%82%e7%99%92%e5%a4%9c-9/
CATEGORIES:療癒夜
END:VEVENT
BEGIN:VEVENT
DTSTART;TZID=UTC:20190307T191500
DTEND;TZID=UTC:20190307T204500
DTSTAMP:20260420T181616
CREATED:20190225T232002Z
LAST-MODIFIED:20190225T232002Z
UID:4781-1551986100-1551991500@www.club-o.org
SUMMARY:療癒夜
DESCRIPTION:日期：逢星期四 \n時間：晚上 7:15 – 8:45 \n導師：Club O療癒師團 \n內容： \n3月7日：愛心圈療癒課（自由定價） \n3月14日：一對一能量療癒課 \nhttps://goo.gl/forms/FYvZS7o5Xrgc95T72 \n3月21日：心像術冥想療癒課 \n3月28日：一對一能量療癒課 \nhttps://goo.gl/forms/IV4YzhR065wjNlBT2 \n費用：(單堂)   非會員 $120      會員 $100\n(雙月證*) 非會員 $500      會員 $488 \n*購買雙月證即可享受 Club O 在兩個月內所有 週四「療癒夜」與 週二「你也是療癒師」 的活動
URL:https://www.club-o.org/event/%e7%99%82%e7%99%92%e5%a4%9c-7/
LOCATION:Club O\, 旺角亞皆老街86號昌明大厦7字樓FGH室
CATEGORIES:療癒夜
ATTACH;FMTTYPE=image/jpeg:https://www.club-o.org/wp-content/uploads/2018/09/Healing-Friday-october-2018-scaled.jpg
END:VEVENT
BEGIN:VEVENT
DTSTART;TZID=UTC:20181203T191500
DTEND;TZID=UTC:20181203T194500
DTSTAMP:20260420T181616
CREATED:20181115T015026Z
LAST-MODIFIED:20181115T015026Z
UID:4377-1543864500-1543866300@www.club-o.org
SUMMARY:療癒夜
DESCRIPTION:療癒夜 \n時間：逢星期一 晚上 7:15 – 8:45 \n導師：Club O療癒師團 \n費用：(單堂)   非會員 $100      會員 $80\n(雙月證*) 非會員 $500      會員 $488\n註：12月24日和31日沒有堂 \n第一個星期一    (3/12+7/1)：     愛心圈療癒課- 自由定價 \n第二個星期一 (10/12+14/1)：      靜心觀想療癒課 \n第三個星期一 (17/12+21/1)：      一對一能量療癒課 \n第四個星期一           (28/1)：     能量療癒分享研習課
URL:https://www.club-o.org/event/%e7%99%82%e7%99%92%e5%a4%9c-5/
LOCATION:Club O\, 旺角亞皆老街86號昌明大厦7字樓FGH室
CATEGORIES:療癒夜
ATTACH;FMTTYPE=image/jpeg:https://www.club-o.org/wp-content/uploads/2018/11/45244337_276421239648039_4586413511734722560_n.jpg
END:VEVENT
BEGIN:VEVENT
DTSTART;TZID=UTC:20181001T191500
DTEND;TZID=UTC:20181001T204500
DTSTAMP:20260420T181616
CREATED:20180925T003809Z
LAST-MODIFIED:20180925T003809Z
UID:4117-1538421300-1538426700@www.club-o.org
SUMMARY:療癒夜
DESCRIPTION:在Club O療癒師為你安排的高能量氛圍下，你會領悟到在愛之中不斷感恩、自癒的好處，給自己一個重生的機會。歡迎帶同你關愛的人入場。 \n導師：Club O 療癒師團\n時間：星期一 夜上 19:15－20:45\n費用：(單堂) 非會員 $100 / 會員 $80\n(雙月證*) 非會員 $500 / 會員 $488\n每個月的第一個療癒夜是隨緣樂捐 (1/10\, 5／11)\n查詢：2619 0000／whatsapp 6773 6361 \n**購買雙月證即可享受 Club O 在兩個月內所有 週一「療癒夜」與 週五「你也是療癒師」 的活動。 \n座位有限，請先報名或登記\n付款方法：\n1. 親臨會址付款(只收現金)\n2. 銀行轉帳 (匯豐銀行戶口號碼：804-8-004280 戶口名稱：Green Living Education Foundation Ltd. )\n活動參加者請將入數收據連同姓名、(會員號碼)、聯絡電話及參加活動名稱及日期等Whatsapp至67736361或發訊息至我們面書 Club O 綠色生活
URL:https://www.club-o.org/event/%e7%99%82%e7%99%92%e5%a4%9c-4/
LOCATION:Club O\, 旺角亞皆老街86號昌明大厦7字樓FGH室
CATEGORIES:療癒夜
ATTACH;FMTTYPE=image/jpeg:https://www.club-o.org/wp-content/uploads/2018/09/Healing-Monday-October-2018-scaled.jpg
END:VEVENT
BEGIN:VEVENT
DTSTART;TZID=UTC:20180806T190000
DTEND;TZID=UTC:20180806T203000
DTSTAMP:20260420T181616
CREATED:20180808T023431Z
LAST-MODIFIED:20180808T023431Z
UID:3859-1533582000-1533587400@www.club-o.org
SUMMARY:療癒夜
DESCRIPTION:藉助宇宙超凡的療癒力量令身心靈得以清洗、轉化、康復。在Club O療癒師為你安排的高能量氛圍下，你會領悟到在愛之中不斷感恩、自癒的好處，給自己一個重生的機會。歡迎帶同你關愛的人入場。 \n導師：Club O 療癒師團\n時間：逢星期一 晚上7:00－8:30\n費用：隨緣樂捐，鼓勵捐助支持本會工作\n查詢：2619 0000／whatsapp 6773 6361\n*無需報名
URL:https://www.club-o.org/event/%e7%99%82%e7%99%92%e5%a4%9c-3/
LOCATION:Club O\, 旺角亞皆老街86號昌明大厦7字樓FGH室
CATEGORIES:療癒夜
END:VEVENT
BEGIN:VEVENT
DTSTART;TZID=UTC:20180601T190000
DTEND;TZID=UTC:20180601T203000
DTSTAMP:20260420T181616
CREATED:20180529T010836Z
LAST-MODIFIED:20180529T010836Z
UID:3649-1527879600-1527885000@www.club-o.org
SUMMARY:療癒夜
DESCRIPTION:藉助宇宙超凡的療癒力量令身心靈得以清洗、轉化、康復。在Club O療癒師為你安排的高能量氛圍下，你會領悟到在愛之中不斷感恩、自癒的好處，給自己一個重生的機會。歡迎帶同你關愛的人入場。 \n導師：Club O 療癒師團\n時間：逢星期五 晚上7:00－8:30\n費用：隨緣樂捐，鼓勵捐助支持本會工作\n查詢：2619 0000／whatsapp 6773 6361\n*無需報名
URL:https://www.club-o.org/event/%e7%99%82%e7%99%92%e5%a4%9c-2/
LOCATION:Club O\, 旺角亞皆老街86號昌明大厦7字樓FGH室
CATEGORIES:療癒夜
ATTACH;FMTTYPE=image/png:https://www.club-o.org/wp-content/uploads/2018/05/療癒夜_FB_event.png
END:VEVENT
BEGIN:VEVENT
DTSTART;TZID=UTC:20180118T200000
DTEND;TZID=UTC:20180118T210000
DTSTAMP:20260420T181616
CREATED:20180111T005953Z
LAST-MODIFIED:20180115T185733Z
UID:2991-1516305600-1516309200@www.club-o.org
SUMMARY:療癒同修淨心靈
DESCRIPTION:主持：Club O療癒師
URL:https://www.club-o.org/event/%e7%99%82%e7%99%92%e5%90%8c%e4%bf%ae%e6%b7%a8%e5%bf%83%e9%9d%88/
CATEGORIES:心靈互動,療癒夜
ATTACH;FMTTYPE=image/jpeg:https://www.club-o.org/wp-content/uploads/2017/10/tom-ezzatkhah-103592-scaled.jpg
END:VEVENT
BEGIN:VEVENT
DTSTART;TZID=UTC:20180111T200000
DTEND;TZID=UTC:20180111T210000
DTSTAMP:20260420T181616
CREATED:20180111T001554Z
LAST-MODIFIED:20180111T010218Z
UID:2953-1515700800-1515704400@www.club-o.org
SUMMARY:愛笑瑜伽療癒夜
DESCRIPTION:愛笑瑜珈導師余狄夫(Dick Yu) 主持
URL:https://www.club-o.org/event/%e6%84%9b%e7%ac%91%e7%91%9c%e4%bc%bd%e7%99%82%e7%99%92%e5%a4%9c/
CATEGORIES:療癒夜
ATTACH;FMTTYPE=image/jpeg:https://www.club-o.org/wp-content/uploads/2018/01/dickyu.jpg
END:VEVENT
BEGIN:VEVENT
DTSTART;TZID=UTC:20170608T193000
DTEND;TZID=UTC:20170608T204500
DTSTAMP:20260420T181616
CREATED:20171019T184033Z
LAST-MODIFIED:20171026T180512Z
UID:2244-1496950200-1496954700@www.club-o.org
SUMMARY:五(十)個現代人對身體的誤解
DESCRIPTION:主講：符慧敏醫生\n\n\n正常生理取決於哪些物質與能量機制？豐盈物質需怎樣的能量配合？佳美能量又有哪些因素？新世代資訊及另類療癒有哪些最新建議？對照之下，何止五十？大有可能我們對自己身體的誤解還多多多啲呢！
URL:https://www.club-o.org/event/%e4%ba%94%e5%8d%81%e5%80%8b%e7%8f%be%e4%bb%a3%e4%ba%ba%e5%b0%8d%e8%ba%ab%e9%ab%94%e7%9a%84%e8%aa%a4%e8%a7%a3-2/
CATEGORIES:療癒夜,網上錄音
ATTACH;FMTTYPE=image/png:https://www.club-o.org/wp-content/uploads/2017/10/Screen-Shot-2017-10-20-at-10.37.33-AM.png
END:VEVENT
BEGIN:VEVENT
DTSTART;TZID=UTC:20170608T180000
DTEND;TZID=UTC:20170608T193000
DTSTAMP:20260420T181616
CREATED:20170621T233452Z
LAST-MODIFIED:20170621T235909Z
UID:1680-1496944800-1496950200@www.club-o.org
SUMMARY:五(十)個現代人對身體的誤解
DESCRIPTION:週四療癒夜\n主講：符慧敏醫生\n正常生理取決於哪些物質與能量機制？豐盈物質需怎樣的能量配合？佳美能量又有哪些因素？新世代資訊及另類療癒有哪些最新建議？對照之下，何止五十？大有可能我們對自己身體的誤解還多多多啲呢！
URL:https://www.club-o.org/event/%e4%ba%94%e5%8d%81%e5%80%8b%e7%8f%be%e4%bb%a3%e4%ba%ba%e5%b0%8d%e8%ba%ab%e9%ab%94%e7%9a%84%e8%aa%a4%e8%a7%a3/
CATEGORIES:療癒夜,網上錄音
END:VEVENT
BEGIN:VEVENT
DTSTART;TZID=UTC:20170601T193000
DTEND;TZID=UTC:20170601T204500
DTSTAMP:20260420T181616
CREATED:20171019T183320Z
LAST-MODIFIED:20171026T180518Z
UID:2219-1496345400-1496349900@www.club-o.org
SUMMARY:李大夫與你講健康
DESCRIPTION:主講：李宇銘博士\n(中醫師、前香港中文大學中醫學院講師)\n\n\n中醫是身心靈合一的整全醫學，認為各種肉體上的疾病，皆與心神靈性有關。要得到療癒，除了要解決身體的原因外，更要發現心靈上的原因；我們的身心又與人生有密切關係，因此要獲得健康，更需要學懂如何做人，從改變生活入手。今晚本會主席李博士將會給現場參加者，透過直接面色診斷，解釋疾病不同層次的成因，對如何療癒給予人生指引。 \n\n			\n		\n	\n	\n	\n	\n		1 李大夫與你講健康2 李大夫與你講健康3 李大夫與你講健康4 李大夫與你講健康
URL:https://www.club-o.org/event/%e6%9d%8e%e5%a4%a7%e5%a4%ab%e8%88%87%e4%bd%a0%e8%ac%9b%e5%81%a5%e5%ba%b7-4/
CATEGORIES:療癒夜,網上錄音
ATTACH;FMTTYPE=image/jpeg:https://www.club-o.org/wp-content/uploads/2017/10/30306316244_c2e212fd47_k.jpg
END:VEVENT
BEGIN:VEVENT
DTSTART;TZID=UTC:20170601T170000
DTEND;TZID=UTC:20170601T180000
DTSTAMP:20260420T181616
CREATED:20170621T235549Z
LAST-MODIFIED:20170622T012547Z
UID:1695-1496336400-1496340000@www.club-o.org
SUMMARY:李大夫與你講健康
DESCRIPTION:週四療癒夜\n \n主講：李宇銘博士\n（中醫師、前香港中文大學中醫學院講師）\n中醫是身心靈合一的整全醫學，認為各種肉體上的疾病，皆與心神靈性有關。要得到療癒，除了要解決身體的原因外，更要發現心靈上的原因；我們的身心又與人生有密切關係，因此要獲得健康，更需要學懂如何做人，從改變生活入手。今晚本會主席李博士將會給現場參加者，透過直接面色診斷，解釋疾病不同層次的成因，對如何療癒給予人生指引。 \n\n			\n		\n	\n	\n	\n	\n		1 李大夫與你講健康2 李大夫與你講健康3 李大夫與你講健康4 李大夫與你講健康
URL:https://www.club-o.org/event/%e6%9d%8e%e5%a4%a7%e5%a4%ab%e8%88%87%e4%bd%a0%e8%ac%9b%e5%81%a5%e5%ba%b7/
CATEGORIES:療癒夜,網上錄音
END:VEVENT
BEGIN:VEVENT
DTSTART;TZID=UTC:20170413T193000
DTEND;TZID=UTC:20170413T204500
DTSTAMP:20260420T181616
CREATED:20171019T182148Z
LAST-MODIFIED:20171026T181016Z
UID:2196-1492111800-1492116300@www.club-o.org
SUMMARY:痛症自救工作坊
DESCRIPTION:主講：陳玉輝\n（經筋治療師、英國另類療法訓練學院整全營養學）\n\n\n大部份都市人都有筋膜肌腱痛症困擾問題，除了一般因工作或勞損引致肌腱痛症之外，原來食物因素和情緒壓力亦會誘發身體產生痛症，導師除了講解痛症成因和如何預防之外，亦會教導經絡穴位按摩自救和拉筋伸展活動。 \n講者投影片: 痛症自救工作坊 \n\n			\n		\n	\n	\n	\n	\n		1 痛症自救工作坊2 痛症自救工作坊3 痛症自救工作坊4 痛症自救工作坊5 痛症自救工作坊
URL:https://www.club-o.org/event/%e7%97%9b%e7%97%87%e8%87%aa%e6%95%91%e5%b7%a5%e4%bd%9c%e5%9d%8a/
CATEGORIES:療癒夜,網上錄音
ATTACH;FMTTYPE=image/jpeg:https://www.club-o.org/wp-content/uploads/2017/10/dt_150916_chronic_pain_headache_migraine_800x600.jpg
END:VEVENT
BEGIN:VEVENT
DTSTART;TZID=UTC:20170406T193000
DTEND;TZID=UTC:20170406T204500
DTSTAMP:20260420T181616
CREATED:20171019T180516Z
LAST-MODIFIED:20171026T181029Z
UID:2187-1491507000-1491511500@www.club-o.org
SUMMARY:李大夫與你講健康
DESCRIPTION:主講：李宇銘\n(中醫師、香港中文大學中醫學院講師)\n\n\n中醫是身心靈合一的整全醫學，認為各種肉體上的疾病，皆與心神靈性有關。要得到療癒，除了要解決身體的原因外，更要發現心靈上的原因；我們的身心又與人生有密切關係，因此要獲得健康，更需要學懂如何做人，從改變生活入手。今晚本會主席李博士將會給現場參加者，透過直接面色診斷，解釋疾病不同層次的成因，對如何療癒給予人生指引。 \n\n\n			\n		\n	\n	\n	\n	\n		1 李大夫與你講健康2 李大夫與你講健康3 李大夫與你講健康4 李大夫與你講健康
URL:https://www.club-o.org/event/%e6%9d%8e%e5%a4%a7%e5%a4%ab%e8%88%87%e4%bd%a0%e8%ac%9b%e5%81%a5%e5%ba%b7-3/
CATEGORIES:療癒夜,網上錄音
ATTACH;FMTTYPE=image/jpeg:https://www.club-o.org/wp-content/uploads/2017/10/30759497950_22d361bcf0_k.jpg
END:VEVENT
BEGIN:VEVENT
DTSTART;TZID=UTC:20170216T193000
DTEND;TZID=UTC:20170216T204500
DTSTAMP:20260420T181616
CREATED:20171019T175538Z
LAST-MODIFIED:20171026T181129Z
UID:2179-1487273400-1487277900@www.club-o.org
SUMMARY:李大夫與你講健康
DESCRIPTION:主講：李宇銘\n(中醫師、香港中文大學中醫學院講師)\n\n\n中醫是身心靈合一的整全醫學，認為各種肉體上的疾病，皆與心神靈性有關。要得到療癒，除了要解決身體的原因外，更要發現心靈上的原因；我們的身心又與人生有密切關係，因此要獲得健康，更需要學懂如何做人，從改變生活入手。 \n今晚本會主席李博士將會給現場參加者，透過直接面色診斷，解釋疾病不同層次的成因，對如何療癒給予人生指引。 \n\n			\n		\n	\n	\n	\n	\n		1 李大夫與你講健康2 李大夫與你講健康3 李大夫與你講健康4 李大夫與你講健康
URL:https://www.club-o.org/event/%e6%9d%8e%e5%a4%a7%e5%a4%ab%e8%88%87%e4%bd%a0%e8%ac%9b%e5%81%a5%e5%ba%b7-2/
CATEGORIES:療癒夜,網上錄音
ATTACH;FMTTYPE=image/jpeg:https://www.club-o.org/wp-content/uploads/2017/10/30306316244_c2e212fd47_k.jpg
END:VEVENT
END:VCALENDAR