BEGIN:VCALENDAR
VERSION:2.0
PRODID:-//綠色生活教育基金 - ECPv6.15.18//NONSGML v1.0//EN
CALSCALE:GREGORIAN
METHOD:PUBLISH
X-ORIGINAL-URL:https://www.club-o.org
X-WR-CALDESC:Events for 綠色生活教育基金
REFRESH-INTERVAL;VALUE=DURATION:PT1H
X-Robots-Tag:noindex
X-PUBLISHED-TTL:PT1H
BEGIN:VTIMEZONE
TZID:UTC
BEGIN:STANDARD
TZOFFSETFROM:+0000
TZOFFSETTO:+0000
TZNAME:UTC
DTSTART:20220101T000000
END:STANDARD
END:VTIMEZONE
BEGIN:VEVENT
DTSTART;TZID=UTC:20230401T103000
DTEND;TZID=UTC:20230401T120000
DTSTAMP:20260421T002246
CREATED:20230308T235303Z
LAST-MODIFIED:20230605T235202Z
UID:11528-1680345000-1680350400@www.club-o.org
SUMMARY:道家養生功 4月
DESCRIPTION:  \n道家養生功 \n4月1日、15日及29日 星期六 \n上午10:30-12:00 Club O活動室 \n適合有基礎者 \n深入學習道家養生功 \n\n4月22日星期六 \n上午10:30-12:00 Club O活動室 \n歡迎初學者體驗 \n提升身心健康 \n會員$45 非會員$50
URL:https://www.club-o.org/event/%e9%81%93%e5%ae%b6%e9%a4%8a%e7%94%9f%e5%8a%9f-4%e6%9c%88/
LOCATION:Club O\, 旺角亞皆老街86號昌明大厦7字樓FGH室
END:VEVENT
BEGIN:VEVENT
DTSTART;TZID=UTC:20230401T130000
DTEND;TZID=UTC:20230401T140000
DTSTAMP:20260421T002246
CREATED:20230308T235413Z
LAST-MODIFIED:20230308T235413Z
UID:11532-1680354000-1680357600@www.club-o.org
SUMMARY:禪食體驗 4月
DESCRIPTION:
URL:https://www.club-o.org/event/%e7%a6%aa%e9%a3%9f%e9%ab%94%e9%a9%97-4%e6%9c%88/
END:VEVENT
BEGIN:VEVENT
DTSTART;TZID=UTC:20230405T140000
DTEND;TZID=UTC:20230405T153000
DTSTAMP:20260421T002246
CREATED:20230308T234451Z
LAST-MODIFIED:20230308T234451Z
UID:11522-1680703200-1680708600@www.club-o.org
SUMMARY:彩虹活力
DESCRIPTION:
URL:https://www.club-o.org/event/%e5%bd%a9%e8%99%b9%e6%b4%bb%e5%8a%9b/
END:VEVENT
BEGIN:VEVENT
DTSTART;TZID=UTC:20230418T190000
DTEND;TZID=UTC:20230418T210000
DTSTAMP:20260421T002246
CREATED:20230309T000542Z
LAST-MODIFIED:20230309T000542Z
UID:11540-1681844400-1681851600@www.club-o.org
SUMMARY:21天蔬食挑戰
DESCRIPTION:
URL:https://www.club-o.org/event/21%e5%a4%a9%e8%94%ac%e9%a3%9f%e6%8c%91%e6%88%b0/
LOCATION:Club O\, 旺角亞皆老街86號昌明大厦7字樓FGH室
END:VEVENT
BEGIN:VEVENT
DTSTART;TZID=UTC:20230422T103000
DTEND;TZID=UTC:20230422T120000
DTSTAMP:20260421T002246
CREATED:20230308T235506Z
LAST-MODIFIED:20230308T235506Z
UID:11536-1682159400-1682164800@www.club-o.org
SUMMARY:體驗班｜道家養生功
DESCRIPTION:
URL:https://www.club-o.org/event/%e9%ab%94%e9%a9%97%e7%8f%ad%ef%bd%9c%e9%81%93%e5%ae%b6%e9%a4%8a%e7%94%9f%e5%8a%9f/
END:VEVENT
BEGIN:VEVENT
DTSTART;TZID=UTC:20230427T110000
DTEND;TZID=UTC:20230427T123000
DTSTAMP:20260421T002246
CREATED:20230309T000748Z
LAST-MODIFIED:20230309T000748Z
UID:11547-1682593200-1682598600@www.club-o.org
SUMMARY:亮星星黄金屋（好書好資訊共賞）系列
DESCRIPTION:
URL:https://www.club-o.org/event/%e4%ba%ae%e6%98%9f%e6%98%9f%e9%bb%84%e9%87%91%e5%b1%8b%ef%bc%88%e5%a5%bd%e6%9b%b8%e5%a5%bd%e8%b3%87%e8%a8%8a%e5%85%b1%e8%b3%9e%ef%bc%89%e7%b3%bb%e5%88%97/
LOCATION:Club O\, 旺角亞皆老街86號昌明大厦7字樓FGH室
END:VEVENT
BEGIN:VEVENT
DTSTART;TZID=UTC:20230428T190000
DTEND;TZID=UTC:20230428T200000
DTSTAMP:20260421T002246
CREATED:20230309T000647Z
LAST-MODIFIED:20230309T000647Z
UID:11545-1682708400-1682712000@www.club-o.org
SUMMARY:頌缽浴
DESCRIPTION:
URL:https://www.club-o.org/event/%e9%a0%8c%e7%bc%bd%e6%b5%b4-2/
END:VEVENT
BEGIN:VEVENT
DTSTART;TZID=UTC:20230429T140000
DTEND;TZID=UTC:20230429T153000
DTSTAMP:20260421T002246
CREATED:20230309T000851Z
LAST-MODIFIED:20230309T001052Z
UID:11549-1682776800-1682782200@www.club-o.org
SUMMARY:亮星星黄金屋（好書好資訊共賞）系列
DESCRIPTION:
URL:https://www.club-o.org/event/%e4%ba%ae%e6%98%9f%e6%98%9f%e9%bb%84%e9%87%91%e5%b1%8b%ef%bc%88%e5%a5%bd%e6%9b%b8%e5%a5%bd%e8%b3%87%e8%a8%8a%e5%85%b1%e8%b3%9e%ef%bc%89%e7%b3%bb%e5%88%97-2/
LOCATION:Club O\, 旺角亞皆老街86號昌明大厦7字樓FGH室
END:VEVENT
BEGIN:VEVENT
DTSTART;TZID=UTC:20230503T140000
DTEND;TZID=UTC:20230503T153000
DTSTAMP:20260421T002246
CREATED:20230606T003415Z
LAST-MODIFIED:20230606T003431Z
UID:11676-1683122400-1683127800@www.club-o.org
SUMMARY:彩虹活力
DESCRIPTION:  \n彩虹活力 \n5月3，10， 17，24，31 \n時間： 14:00-15:30 \n 
URL:https://www.club-o.org/event/%e5%bd%a9%e8%99%b9%e6%b4%bb%e5%8a%9b-2/
END:VEVENT
BEGIN:VEVENT
DTSTART;TZID=UTC:20230504T113000
DTEND;TZID=UTC:20230504T130000
DTSTAMP:20260421T002246
CREATED:20230606T004955Z
LAST-MODIFIED:20230606T004955Z
UID:11705-1683199800-1683205200@www.club-o.org
SUMMARY:經絡穴位保健班
DESCRIPTION:經絡穴位保健班 \n日期： 5月4，11，25日 \n時間： 11:30-13:00 \n地點： Club  O 活動室
URL:https://www.club-o.org/event/%e7%b6%93%e7%b5%a1%e7%a9%b4%e4%bd%8d%e4%bf%9d%e5%81%a5%e7%8f%ad-2/
LOCATION:Club O\, 旺角亞皆老街86號昌明大厦7字樓FGH室
END:VEVENT
BEGIN:VEVENT
DTSTART;TZID=UTC:20230504T191500
DTEND;TZID=UTC:20230504T204500
DTSTAMP:20260421T002246
CREATED:20230606T003612Z
LAST-MODIFIED:20230606T005424Z
UID:11687-1683227700-1683233100@www.club-o.org
SUMMARY:手療師團隊---愛心圈 ｜自由定價
DESCRIPTION:手療師團隊—愛心圈 \n日期：5 月 4 日 \n時間：19:15-20:45 \n地點：Club O 活動室
URL:https://www.club-o.org/event/%e7%b6%93%e7%b5%a1%e7%a9%b4%e4%bd%8d%e4%bf%9d%e5%81%a5%e7%8f%ad/
LOCATION:Club O\, 旺角亞皆老街86號昌明大厦7字樓FGH室
END:VEVENT
BEGIN:VEVENT
DTSTART;TZID=UTC:20230506T140000
DTEND;TZID=UTC:20230506T160000
DTSTAMP:20260421T002246
CREATED:20230606T005145Z
LAST-MODIFIED:20230606T005145Z
UID:11709-1683381600-1683388800@www.club-o.org
SUMMARY:飯水分離分享會III
DESCRIPTION:飯水分離分享會III \n烤餅是去脾濕的常勝軍，尤其是熱帶亞熱帶的人免不了吃水果喝涼水，更需要烤餅來調節唾液平衡，就不會亂吃亂喝。而且烤餅更可以養脾胃造新血。 \n烤餅相當好吃、可當代餐與減重的離固食烤餅。 \n \n日期： 5月6日 \n時間： 14:00-16:00 \n地點： Club  O 活動室
URL:https://www.club-o.org/event/%e9%a3%af%e6%b0%b4%e5%88%86%e9%9b%a2%e5%88%86%e4%ba%ab%e6%9c%83iii/
LOCATION:Club O\, 旺角亞皆老街86號昌明大厦7字樓FGH室
END:VEVENT
BEGIN:VEVENT
DTSTART;TZID=UTC:20230513T103000
DTEND;TZID=UTC:20230513T120000
DTSTAMP:20260421T002246
CREATED:20230606T004212Z
LAST-MODIFIED:20230606T004634Z
UID:11695-1683973800-1683979200@www.club-o.org
SUMMARY:道家養生功
DESCRIPTION:道家養生功 \n日期： 5月13，27 日 \n時間：10:30-12:00 \n地點： Club O 活動室
URL:https://www.club-o.org/event/%e9%a3%af%e6%b0%b4%e5%88%86%e9%9b%a2%e5%88%86%e4%ba%ab%e6%9c%83-iii/
LOCATION:Club O\, 旺角亞皆老街86號昌明大厦7字樓FGH室
END:VEVENT
BEGIN:VEVENT
DTSTART;TZID=UTC:20230513T130000
DTEND;TZID=UTC:20230513T140000
DTSTAMP:20260421T002246
CREATED:20230606T005600Z
LAST-MODIFIED:20230606T005600Z
UID:11711-1683982800-1683986400@www.club-o.org
SUMMARY:禪食體驗 ｜隨緣樂捐
DESCRIPTION:禪食體驗 \n日期： 5月13， 27日 \n時間：13:00-14:00 \n地點： Club  O 活動室
URL:https://www.club-o.org/event/%e7%a6%aa%e9%a3%9f%e9%ab%94%e9%a9%97-%ef%bd%9c%e9%9a%a8%e7%b7%a3%e6%a8%82%e6%8d%90/
LOCATION:Club O\, 旺角亞皆老街86號昌明大厦7字樓FGH室
END:VEVENT
BEGIN:VEVENT
DTSTART;TZID=UTC:20230513T140000
DTEND;TZID=UTC:20230513T163000
DTSTAMP:20260421T002246
CREATED:20230606T001832Z
LAST-MODIFIED:20230606T003136Z
UID:11670-1683986400-1683995400@www.club-o.org
SUMMARY:ESG分享會
DESCRIPTION:ESG seminar \n綠色生活雲端服務 X ESG友善企業 \n\n介紹ESG理念\n介紹綠色生活應用程式與ESG的關係\n綠色生活應用程式平台的操作和更新\n\n  \n講者：潘子淇 Cynthia \n\n俊天整全健康諮商中心創辦人\n整全健康顧問\nNLP國際培訓師及顧問 (NLPU)\n註冊催眠治療師(ACHE)\n\n日期：5月13日 \n時間：14:00-16:30 \n地點：Club O 活動室
URL:https://www.club-o.org/event/%e6%b0%b4%e6%9e%9c%e7%b7%b4%e5%8a%9f%e6%97%a5-4/
LOCATION:Club O\, 旺角亞皆老街86號昌明大厦7字樓FGH室
END:VEVENT
BEGIN:VEVENT
DTSTART;TZID=UTC:20230514T133000
DTEND;TZID=UTC:20230514T163000
DTSTAMP:20260421T002246
CREATED:20230606T005946Z
LAST-MODIFIED:20230606T005946Z
UID:11714-1684071000-1684081800@www.club-o.org
SUMMARY:水果練功日
DESCRIPTION:水果練功日 \n日期： 5月14日 \n時間： 13:30-16:30 \n地點：大帽山
URL:https://www.club-o.org/event/%e6%b0%b4%e6%9e%9c%e7%b7%b4%e5%8a%9f%e6%97%a5-5/
LOCATION:大帽山郊野公園\, 大帽山郊野公園
END:VEVENT
BEGIN:VEVENT
DTSTART;TZID=UTC:20230527T141500
DTEND;TZID=UTC:20230527T151500
DTSTAMP:20260421T002246
CREATED:20230606T010533Z
LAST-MODIFIED:20230606T010547Z
UID:11717-1685196900-1685200500@www.club-o.org
SUMMARY:初嚐生機果露班
DESCRIPTION:初嚐生機果露班 \n日期： 5月27日 \n時間：14:15-15:15 \n地點： Club  O 活動室
URL:https://www.club-o.org/event/%e5%88%9d%e5%9a%90%e7%94%9f%e6%a9%9f%e6%9e%9c%e9%9c%b2%e7%8f%ad/
LOCATION:Club O\, 旺角亞皆老街86號昌明大厦7字樓FGH室
END:VEVENT
BEGIN:VEVENT
DTSTART;TZID=UTC:20230528T093000
DTEND;TZID=UTC:20230528T123000
DTSTAMP:20260421T002246
CREATED:20230606T001340Z
LAST-MODIFIED:20230606T001340Z
UID:11666-1685266200-1685277000@www.club-o.org
SUMMARY:5月份行山樂
DESCRIPTION:
URL:https://www.club-o.org/event/5%e6%9c%88%e4%bb%bd%e8%a1%8c%e5%b1%b1%e6%a8%82/
ATTACH;FMTTYPE=image/jpeg:https://www.club-o.org/wp-content/uploads/2023/06/5月份利山樂.jpg
END:VEVENT
BEGIN:VEVENT
DTSTART;TZID=UTC:20230601T103000
DTEND;TZID=UTC:20230601T130000
DTSTAMP:20260421T002246
CREATED:20230605T231539Z
LAST-MODIFIED:20230624T002104Z
UID:11642-1685615400-1685624400@www.club-o.org
SUMMARY:經絡穴位保健班 ｜ 單堂$50
DESCRIPTION:日期: 1/06-29/06 逢星期四 \n(22/06 端午節暫停一次) \n時間: 上午10:30至下午01:00 \n地點: 旺角亞皆老街86號 \n昌明大廈7樓G室 \n導師: 楊美美老師 \n費用: 單堂$50 \n課堂上導師會教授： \n\n\n刺激穴位能怎樣幫助療癒身心? \n\n\n人體的14條主經絡，與身心健康的關係?
URL:https://www.club-o.org/event/%e7%b6%93%e7%b5%a1%e7%a9%b4%e4%bd%8d%e4%bf%9d%e5%81%a5%e7%8f%ad-%ef%bd%9c-%e5%96%ae%e5%a0%8250/
LOCATION:Club O\, 旺角亞皆老街86號昌明大厦7字樓FGH室
ATTACH;FMTTYPE=image/png:https://www.club-o.org/wp-content/uploads/2023/06/6月經絡穴位保健班.png
END:VEVENT
BEGIN:VEVENT
DTSTART;TZID=UTC:20230601T191500
DTEND;TZID=UTC:20230601T204500
DTSTAMP:20260421T002246
CREATED:20230601T091508Z
LAST-MODIFIED:20230603T012833Z
UID:11538-1685646900-1685652300@www.club-o.org
SUMMARY:每月愛心圈 ｜自由定價
DESCRIPTION:
URL:https://www.club-o.org/event/%e6%af%8f%e6%9c%88%e6%84%9b%e5%bf%83%e5%9c%88-%ef%bd%9c%e8%87%aa%e7%94%b1%e5%ae%9a%e5%83%b9/
LOCATION:Club O\, 旺角亞皆老街86號昌明大厦7字樓FGH室
ATTACH;FMTTYPE=image/png:https://www.club-o.org/wp-content/uploads/2023/03/042023.png
END:VEVENT
BEGIN:VEVENT
DTSTART;TZID=UTC:20230610T103000
DTEND;TZID=UTC:20230610T120000
DTSTAMP:20260421T002246
CREATED:20230605T231957Z
LAST-MODIFIED:20230605T231957Z
UID:11648-1686393000-1686398400@www.club-o.org
SUMMARY:道家養生功 ｜ 會員$45 非會員$50
DESCRIPTION:道家養生功\n回歸自然 返歸自身\n日期：6月10日及24日 星期六 \n時間：上午10:30-12:00 \n地點：Club O活動室 \n*適合有基礎者，深入學習道家養生功
URL:https://www.club-o.org/event/%e9%81%93%e5%ae%b6%e9%a4%8a%e7%94%9f%e5%8a%9f-%ef%bd%9c-%e6%9c%83%e5%93%a145-%e9%9d%9e%e6%9c%83%e5%93%a150/
LOCATION:Club O\, 旺角亞皆老街86號昌明大厦7字樓FGH室
ATTACH;FMTTYPE=image/png:https://www.club-o.org/wp-content/uploads/2023/06/6月道家養生功.png
END:VEVENT
BEGIN:VEVENT
DTSTART;TZID=UTC:20230610T130000
DTEND;TZID=UTC:20230610T140000
DTSTAMP:20260421T002246
CREATED:20230605T232954Z
LAST-MODIFIED:20230605T232954Z
UID:11653-1686402000-1686405600@www.club-o.org
SUMMARY:禪食體驗🥢 ｜隨緣樂捐
DESCRIPTION:禪食 \n是飲食的方式 \n是綠色生活的文化 \n是集中專注力的練習 \n是五感和食物的覺察力互動 \n是心靈與食物的連結 \n \n我們提供簡單素食和安靜環境， \n讓大家慢食細嚼， \n帶出簡單素食的滋味。 \n靜味回歸自己帶來的幸福， \n達至籍「味」調息身心。 \n日期：6月 10日， 6月24日 \n時間：下午1:00 – 2:00 \n地點： Club O 活動室 \n*逾時不候
URL:https://www.club-o.org/event/%e7%a6%aa%e9%a3%9f%e9%ab%94%e9%a9%97%f0%9f%a5%a2-%ef%bd%9c%e9%9a%a8%e7%b7%a3%e6%a8%82%e6%8d%90/
LOCATION:Club O\, 旺角亞皆老街86號昌明大厦7字樓FGH室
ATTACH;FMTTYPE=image/png:https://www.club-o.org/wp-content/uploads/2023/06/1.png
END:VEVENT
BEGIN:VEVENT
DTSTART;TZID=UTC:20230610T143000
DTEND;TZID=UTC:20230610T154500
DTSTAMP:20260421T002246
CREATED:20230605T231032Z
LAST-MODIFIED:20230605T231032Z
UID:11638-1686407400-1686411900@www.club-o.org
SUMMARY:香功及簡約太極 ｜費用全免 隨緣樂捐
DESCRIPTION:日期：6月10日 星期六 \n時間：下午2:30 ～ 3:45 \n香功 ：歐振宗 簡約太極：黃美冠 \n地點： Club O活動室 \n 「香功」全稱為中國芳香智悟氣功，香功能調整陰陽疏通經絡脈道、促進氣血循環和新陳代謝，增強免疫力。「簡約太極」 ，又稱太極十八式 \, 涵蓋了太極的精華，太極結合了運動與冥想，可改善大腦功能。持之以恆練習，達致強身健體！
URL:https://www.club-o.org/event/%e9%a6%99%e5%8a%9f%e5%8f%8a%e7%b0%a1%e7%b4%84%e5%a4%aa%e6%a5%b5-%ef%bd%9c%e8%b2%bb%e7%94%a8%e5%85%a8%e5%85%8d-%e9%9a%a8%e7%b7%a3%e6%a8%82%e6%8d%90/
LOCATION:Club O\, 旺角亞皆老街86號昌明大厦7字樓FGH室
ATTACH;FMTTYPE=image/png:https://www.club-o.org/wp-content/uploads/2023/06/6月香功.png
END:VEVENT
BEGIN:VEVENT
DTSTART;TZID=UTC:20230614T140000
DTEND;TZID=UTC:20230614T153000
DTSTAMP:20260421T002246
CREATED:20230603T014816Z
LAST-MODIFIED:20230603T014816Z
UID:11628-1686751200-1686756600@www.club-o.org
SUMMARY:水果靜心🍎 ｜自由定價 🤲🏻
DESCRIPTION:
URL:https://www.club-o.org/event/%e6%b0%b4%e6%9e%9c%e9%9d%9c%e5%bf%83%f0%9f%8d%8e-%ef%bd%9c%e8%87%aa%e7%94%b1%e5%ae%9a%e5%83%b9-%f0%9f%a4%b2%f0%9f%8f%bb/
ATTACH;FMTTYPE=image/png:https://www.club-o.org/wp-content/uploads/2023/06/6月水果靜心.png
END:VEVENT
BEGIN:VEVENT
DTSTART;TZID=UTC:20230620T190000
DTEND;TZID=UTC:20230620T210000
DTSTAMP:20260421T002246
CREATED:20230606T015532Z
LAST-MODIFIED:20230606T015532Z
UID:11743-1687287600-1687294800@www.club-o.org
SUMMARY:21天蔬食挑戰 II
DESCRIPTION:21天蔬食挑戰 II \n日期： 6月20，27日 \n時間： 19:00-21:00 \n地點： Club O 活動室 \n*活動報名或詳情請 whatsapp 溫暖人間5226 7376查詢*
URL:https://www.club-o.org/event/21%e5%a4%a9%e8%94%ac%e9%a3%9f%e6%8c%91%e6%88%b0-ii/
END:VEVENT
BEGIN:VEVENT
DTSTART;TZID=UTC:20230624T130000
DTEND;TZID=UTC:20230624T140000
DTSTAMP:20260421T002246
CREATED:20230605T232954Z
LAST-MODIFIED:20230623T225337Z
UID:11657-1687611600-1687615200@www.club-o.org
SUMMARY:禪食體驗🥢 ｜隨緣樂捐
DESCRIPTION:禪食 \n是飲食的方式 \n是綠色生活的文化 \n是集中專注力的練習 \n是五感和食物的覺察力互動 \n是心靈與食物的連結 \n \n我們提供簡單素食和安靜環境， \n讓大家慢食細嚼， \n帶出簡單素食的滋味。 \n靜味回歸自己帶來的幸福， \n達至籍「味」調息身心。 \n日期：6月 10日， 6月24日 \n時間：下午1:00 – 2:00 \n地點： Club O 活動室 \n*逾時不候
URL:https://www.club-o.org/event/%e7%a6%aa%e9%a3%9f%e9%ab%94%e9%a9%97%f0%9f%a5%a2-%ef%bd%9c%e9%9a%a8%e7%b7%a3%e6%a8%82%e6%8d%90-2023-06-24/
LOCATION:Club O\, 旺角亞皆老街86號昌明大厦7字樓FGH室
ATTACH;FMTTYPE=image/png:https://www.club-o.org/wp-content/uploads/2023/06/1.png
END:VEVENT
BEGIN:VEVENT
DTSTART;TZID=UTC:20230624T143000
DTEND;TZID=UTC:20230624T154500
DTSTAMP:20260421T002246
CREATED:20230603T015535Z
LAST-MODIFIED:20230603T015535Z
UID:11633-1687617000-1687621500@www.club-o.org
SUMMARY:洗腸排毒講座 🧑🏻‍🏫｜自由定價（建議價$ 40）
DESCRIPTION:  \n\n一個成年人會有二十磅宿便藏於直腸裏，這些宿便往往做成發炎，甚至是癌症的源頭。即使每天正常排便，但都會有許多廢物及糞便囤積煮在腸內，當廢物開始分解就會產生毒素，毒素更會透過血液運行全身，加重肝臟負擔，令我們感到疲倦，加速老化。而皮膚作為身體的最大排毒器官，這會令到皮膚敏感，濕疹及風疹等問題都會出現。 \n\n\n\n洗腸其中一個功能就是清除這些宿便，改善大腸功能，增加腸道蠕動，減少便秘，幫助達到減肥及排毒效果。對女士而言，更可幫到舒緩經期不適的情況。 \n\n  \n講座嘉賓：曾勺溰小姐 \n\n修身堂首席浣腸治療師7年\n尖沙咀浣腸中心兩年\n經營屯門浣腸中心7年
URL:https://www.club-o.org/event/%e6%b4%97%e8%85%b8%e6%8e%92%e6%af%92%e8%ac%9b%e5%ba%a7-%f0%9f%a7%91%f0%9f%8f%bb%f0%9f%8f%ab%ef%bd%9c%e8%87%aa%e7%94%b1%e5%ae%9a%e5%83%b9%ef%bc%88%e5%bb%ba%e8%ad%b0%e5%83%b9-40%ef%bc%89/
ATTACH;FMTTYPE=image/png:https://www.club-o.org/wp-content/uploads/2023/06/6月洗腸排毒.png
END:VEVENT
BEGIN:VEVENT
DTSTART;TZID=UTC:20230704T190000
DTEND;TZID=UTC:20230704T210000
DTSTAMP:20260421T002246
CREATED:20230623T230327Z
LAST-MODIFIED:20230623T230327Z
UID:11760-1688497200-1688504400@www.club-o.org
SUMMARY:21天蔬食挑戰 II (3)🥬
DESCRIPTION:21天蔬食挑戰 II \n日期： 7月4，11日 \n時間： 19:00-21:00 \n地點： Club O 活動室 \n*活動報名或詳情請 whatsapp 溫暖人間5226 7376查詢*
URL:https://www.club-o.org/event/21%e5%a4%a9%e8%94%ac%e9%a3%9f%e6%8c%91%e6%88%b0-ii-3%f0%9f%a5%ac/
LOCATION:Club O\, 旺角亞皆老街86號昌明大厦7字樓FGH室
END:VEVENT
BEGIN:VEVENT
DTSTART;TZID=UTC:20230705T140000
DTEND;TZID=UTC:20230705T153000
DTSTAMP:20260421T002246
CREATED:20230624T001554Z
LAST-MODIFIED:20230624T001554Z
UID:11768-1688565600-1688571000@www.club-o.org
SUMMARY:水果靜心🍎 ｜自由定價 🤲🏻
DESCRIPTION:水果靜心班 \n日期：7月 5，12，19，26日 \n（固定每星期三） \n時間：下午2:00 ～ 3:30 \n導師：歐振宗 \n地點：Club O活動室 \n＊費用全免 隨緣樂捐＊
URL:https://www.club-o.org/event/%e6%b0%b4%e6%9e%9c%e9%9d%9c%e5%bf%83%f0%9f%8d%8e-%ef%bd%9c%e8%87%aa%e7%94%b1%e5%ae%9a%e5%83%b9-%f0%9f%a4%b2%f0%9f%8f%bb-2/
LOCATION:Club O\, 旺角亞皆老街86號昌明大厦7字樓FGH室
ATTACH;FMTTYPE=image/jpeg:https://www.club-o.org/wp-content/uploads/2023/06/7月水果靜心班.jpg
END:VEVENT
BEGIN:VEVENT
DTSTART;TZID=UTC:20230706T191500
DTEND;TZID=UTC:20230706T204500
DTSTAMP:20260421T002246
CREATED:20230624T002955Z
LAST-MODIFIED:20230624T002955Z
UID:11783-1688670900-1688676300@www.club-o.org
SUMMARY:愛心圈 ❤️🤲🏻
DESCRIPTION:Club O 手療師團隊： 愛心圈 \n日期:2023 年7 月 6日 \n（固定每月第一個星期四） \n時間: 晚上 07:15-08:45 \n地點: Club O 活動室 \n費用: 自由定價 \n歡迎所有想了解手療的朋友
URL:https://www.club-o.org/event/%e6%84%9b%e5%bf%83%e5%9c%88-%e2%9d%a4%ef%b8%8f%f0%9f%a4%b2%f0%9f%8f%bb/
LOCATION:Club O\, 旺角亞皆老街86號昌明大厦7字樓FGH室
ATTACH;FMTTYPE=image/jpeg:https://www.club-o.org/wp-content/uploads/2023/06/Club-O-身心靈活動-1.jpg
END:VEVENT
END:VCALENDAR