BEGIN:VCALENDAR
VERSION:2.0
PRODID:-//綠色生活教育基金 - ECPv6.15.18//NONSGML v1.0//EN
CALSCALE:GREGORIAN
METHOD:PUBLISH
X-WR-CALNAME:綠色生活教育基金
X-ORIGINAL-URL:https://www.club-o.org
X-WR-CALDESC:Events for 綠色生活教育基金
REFRESH-INTERVAL;VALUE=DURATION:PT1H
X-Robots-Tag:noindex
X-PUBLISHED-TTL:PT1H
BEGIN:VTIMEZONE
TZID:UTC
BEGIN:STANDARD
TZOFFSETFROM:+0000
TZOFFSETTO:+0000
TZNAME:UTC
DTSTART:20160101T000000
END:STANDARD
END:VTIMEZONE
BEGIN:VEVENT
DTSTART;TZID=UTC:20171019T163000
DTEND;TZID=UTC:20171019T180000
DTSTAMP:20260423T065611
CREATED:20171019T185334Z
LAST-MODIFIED:20171019T214509Z
UID:2294-1508430600-1508436000@www.club-o.org
SUMMARY:接收宇宙能量-療癒課
DESCRIPTION:每月多次舉行的送愛療癒聚會，由Club O療癒師義務發心接引宇宙療癒能量，與同場者合一共療，歡迎你陪同需要療癒的親友來Club O接收宇宙大愛能量，更歡迎你隨心光臨親身體驗祝福人間有緣眾生。\n● 「療癒課」：逢週四下午4:30-6:00 (禪食晚餐6:30開始)\n● 「愛心圈」：每月第1個星期六晚上7:00-8:45 (禪食晚餐6:00開始)\n● 以上節目由Victor D’Aquino、陳愛眉( Amy D’Aquino )、 豆豆率領Club O 療癒師團主持。\n● 地點：Club O會址G、H室
URL:https://www.club-o.org/event/%e6%8e%a5%e6%94%b6%e5%ae%87%e5%ae%99%e8%83%bd%e9%87%8f-%e7%99%82%e7%99%92%e8%aa%b2/
CATEGORIES:心靈互動
ATTACH;FMTTYPE=image/jpeg:https://www.club-o.org/wp-content/uploads/2017/06/TS_P0950-B3-00822-1-1920x1155.jpg
END:VEVENT
BEGIN:VEVENT
DTSTART;TZID=UTC:20171019T063000
DTEND;TZID=UTC:20171019T190000
DTSTAMP:20260423T065611
CREATED:20171019T184839Z
LAST-MODIFIED:20171019T214719Z
UID:2252-1508394600-1508439600@www.club-o.org
SUMMARY:來Club O禪食
DESCRIPTION:Club O 舉行獨一無二的靈性聚餐大會，由全體福廚志工用愛心炮製健康清淡的菜餚、茶、湯，安排美妙的環境，招待各方樂於出席的有緣人，分享進食的靈性、情緒、生理益處，一起吃出健康、慈悲、覺醒。\n每星期三次：\n● 逢星期四晚上6:30-7:30\n● 逢星期六午間1:30-2:30\n● 逢星期六晚上6:00-7:00 \n隨緣樂捐，將用作支持綠色生活教育工作。\n* 感謝Club O店有機菜的供應商馮志輝為週六的禪食捐出部分\n有機蔬菜。\n* 每月最後一個週四為禪食靜宴，需報名及收費，敬請留意。 \n•課程特色\nA. 以學分制為修讀方式，學習安排彈性靈活；\nB. 課程內容多樣，理論與實踐兼備，注重生活應用；\nC. 資深導師團隊，課程導師均為綠林中人，言行身教；\nD. 設有不同等級證書頒發，鼓勵學員逐步自我提升。\n•課程對象\n不論學歷、背景、性別，志在提升人生、追尋身心靈幸福，願意\n嘗試新鮮事物的人士，皆可參與。\n•課程內容\nA. 課程內容分為三大範疇：綠色飲食、綠色養生，以及綠色心\n靈系列，三者環環相扣。\nB. 每個系列之下包含了必修和選修的課程，其中包括各種課\n程、講座、工作坊、日營和外展活動。\nC. 參加者無需一開始即報讀整個證書課程，可以按興趣和機\n緣選擇參與，滿足學分基本要求後，即可獲頒發課程證書。
URL:https://www.club-o.org/event/%e4%be%86club-o%e7%a6%aa%e9%a3%9f/
CATEGORIES:綠色廚房
ATTACH;FMTTYPE=image/jpeg:https://www.club-o.org/wp-content/uploads/2017/10/34756255582_6786fc9ce2_k.jpg
END:VEVENT
BEGIN:VEVENT
DTSTART;TZID=UTC:20171007T190000
DTEND;TZID=UTC:20171007T204500
DTSTAMP:20260423T065611
CREATED:20171019T185702Z
LAST-MODIFIED:20171019T185702Z
UID:2310-1507402800-1507409100@www.club-o.org
SUMMARY:接收宇宙能量-愛心圈
DESCRIPTION:每月多次舉行的送愛療癒聚會，由Club O療癒師義務發心接引宇宙療癒能量，與同場者合一共療，歡迎你陪同需要療癒的親友來Club O接收宇宙大愛能量，更歡迎你隨心光臨親身體驗祝福人間有緣眾生。 \n● 「療癒課」：逢週四下午4:30-6:00 (禪食晚餐6:30開始)\n● 「愛心圈」：每月第1個星期六晚上7:00-8:45 (禪食晚餐6:00開始)\n● 以上節目由Victor D’Aquino、\n陳愛眉( Amy D’Aquino )、 豆豆率領Club O 療癒師團主持。\n● 地點：Club O會址G、H室
URL:https://www.club-o.org/event/%e6%8e%a5%e6%94%b6%e5%ae%87%e5%ae%99%e8%83%bd%e9%87%8f-%e6%84%9b%e5%bf%83%e5%9c%88/
CATEGORIES:心靈互動
ATTACH;FMTTYPE=image/jpeg:https://www.club-o.org/wp-content/uploads/2017/06/TS_P0950-B3-00822-1-1920x1155.jpg
END:VEVENT
BEGIN:VEVENT
DTSTART;TZID=UTC:20171003T190000
DTEND;TZID=UTC:20171003T204500
DTSTAMP:20260423T065611
CREATED:20171019T202719Z
LAST-MODIFIED:20171019T202719Z
UID:2220-1507057200-1507063500@www.club-o.org
SUMMARY:智能/武當氣功綜合班 (練氣十三勢 + 混合采氣法 + 形神莊)
DESCRIPTION:練氣十三勢 \n是太極、氣功練功長功的精要功法，也是調氣治病的基本功法。練氣是意氣的覺知運動，是人體之氣與大自然之氣的混化運動。通過練氣使人的生命活動得到強化，意識活動得到淨化，身心靈都得到全面提升。混合采氣法是智能氣功「捧氣貫頂法」與 武當「太乙採氣之四門八風」的結合功法。「捧氣貫頂法」是國家首批首選功法，是一切功法的根本。借助形體運動的開合來強化意識活動的開合，借此引動內氣外放與外氣內收。通過人體與大自然混合氣體的暢通，可疏通全身膜絡，打通人體關竅、穴道，使人體氣脈和暢，從而旺盛人體生命機能，收強身健體之效。武當「太乙採氣之四門八風」集合了歷史悠久的武當道家養生修練秘法，源於武當太乙採氣圖，著重下肢採氣及鍛練，更能針對老年人所需，加強腳部力量及平衡能力。 \n太極形神莊\n是著名氣功家龐明教授編創的精華功法，集諸家功法於一體。其功效有：抻筋拔骨、健美身形、和暢筋脈，對頸肩腰腿病、心血管疾病等慢性疾病有明顯療效。\n導師：鄧永強師兄\n– 全港首批國家認証辟穀養生指導師；-\n– 武當第十五代弟子「理康」;\n– 湖北省十堰市武當養生研究院認証導師；\n– 中華太極智慧學院副院長；\n– 資深氣功及辟穀養生踐行者及受益人 \n● 上課日期：10月3、10、17、24、31日；11月7、14、21、28日；\n12月5、12、19日（逢週二，共十二堂）\n● 時間：晚上7:00 – 8:45\n● 地點：Club O會址G、 H室\n● 收費：$1350(會員$1200)\n● 註：詳細功法介紹可參考《生機健康 第123、125及126期》
URL:https://www.club-o.org/event/%e6%99%ba%e8%83%bd%e6%ad%a6%e7%95%b6%e6%b0%a3%e5%8a%9f%e7%b6%9c%e5%90%88%e7%8f%ad-%e7%b7%b4%e6%b0%a3%e5%8d%81%e4%b8%89%e5%8b%a2-%e6%b7%b7%e5%90%88%e9%87%87%e6%b0%a3%e6%b3%95-%e5%bd%a2%e7%a5%9e/
CATEGORIES:新心靈工作坊
ATTACH;FMTTYPE=image/jpeg:https://www.club-o.org/wp-content/uploads/2017/10/tang.jpg
END:VEVENT
BEGIN:VEVENT
DTSTART;TZID=UTC:20170930T070000
DTEND;TZID=UTC:20171007T203000
DTSTAMP:20260423T065611
CREATED:20170930T023318Z
LAST-MODIFIED:20170930T023318Z
UID:2164-1506754800-1507408200@www.club-o.org
SUMMARY:講 座 日 期 更 改 通 知  (9月30日及10月7日的高能量晚會)
DESCRIPTION:講 座 日 期 更 改 通 知  \n \n原定9月30日高能量晚會 \n《一位年輕人的唐卡藝術追隨旅程》 (主講：周凱漩老師) \n因導師工作關係，將與10月7日高能量晚會 \n《♥愛心圈♥：收放溫柔的生命力》 (主持：Club O療癒師團) 對調， \n敬請留意。 \nClub O\n2017年9月2日
URL:https://www.club-o.org/event/%e8%ac%9b-%e5%ba%a7-%e6%97%a5-%e6%9c%9f-%e6%9b%b4-%e6%94%b9-%e9%80%9a-%e7%9f%a5-9%e6%9c%8830%e6%97%a5%e5%8f%8a10%e6%9c%887%e6%97%a5%e7%9a%84%e9%ab%98%e8%83%bd%e9%87%8f%e6%99%9a%e6%9c%83/
END:VEVENT
BEGIN:VEVENT
DTSTART;TZID=UTC:20170929T123000
DTEND;TZID=UTC:20170929T140000
DTSTAMP:20260423T065611
CREATED:20170923T235401Z
LAST-MODIFIED:20170923T235923Z
UID:2148-1506688200-1506693600@www.club-o.org
SUMMARY:自在茹素
DESCRIPTION:每天營養役役，吃午飯也只是匆匆忙忙。誠邀大家回來 Club O ，用慢活的心情品嚐蔬菜造成的有營午參，更可學習重點食材的烹飪技巧及營養知識，享受輕鬆自在的悠閒午間。 \n*午餐包括前菜、沙律、湯及飯菜。 需最少一日前致電 Club O 預訂。 \n  \n菜色每次都不一樣的！ \n 
URL:https://www.club-o.org/event/%e8%87%aa%e5%9c%a8%e8%8c%b9%e7%b4%a0/
LOCATION:Club O\, 旺角亞皆老街86號昌明大厦7字樓FGH室
CATEGORIES:綠色廚房
ATTACH;FMTTYPE=image/jpeg:https://www.club-o.org/wp-content/uploads/2017/09/26535345855_91af074ebf_z.jpg
END:VEVENT
BEGIN:VEVENT
DTSTART;TZID=UTC:20170924T100000
DTEND;TZID=UTC:20170924T130000
DTSTAMP:20260423T065611
CREATED:20171019T193646Z
LAST-MODIFIED:20171019T193646Z
UID:2348-1506247200-1506258000@www.club-o.org
SUMMARY:能量療癒義診
DESCRIPTION:運用擴大療癒法的雷射光束，掃瞄、清理、釋放、轉化、重建身體的所有系統、細胞與電子，並療愈精微體，治療身、心、靈各層面的問題，為生命帶來完整與完美。 \n● 治療師：蔡頴輝（註冊中醫師、香港大學行為健康碩士）\n● 日期及時間：9月24日及10月29日\n(每月最後一個週日) 上午10:00-下午1:00\n● 地點：Club O會址B室\n● 費用：隨緣樂捐，支持綠色生活教育事業\n● 登記：每月第一個工作天開始報名，\n請預先登記及準時出席，額滿即止。\n● 註：每次治療時間約為一小時
URL:https://www.club-o.org/event/%e8%83%bd%e9%87%8f%e7%99%82%e7%99%92%e7%be%a9%e8%a8%ba/
CATEGORIES:心靈互動
END:VEVENT
BEGIN:VEVENT
DTSTART;TZID=UTC:20170917T100000
DTEND;TZID=UTC:20170917T130000
DTSTAMP:20260423T065611
CREATED:20171019T202456Z
LAST-MODIFIED:20171019T202456Z
UID:2357-1505642400-1505653200@www.club-o.org
SUMMARY:音叉療癒法 (Tuning Fork Therapy)
DESCRIPTION:每支音叉都有特定的振頻，能與身體各穴位和器官產生共振，互相影響、淨化、調整及提升身體、情緒及靈性層面上失衡的能量頻率。音叉能令身體產生共震波頻模式，有助引發身體釋放一氧化氮，帶來深層平靜，快速調校和修復失衡的細胞。\n音叉療癒過程能幫助你了解身心靈層面及脈輪狀態，配合靜心練習、穴位、香薰、天使及水晶去加強治療效果。最後亦會給予日常生活習慣的改善建議，以延續治療效果。 \n● 治療師：馬如真Eugenia（註冊社工、音叉療癒師及靈性治療者）\n善於心靈輔導、藝術治療、音叉療癒法、生命自覺(Focusing)、塔\n羅牌、奧修禪卡、生命數字、脈輪、冥想、水晶、擴大療法等。\n● 日期及時間：9月17日及10月22日 上午10:00-下午1:00\n● 地點：Club O會址B室\n● 費用：隨緣樂捐，支持綠色生活教育事業\n● 登記：每月第一個工作天開始報名，請預先登記及準時出席， 額\n滿即止。\n● 註：每次諮詢時間約為1小時
URL:https://www.club-o.org/event/%e9%9f%b3%e5%8f%89%e7%99%82%e7%99%92%e6%b3%95-tuning-fork-therapy/
CATEGORIES:心靈互動
END:VEVENT
BEGIN:VEVENT
DTSTART;TZID=UTC:20170917T100000
DTEND;TZID=UTC:20170917T100000
DTSTAMP:20260423T065611
CREATED:20171019T213913Z
LAST-MODIFIED:20171019T213913Z
UID:2521-1505642400-1505642400@www.club-o.org
SUMMARY:齊齊練功（瑜伽操、八段錦）
DESCRIPTION:● 導師：湛燕歡、黃美冠\n● 日期：9月17日、10月22日 (週日)\n● 集合：早上10:00尖沙咀九龍公園泳池入口處
URL:https://www.club-o.org/event/%e9%bd%8a%e9%bd%8a%e7%b7%b4%e5%8a%9f%ef%bc%88%e7%91%9c%e4%bc%bd%e6%93%8d%e3%80%81%e5%85%ab%e6%ae%b5%e9%8c%a6%ef%bc%89/
CATEGORIES:身心舒展
END:VEVENT
BEGIN:VEVENT
DTSTART;TZID=UTC:20170915T093000
DTEND;TZID=UTC:20170915T233000
DTSTAMP:20260423T065611
CREATED:20171019T182251Z
LAST-MODIFIED:20171019T182251Z
UID:2208-1505467800-1505518200@www.club-o.org
SUMMARY:修心瑜伽
DESCRIPTION:根據印度Sivananda Yoga傳統的教法，進行各方面的練習，包括體位、呼吸法、冥想、瑜伽理論、梵音唱頌。另加入導師在瑜伽的修心領會結合。以上的內容將因應每次學生的身心狀況有所調整。並且導師會走近學生的身旁作適度調節。\n● 導師：梁惠敏Karuna\n● 日期：9月15、22、29日；\n10月6、27日（逢週五，共五堂）\n● 時間：上午9:30 – 11:30\n● 地點：Club O會址G、H室\n● 收費：$1180(會員$1130)\n＊ 注意事項＊\n＊ 課前1小時儘量避免飲食。\n＊ 鬆身衣物，可帶備外套，以備場地冷氣過冷。\n＊ 為了衛生需要，請在課前清洗腳。\n＊ 如有任何身體問題，請於上課前通知導師。\n＊ 瑜伽就是專注。請各位同學專注留意自己身體狀況，切記不\n要勉強；任何幫助我們發展專注力和了解自己的練習都是\n瑜伽練習。\n＊ 遲到同學不用心急，請於課室較後位置鋪墊坐下，然後數息\n定神。待心神安定才加入。
URL:https://www.club-o.org/event/%e4%bf%ae%e5%bf%83%e7%91%9c%e4%bc%bd/
CATEGORIES:新心靈工作坊
ATTACH;FMTTYPE=image/jpeg:https://www.club-o.org/wp-content/uploads/2017/10/marion-michele-191320-scaled.jpg
END:VEVENT
BEGIN:VEVENT
DTSTART;TZID=UTC:20170913T193000
DTEND;TZID=UTC:20170913T210000
DTSTAMP:20260423T065611
CREATED:20171019T180923Z
LAST-MODIFIED:20171019T180923Z
UID:2195-1505331000-1505336400@www.club-o.org
SUMMARY:道家養生功練習工作坊
DESCRIPTION:以道家無諍和諧的思想，指引人可健康、活潑、自由地盡天年。通過一套動靜相兼的活動使肢體運轉柔軟，令臟腑運作正常，調節分泌機能，進而感應道家精神世界，天地萬物本無人為界線。從根源性提升我們身心的質素，激發內在潛能，發現我們的心靈都有智慧與慈悲的存在。\n內容：A) 十二式動功 B) 頭面部穴位按摩 C) 靜坐\n● 導師：李踐生（Club O道家養生功導師）\n● 日期：9月13、27日；10月11、25日（逢週三，共四堂）\n● 時間：晚上7:30 – 9:00\n● 地點：Club O會址G、H室\n● 收費：$360(會員$320)
URL:https://www.club-o.org/event/%e9%81%93%e5%ae%b6%e9%a4%8a%e7%94%9f%e5%8a%9f%e7%b7%b4%e7%bf%92%e5%b7%a5%e4%bd%9c%e5%9d%8a/
CATEGORIES:新心靈工作坊
ATTACH;FMTTYPE=image/jpeg:https://www.club-o.org/wp-content/uploads/2017/10/34026913023_c9f0c389a7_k.jpg
END:VEVENT
BEGIN:VEVENT
DTSTART;TZID=UTC:20170911T190000
DTEND;TZID=UTC:20170911T210000
DTSTAMP:20260423T065611
CREATED:20171019T212035Z
LAST-MODIFIED:20171019T212035Z
UID:2452-1505156400-1505163600@www.club-o.org
SUMMARY:健美秀身瑜伽班 - A班
DESCRIPTION:導師：李玉芳 \n時間：星期一晚上 7:00 – 9:00 \n上課日期：9月11\, 18\, 25日 10月2\, 9\, 16\, 23\, 30日 \n上課地點：Club O 會址 G、H 室 \n堂數/費用(每月)： \n3堂 $330 (會員$300) \n4堂 $440 (會員$400) \n5堂 $550 (會員$500) \n*試堂：$120 (會員$110) \n名額：每班15o人(先到先得) \n  \n  \n 
URL:https://www.club-o.org/event/%e5%81%a5%e7%be%8e%e7%a7%80%e8%ba%ab%e7%91%9c%e4%bc%bd%e7%8f%ad-a%e7%8f%ad/
CATEGORIES:身心舒展
ATTACH;FMTTYPE=image/jpeg:https://www.club-o.org/wp-content/uploads/2017/10/marion-michele-191320-scaled.jpg
END:VEVENT
BEGIN:VEVENT
DTSTART;TZID=UTC:20170902T100000
DTEND;TZID=UTC:20170902T110000
DTSTAMP:20260423T065611
CREATED:20171019T212637Z
LAST-MODIFIED:20171019T212637Z
UID:2330-1504346400-1504350000@www.club-o.org
SUMMARY:玄功易學保青春
DESCRIPTION:玄功二十訣是道家著名養生功法，簡單易學，能活化全身骨椎血液，活絡全身活動關節，只要次序井然勤練習，便可卻病延年。 \n● 義務導師：錢福培、李行健\n● 日期及時間：9月2、16日；10月7、21日\n(每月第一、三個星期六)上午10:00-11:00\n● 地點：Club O 會址G、H室\n● 費用：每堂$30(會員$25)，全部撥歸Club O以支持綠色生活教育\n事業。每月第1堂即場報名。
URL:https://www.club-o.org/event/%e7%8e%84%e5%8a%9f%e6%98%93%e5%ad%b8%e4%bf%9d%e9%9d%92%e6%98%a5-2/
CATEGORIES:心靈互動
END:VEVENT
BEGIN:VEVENT
DTSTART;TZID=UTC:20170901T191500
DTEND;TZID=UTC:20170901T211500
DTSTAMP:20260423T065611
CREATED:20171019T212359Z
LAST-MODIFIED:20171019T212359Z
UID:2473-1504293300-1504300500@www.club-o.org
SUMMARY:健美秀身瑜伽班 - B班
DESCRIPTION:導師：王玉珍 \n時間：星期五晚上 7:15 – 9:15 \n上課日期：9月1\, 8\, 15\, 22日 \, 10月6\, 13\, 20\, 27日 \n上課地點：Club O 會址 G、H 室 \n堂數/費用(每月)： \n3堂 $330 (會員$300) \n4堂 $440 (會員$400) \n5堂 $550 (會員$500) \n*試堂：$120 (會員$110) \n名額：每班15o人(先到先得)
URL:https://www.club-o.org/event/%e5%81%a5%e7%be%8e%e7%a7%80%e8%ba%ab%e7%91%9c%e4%bc%bd%e7%8f%ad-b%e7%8f%ad/
CATEGORIES:身心舒展
ATTACH;FMTTYPE=image/jpeg:https://www.club-o.org/wp-content/uploads/2017/10/marion-michele-191320-scaled.jpg
END:VEVENT
BEGIN:VEVENT
DTSTART;TZID=UTC:20170722T190000
DTEND;TZID=UTC:20170722T204500
DTSTAMP:20260423T065611
CREATED:20171025T212657Z
LAST-MODIFIED:20171026T180347Z
UID:2656-1500750000-1500756300@www.club-o.org
SUMMARY:「讓愛在家庭流動」工作坊
DESCRIPTION:主講：Donna Wong and DreamTeam\n\n\n如果家庭，可以暢所欲言，直接表達內心真實感受，如果家庭，可以互相支持和分享，產生情感連接，如果家庭，可以成為我們最安全，最舒暢，擁有真我的天堂！也許，這是我們渴望的家庭-有愛的流動！如何與別人產生深刻的情感連結，如何讀懂自己，讀懂別人，讓我們一起分享和聆聽生命故事，讓愛先在自己身上流動！如何讓愛在家庭流動？答案就在你我的生命故事中。 \n\n			\n		\n	\n	\n	\n	\n		1「讓愛在家庭流動」工作坊2「讓愛在家庭流動」工作坊3「讓愛在家庭流動」工作坊
URL:https://www.club-o.org/event/%e3%80%8c%e8%ae%93%e6%84%9b%e5%9c%a8%e5%ae%b6%e5%ba%ad%e6%b5%81%e5%8b%95%e3%80%8d%e5%b7%a5%e4%bd%9c%e5%9d%8a/
CATEGORIES:網上錄音,高能量晚會
ATTACH;FMTTYPE=image/jpeg:https://www.club-o.org/wp-content/uploads/2017/10/alberto-casetta-349138-scaled.jpg
END:VEVENT
BEGIN:VEVENT
DTSTART;TZID=UTC:20170715T160000
DTEND;TZID=UTC:20170715T173000
DTSTAMP:20260423T065611
CREATED:20171019T205608Z
LAST-MODIFIED:20171026T180618Z
UID:2443-1500134400-1500139800@www.club-o.org
SUMMARY:依附行為
DESCRIPTION:主講：司徒素雪\n（心理學博士生、臨床催眠治療師、網上電台心理學節目主持）\n\n\n與伴侶相處，你屬於過份緊張，還是疏離冷漠？原來成年的親密關係有機會受兒童時期的親子關係影響。那麼，你是屬於哪一種依附行為呢？本講座以心理學研究為你解釋依附行為，讓你認識自己，有助改善伴侶關係。 \n\n			\n		\n	\n	\n	\n	\n		1 依附行為2 依附行為3 依附行為4 依附行為5 依附行為
URL:https://www.club-o.org/event/%e4%be%9d%e9%99%84%e8%a1%8c%e7%82%ba/
CATEGORIES:綠色茶座,網上錄音
ATTACH;FMTTYPE=image/jpeg:https://www.club-o.org/wp-content/uploads/2017/10/Stephanie-Szeto.jpg
END:VEVENT
BEGIN:VEVENT
DTSTART;TZID=UTC:20170709T140000
DTEND;TZID=UTC:20170709T170000
DTSTAMP:20260423T065611
CREATED:20180412T200157Z
LAST-MODIFIED:20180615T192845Z
UID:3518-1499608800-1499619600@www.club-o.org
SUMMARY:素食兒科醫生與BB茶聚
DESCRIPTION:https://www.club-o.org/wp-content/uploads/2018/04/20170709.mp3
URL:https://www.club-o.org/event/%e7%b4%a0%e9%a3%9f%e5%85%92%e7%a7%91%e9%86%ab%e7%94%9f%e8%88%87bb%e8%8c%b6%e8%81%9a/
LOCATION:Club O\, 旺角亞皆老街86號昌明大厦7字樓FGH室
CATEGORIES:綠色茶座,網上錄音
END:VEVENT
BEGIN:VEVENT
DTSTART;TZID=UTC:20170708T190000
DTEND;TZID=UTC:20170708T204500
DTSTAMP:20260423T065611
CREATED:20171025T212041Z
LAST-MODIFIED:20171026T180844Z
UID:2648-1499540400-1499546700@www.club-o.org
SUMMARY:認識腸漏症
DESCRIPTION:主講：陳玉輝\n（整全營養治療師、經筋治療師）\n\n\n腸道是人免疫最前線，而腸漏症任何人都會患上，它會誘發免疫反噬，包括紅斑狼瘡、類風濕性關節炎、濕疹、克隆氏症、腸易激綜合症。「腸腦」為人體的第二大腦，與掌控情緒與心理疾病關係密切；它亦是中毒百病之源。今日導師會分享腸漏症最新醫學臨床報告以及講解如何解「腸腦」毒。 \n\n			\n		\n	\n	\n	\n	\n		1 認識腸漏症2 認識腸漏症3 認識腸漏症4 認識腸漏症5 認識腸漏症
URL:https://www.club-o.org/event/%e8%aa%8d%e8%ad%98%e8%85%b8%e6%bc%8f%e7%97%87/
CATEGORIES:網上錄音,高能量晚會
ATTACH;FMTTYPE=image/jpeg:https://www.club-o.org/wp-content/uploads/2017/10/piron-guillaume-367208-scaled.jpg
END:VEVENT
BEGIN:VEVENT
DTSTART;TZID=UTC:20170708T160000
DTEND;TZID=UTC:20170708T173000
DTSTAMP:20260423T065611
CREATED:20171019T205319Z
LAST-MODIFIED:20171026T180851Z
UID:2435-1499529600-1499535000@www.club-o.org
SUMMARY:心想事成大法
DESCRIPTION:主講：曾焯文博士\n（本土新聞創辦人，綠色行者，語言翻譯學家）\n\n\n介紹美國靈性大師歌達(NEVILLE GODDARD)(一九零五至一九七二年)的心想事成大法。歌達重新詮釋聖經，認為意識決定現實，上帝即存在意識，耶穌象徵上帝忘我自貶為凡人，人一旦覺悟自己的想像力即上帝，就復活與神同行。本講座引述新舊約經文，配合親身經驗，教大家如何想像旁人賀自己得償素願，十分歡喜，結果夢想成真。 \n\n			\n		\n	\n	\n	\n	\n		1 心想事成大法2 心想事成大法3 心想事成大法4 心想事成大法
URL:https://www.club-o.org/event/%e5%bf%83%e6%83%b3%e4%ba%8b%e6%88%90%e5%a4%a7%e6%b3%95/
CATEGORIES:綠色茶座,網上錄音
ATTACH;FMTTYPE=image/jpeg:https://www.club-o.org/wp-content/uploads/2017/10/dick-scaled.jpg
END:VEVENT
BEGIN:VEVENT
DTSTART;TZID=UTC:20170702T143000
DTEND;TZID=UTC:20170702T153000
DTSTAMP:20260423T065611
CREATED:20170622T005950Z
LAST-MODIFIED:20170622T013035Z
UID:1736-1499005800-1499009400@www.club-o.org
SUMMARY:「源氣」晶礦石治療班
DESCRIPTION:主持:林敏怡\n著名音樂人及治療師林敏怡開辦「源氣」晶 礦石治療班。16億年的遠古「源氣」晶礦石 功效不可思議，包括淨化心靈、平衡身體氣 場、防禦電磁波等等。 \n● 日期及時間:7月2日及8月6日 \n(每月第一個週日) 下午2:30-3:30 \n● 地點:Club O會址G、H室 \n● 收費:隨緣捐助，支持綠色生活教育事業。 \nwww.anchi-crystals.com
URL:https://www.club-o.org/event/%e3%80%8c%e6%ba%90%e6%b0%a3%e3%80%8d%e6%99%b6%e7%a4%a6%e7%9f%b3%e6%b2%bb%e7%99%82%e7%8f%ad/
CATEGORIES:心靈互動
ATTACH;FMTTYPE=image/jpeg:https://www.club-o.org/wp-content/uploads/2017/06/bkn-20170226062715644-0226_00862_001_02p.jpg
END:VEVENT
BEGIN:VEVENT
DTSTART;TZID=UTC:20170701T160000
DTEND;TZID=UTC:20170701T173000
DTSTAMP:20260423T065611
CREATED:20171019T204826Z
LAST-MODIFIED:20171026T180856Z
UID:2426-1498924800-1498930200@www.club-o.org
SUMMARY:太極形神莊及循經導引法
DESCRIPTION:主講：鄧永強師兄\n（中華太極智慧學院副院長，香港首批全國認証辟穀指導師）\n\n\n此功法是著名氣功家龐明教授編創的精華功法，集諸家功法於一體。其功效有：抻筋拔骨、健美身形、和暢筋脈，對頸肩腰腿病、心血管疾病等慢性疾病有明顯療效。今日鄧師兄會簡介這兩套功法，一齊來了解下會對身體有什麼功效！ \n\n			\n		\n	\n	\n	\n	\n		1 太極形神莊及循經導引法2 太極形神莊及循經導引法3 太極形神莊及循經導引法4 太極形神莊及循經導引法
URL:https://www.club-o.org/event/%e5%a4%aa%e6%a5%b5%e5%bd%a2%e7%a5%9e%e8%8e%8a%e5%8f%8a%e5%be%aa%e7%b6%93%e5%b0%8e%e5%bc%95%e6%b3%95/
CATEGORIES:綠色茶座,網上錄音
ATTACH;FMTTYPE=image/jpeg:https://www.club-o.org/wp-content/uploads/2017/10/35191153542_c10cc54eaf_h.jpg
END:VEVENT
BEGIN:VEVENT
DTSTART;TZID=UTC:20170629T043000
DTEND;TZID=UTC:20170629T180000
DTSTAMP:20260423T065611
CREATED:20170622T004033Z
LAST-MODIFIED:20170622T010217Z
UID:1714-1498710600-1498759200@www.club-o.org
SUMMARY:接收宇宙能量
DESCRIPTION:主持 : Victor D ́Aquino、陳愛眉( Amy D ́Aquino )、 豆豆率領Club O 療癒師團。\n每月多次舉行的送愛療癒聚會，由Club O療癒 師義務發心接引宇宙療癒能量，與同場者合一 共療，歡迎你陪同需要療癒的親友來Club O接 收宇宙大愛能量，更歡迎你隨心光臨親身體驗 祝福人間有緣眾生。 \n\n 「療癒課」: 逢週四下午4:30-6:00 (禪食晚餐6:30開始)\n 「愛心圈」: 每月第1個星期六晚上7:00-8:45 (禪食晚餐6:00開始)\n 地點:Club O會址G、H室
URL:https://www.club-o.org/event/%e6%8e%a5%e6%94%b6%e5%ae%87%e5%ae%99%e8%83%bd%e9%87%8f/
CATEGORIES:心靈互動
ATTACH;FMTTYPE=image/jpeg:https://www.club-o.org/wp-content/uploads/2017/06/TS_P0950-B3-00822-1-1920x1155.jpg
END:VEVENT
BEGIN:VEVENT
DTSTART;VALUE=DATE:20170626
DTEND;VALUE=DATE:20170627
DTSTAMP:20260423T065611
CREATED:20170622T001747Z
LAST-MODIFIED:20210908T011313Z
UID:1711-1498435200-1498521599@www.club-o.org
SUMMARY:(Club O 店及辦事處 休息 - closed)
DESCRIPTION:
URL:https://www.club-o.org/event/club-o-%e5%ba%97%e5%8f%8a%e8%be%a6%e4%ba%8b%e8%99%95-%e4%bc%91%e6%81%af-closed/
CATEGORIES:admin
END:VEVENT
BEGIN:VEVENT
DTSTART;TZID=UTC:20170624T150000
DTEND;TZID=UTC:20170624T160000
DTSTAMP:20260423T065611
CREATED:20170622T004530Z
LAST-MODIFIED:20170622T013050Z
UID:1719-1498316400-1498320000@www.club-o.org
SUMMARY:香功、瑜伽關節操、道家養生功
DESCRIPTION:導師 : 胡錦文、歐振宗、湛燕歡\n● 日期及時間:逢星期六下午3:00-4:00 \n● 地點:Club O會址G、H室 \n● 費用:隨緣樂捐，支持綠色生活教育事業 \n  \n\n\n香功易學、氣感強、療效神奇、好玩，不但可加強免疫力，益壽延 年，還能減壓安睡、優化內心世界、調和情緒，令你更自在可愛。瑜伽關節操由上而下伸展關節，為各種運動最好的熱身準備，對 改善關節功能，有莫大裨益。 \n道家養生功是一套以「內臟體操」為主，通過抖動以及模仿大鵬、 靈龜、金蟾、神龍與鳳凰之動作而成的運動。初步可令到肢體運轉 柔軟，進而調節內分泌抗體，增強人體免疫力。 \n 
URL:https://www.club-o.org/event/%e9%a6%99%e5%8a%9f%e3%80%81%e7%91%9c%e4%bc%bd%e9%97%9c%e7%af%80%e6%93%8d%e3%80%81%e9%81%93%e5%ae%b6%e9%a4%8a%e7%94%9f%e5%8a%9f/
CATEGORIES:心靈互動
END:VEVENT
BEGIN:VEVENT
DTSTART;TZID=UTC:20170622T080000
DTEND;TZID=UTC:20170622T170000
DTSTAMP:20260423T065611
CREATED:20170622T005107Z
LAST-MODIFIED:20170622T013103Z
UID:1723-1498118400-1498150800@www.club-o.org
SUMMARY:玄功易學保青春
DESCRIPTION:義務導師 : 錢福培、李行健\n●  日期及時間:7月1\, 15日，8月5日 \n(每月第一、三個星期六)上午10:00-11:00 \n●  地點:Club O 會址G、H室 \n●  費用:每堂$30(會員$25)，全部撥歸Club O以支持綠色生活教育 事業。每月第1堂即場報名。 \n玄功二十訣是道家著名養生功法，簡單易學，能活化全身骨椎血 液，活絡全身活動關節，只要次序井然勤練習，便可卻病延年。
URL:https://www.club-o.org/event/%e7%8e%84%e5%8a%9f%e6%98%93%e5%ad%b8%e4%bf%9d%e9%9d%92%e6%98%a5/
LOCATION:Club O\, 旺角亞皆老街86號昌明大厦7字樓FGH室
CATEGORIES:心靈互動
END:VEVENT
BEGIN:VEVENT
DTSTART;TZID=UTC:20170617T160000
DTEND;TZID=UTC:20170617T173000
DTSTAMP:20260423T065611
CREATED:20171019T204532Z
LAST-MODIFIED:20171026T180901Z
UID:2412-1497715200-1497720600@www.club-o.org
SUMMARY:香港回憶
DESCRIPTION:主講：區仕美、陳慧敏\n\n\n全港市民曾被邀請從一百項候選香建築物名單當中，投票選出十項他們最愛的建築。投票結果得獎建築包括（排名按筆劃序）：九龍城寨、大澳棚屋、山頂纜車、尖沙咀天星碼頭連五支旗桿和中環天星碼頭、志蓮淨苑、香港大學本部樓、香港國際機場、海洋公園、雷生春，以及舊尖沙咀火車總站連尖沙咀鐘樓。名單當中既有盛載港人成長回憶和情感的建築，亦反映本土特色、歷史文化、建築美學和社會發展的項目，盡見本地多元的獨特之處。你的看法是什麼? \n講者投影片1：香港回憶-1 \n講者投影片2:  香港回憶-2 \n\n			\n		\n	\n	\n	\n	\n		1 香港回憶2 香港回憶3 香港回憶4 香港回憶5 香港回憶
URL:https://www.club-o.org/event/%e9%a6%99%e6%b8%af%e5%9b%9e%e6%86%b6/
CATEGORIES:綠色茶座,網上錄音
ATTACH;FMTTYPE=image/jpeg:https://www.club-o.org/wp-content/uploads/2017/10/34056052852_003517fbfe_k.jpg
END:VEVENT
BEGIN:VEVENT
DTSTART;TZID=UTC:20170615T080000
DTEND;TZID=UTC:20170615T170000
DTSTAMP:20260423T065611
CREATED:20170615T013159Z
LAST-MODIFIED:20170912T131146Z
UID:1473-1497513600-1497546000@www.club-o.org
SUMMARY:自製梅果汁
DESCRIPTION:自製梅酒，相信你也聽過，也會懂做。\n不勝酒意的你，有什麼可以選擇呢？\n你有想過自製梅果汁，製作材料其實很簡單，不需要任何機器、化學調味料，只要一雙手及一個樽就可以製作了！ 唯一的調味就是糖， 糖也可以選擇的， 這樣飲下去，就不會有罪惡感，至少避免化學果糖吧！\n*請自行攜帶已消毒的玻璃樽 \n● 導師：岸本太太\n（香港女生，日本媳婦；《無難度燜燒杯料理》作者）\n● 日期：6月4日(週日)\n● 時間：上午11:00 – 下午1:30\n● 地點：Club O 會址G、H室\n● 費用：$248(會員$218)\n● Facebook：Mrs.Kishimoto 岸本家媳婦
URL:https://www.club-o.org/event/%e8%87%aa%e8%a3%bd%e6%a2%85%e6%9e%9c%e6%b1%81/
CATEGORIES:綠色廚房
END:VEVENT
BEGIN:VEVENT
DTSTART;TZID=UTC:20170610T190000
DTEND;TZID=UTC:20170610T204500
DTSTAMP:20260423T065611
CREATED:20171025T205053Z
LAST-MODIFIED:20171026T180907Z
UID:2630-1497121200-1497127500@www.club-o.org
SUMMARY:沖劑好定煲藥好？—— 吃中藥問題全面剖析
DESCRIPTION:主講：李宇銘博士\n（中醫師）\n\n\n現在流行中藥濃縮沖劑，究竟吃濃縮沖劑好還是 自己煲藥好？吃中成藥又怎麼樣？藥材打粉與沖 劑有甚麼不同？中藥材含有農藥重金屬嗎？怎樣 分辨中藥材優劣？如何避免假冒偽劣藥材？煲中 藥之前要不要洗藥？藥材要不要浸泡？煲中藥是 否應該翻煲？藥方之中藥味種類多好還是藥味少 好？本次講座邀請了中醫專家李宇銘博士，與你 全面剖析吃中藥的各種常見問題。 \n\n			\n		\n	\n	\n	\n	\n		1 沖劑好定煲藥好？—— 吃中藥問題全面剖析2 沖劑好定煲藥好？—— 吃中藥問題全面剖析3 沖劑好定煲藥好？—— 吃中藥問題全面剖析4 沖劑好定煲藥好？—— 吃中藥問題全面剖析5 沖劑好定煲藥好？—— 吃中藥問題全面剖析
URL:https://www.club-o.org/event/%e6%b2%96%e5%8a%91%e5%a5%bd%e5%ae%9a%e7%85%b2%e8%97%a5%e5%a5%bd%ef%bc%9f-%e5%90%83%e4%b8%ad%e8%97%a5%e5%95%8f%e9%a1%8c%e5%85%a8%e9%9d%a2%e5%89%96%e6%9e%90/
CATEGORIES:網上錄音,高能量晚會
ATTACH;FMTTYPE=image/jpeg:https://www.club-o.org/wp-content/uploads/2017/10/Chinese-Herbs.jpg
END:VEVENT
BEGIN:VEVENT
DTSTART;TZID=UTC:20170610T160000
DTEND;TZID=UTC:20170610T173000
DTSTAMP:20260423T065611
CREATED:20171019T203837Z
LAST-MODIFIED:20171026T180912Z
UID:2403-1497110400-1497115800@www.club-o.org
SUMMARY:太極醫道——太極龍虎宴、辟穀治病法
DESCRIPTION:主講：楊雲中\n（太極智慧學院院長，如是太極太極拳創始人）\n\n\n太極龍虎宴辟穀法是國學大師，養生專家，人的科學創始人龐明教授傳授的，是傳統的經典辟穀功法，是太極醫道的重要功法。通過龍咽津液虎喉呼吸打開生命第二模式，駕馭宇宙第三層物質，強化意識主宰生命的能力，汲取大自然中最精微的能量，增強人體與大自然信息和能量的交換，減少或斷除對有形物質依賴，使人的生命活動得到自由解放，意識活動自覺光明。 \n龍虎宴辟穀治病法可使百病早癒——腸胃全面休息，全面啟動自我療癒的機制，發揮器官自動修復功能，讓身體自動恢復各種平衡(血壓、體重、血糖量、體質寒熱等)的作用，加速各種大小病患快速痊癒，尤其是結石、痔瘡、腫瘤、腸胃病、皮膚病、敏感性、肝病、糖尿、心臟血管症、感冒、發燒等。。 \n\n			\n		\n	\n	\n	\n	\n		1 太極醫道——太極龍虎宴、辟穀治病法2 太極醫道——太極龍虎宴、辟穀治病法3 太極醫道——太極龍虎宴、辟穀治病法4 太極醫道——太極龍虎宴、辟穀治病法5 太極醫道——太極龍虎宴、辟穀治病法
URL:https://www.club-o.org/event/%e5%a4%aa%e6%a5%b5%e9%86%ab%e9%81%93-%e5%a4%aa%e6%a5%b5%e9%be%8d%e8%99%8e%e5%ae%b4%e3%80%81%e8%be%9f%e7%a9%80%e6%b2%bb%e7%97%85%e6%b3%95/
CATEGORIES:綠色茶座,網上錄音
ATTACH;FMTTYPE=image/jpeg:https://www.club-o.org/wp-content/uploads/2017/10/33402700803_fd35982847_k.jpg
END:VEVENT
BEGIN:VEVENT
DTSTART;TZID=UTC:20170608T193000
DTEND;TZID=UTC:20170608T204500
DTSTAMP:20260423T065611
CREATED:20171019T184033Z
LAST-MODIFIED:20171026T180512Z
UID:2244-1496950200-1496954700@www.club-o.org
SUMMARY:五(十)個現代人對身體的誤解
DESCRIPTION:主講：符慧敏醫生\n\n\n正常生理取決於哪些物質與能量機制？豐盈物質需怎樣的能量配合？佳美能量又有哪些因素？新世代資訊及另類療癒有哪些最新建議？對照之下，何止五十？大有可能我們對自己身體的誤解還多多多啲呢！
URL:https://www.club-o.org/event/%e4%ba%94%e5%8d%81%e5%80%8b%e7%8f%be%e4%bb%a3%e4%ba%ba%e5%b0%8d%e8%ba%ab%e9%ab%94%e7%9a%84%e8%aa%a4%e8%a7%a3-2/
CATEGORIES:療癒夜,網上錄音
ATTACH;FMTTYPE=image/png:https://www.club-o.org/wp-content/uploads/2017/10/Screen-Shot-2017-10-20-at-10.37.33-AM.png
END:VEVENT
END:VCALENDAR