BEGIN:VCALENDAR
VERSION:2.0
PRODID:-//綠色生活教育基金 - ECPv6.15.18//NONSGML v1.0//EN
CALSCALE:GREGORIAN
METHOD:PUBLISH
X-WR-CALNAME:綠色生活教育基金
X-ORIGINAL-URL:https://www.club-o.org
X-WR-CALDESC:Events for 綠色生活教育基金
REFRESH-INTERVAL;VALUE=DURATION:PT1H
X-Robots-Tag:noindex
X-PUBLISHED-TTL:PT1H
BEGIN:VTIMEZONE
TZID:UTC
BEGIN:STANDARD
TZOFFSETFROM:+0000
TZOFFSETTO:+0000
TZNAME:UTC
DTSTART:20160101T000000
END:STANDARD
END:VTIMEZONE
BEGIN:VEVENT
DTSTART;TZID=UTC:20170204T160000
DTEND;TZID=UTC:20170204T173000
DTSTAMP:20260423T113529
CREATED:20171019T185447Z
LAST-MODIFIED:20171026T181141Z
UID:2258-1486224000-1486229400@www.club-o.org
SUMMARY:計劃新一年
DESCRIPTION:主講：司徒素雪\n(臨床催眠治療師)\n\n\n一年之計在於春。大家都希望新一年會有更好的發展，在一年的開始，我們都會定下目標，立下大計。但回顧舊年，有好多目標沒有達成，亦有很多計劃沒有實行。新一年來臨，Stephanie會以心理學角度，和大家分析如何確保計劃可以完成。 \n講者投影片：計畫新一年 \n\n			\n		\n	\n	\n	\n	\n		1 計劃新一年2 計劃新一年3 計劃新一年
URL:https://www.club-o.org/event/%e8%a8%88%e5%8a%83%e6%96%b0%e4%b8%80%e5%b9%b4/
CATEGORIES:綠色茶座,網上錄音
ATTACH;FMTTYPE=image/jpeg:https://www.club-o.org/wp-content/uploads/2017/10/Stephanie-Szeto.jpg
END:VEVENT
BEGIN:VEVENT
DTSTART;TZID=UTC:20170107T190000
DTEND;TZID=UTC:20170107T204500
DTSTAMP:20260423T113530
CREATED:20171019T211338Z
LAST-MODIFIED:20171026T181256Z
UID:2453-1483815600-1483821900@www.club-o.org
SUMMARY:使用「源氣」晶礦石做身心靈治療
DESCRIPTION:主講：林敏怡\n（著名音樂人及治療師）\n\n\n林敏怡三年 前把「源氣」晶 礦石引進本港， 更自創以「源 氣」晶礦石做身 心靈治療，這次 她會介紹有關技 巧 (如「七脈輪」 和「藥輪」療癒 等)及作出現場示 範。
URL:https://www.club-o.org/event/%e4%bd%bf%e7%94%a8%e3%80%8c%e6%ba%90%e6%b0%a3%e3%80%8d%e6%99%b6%e7%a4%a6%e7%9f%b3%e5%81%9a%e8%ba%ab%e5%bf%83%e9%9d%88%e6%b2%bb%e7%99%82/
CATEGORIES:高能量晚會
ATTACH;FMTTYPE=image/jpeg:https://www.club-o.org/wp-content/uploads/2017/10/34056052852_003517fbfe_k.jpg
END:VEVENT
BEGIN:VEVENT
DTSTART;TZID=UTC:20170107T160000
DTEND;TZID=UTC:20170107T173000
DTSTAMP:20260423T113530
CREATED:20171019T184601Z
LAST-MODIFIED:20171026T181352Z
UID:2255-1483804800-1483810200@www.club-o.org
SUMMARY:太極練氣十三勢及外氣治病法簡介
DESCRIPTION:主講：楊雲中\n(中華太極智慧學院校長)\n\n\n太極練氣十三勢是太極武學的 基礎功，也是太極醫道、太極 氣功治病的主要功法。練內氣 外放，外氣內收， 借助形體運 動的開合來強化意識活動的開 合， 通過人體與大自然混元氣 的暢通，可疏通全身膜絡，打通 人體關竅、穴道，使人體氣脈和 暢，從而旺盛人體生命機能，收 強身健體之效。還可很快學會、 掌握發放外氣治病的技能。練此功能使身體強壯，內氣 充足，神意明靈。 \n 
URL:https://www.club-o.org/event/%e5%a4%aa%e6%a5%b5%e7%b7%b4%e6%b0%a3%e5%8d%81%e4%b8%89%e5%8b%a2%e5%8f%8a%e5%a4%96%e6%b0%a3%e6%b2%bb%e7%97%85%e6%b3%95%e7%b0%a1%e4%bb%8b/
CATEGORIES:綠色茶座
ATTACH;FMTTYPE=image/jpeg:https://www.club-o.org/wp-content/uploads/2017/10/33402701153_1207191926_k.jpg
END:VEVENT
END:VCALENDAR