BEGIN:VCALENDAR
VERSION:2.0
PRODID:-//綠色生活教育基金 - ECPv6.15.18//NONSGML v1.0//EN
CALSCALE:GREGORIAN
METHOD:PUBLISH
X-ORIGINAL-URL:https://www.club-o.org
X-WR-CALDESC:Events for 綠色生活教育基金
REFRESH-INTERVAL;VALUE=DURATION:PT1H
X-Robots-Tag:noindex
X-PUBLISHED-TTL:PT1H
BEGIN:VTIMEZONE
TZID:UTC
BEGIN:STANDARD
TZOFFSETFROM:+0000
TZOFFSETTO:+0000
TZNAME:UTC
DTSTART:20210101T000000
END:STANDARD
END:VTIMEZONE
BEGIN:VEVENT
DTSTART;TZID=UTC:20220911T133000
DTEND;TZID=UTC:20220911T153000
DTSTAMP:20260424T041213
CREATED:20220826T010846Z
LAST-MODIFIED:20220826T010902Z
UID:10416-1662903000-1662910200@www.club-o.org
SUMMARY:大澳水果練功日
DESCRIPTION:
URL:https://www.club-o.org/event/%e5%a4%a7%e6%be%b3%e6%b0%b4%e6%9e%9c%e7%b7%b4%e5%8a%9f%e6%97%a5/
ATTACH;FMTTYPE=image/jpeg:https://www.club-o.org/wp-content/uploads/2022/08/22年9月活動-3.jpg
END:VEVENT
BEGIN:VEVENT
DTSTART;TZID=UTC:20220911T140000
DTEND;TZID=UTC:20220911T153000
DTSTAMP:20260424T041213
CREATED:20220806T022207Z
LAST-MODIFIED:20220823T234910Z
UID:10317-1662904800-1662910200@www.club-o.org
SUMMARY:薑味十足工作坊 ｜Daisy
DESCRIPTION:
URL:https://www.club-o.org/event/%e8%96%91%e5%91%b3%e5%8d%81%e8%b6%b3%e5%b7%a5%e4%bd%9c%e5%9d%8a%ef%bd%9cdaisy/
LOCATION:Club O\, 旺角亞皆老街86號昌明大厦7字樓FGH室
ATTACH;FMTTYPE=image/jpeg:https://www.club-o.org/wp-content/uploads/2022/08/22年9月活動薑.jpg
END:VEVENT
BEGIN:VEVENT
DTSTART;TZID=UTC:20220918T020000
DTEND;TZID=UTC:20220918T153000
DTSTAMP:20260424T041213
CREATED:20220822T194940Z
LAST-MODIFIED:20220822T195351Z
UID:10368-1663466400-1663515000@www.club-o.org
SUMMARY:輕鬆煮廚教室｜ 印度式蔬食
DESCRIPTION:
URL:https://www.club-o.org/event/%e8%bc%95%e9%ac%86%e7%85%ae%e5%bb%9a%e6%95%99%e5%ae%a4%ef%bd%9c-%e5%8d%b0%e5%ba%a6%e5%bc%8f%e8%94%ac%e9%a3%9f/
LOCATION:Club O\, 旺角亞皆老街86號昌明大厦7字樓FGH室
ATTACH;FMTTYPE=image/jpeg:https://www.club-o.org/wp-content/uploads/2022/08/22年9月活動印式.jpg
END:VEVENT
BEGIN:VEVENT
DTSTART;TZID=UTC:20220924T143000
DTEND;TZID=UTC:20220924T163000
DTSTAMP:20260424T041213
CREATED:20220823T231333Z
LAST-MODIFIED:20220823T231805Z
UID:10380-1664029800-1664037000@www.club-o.org
SUMMARY:解夢與身心健康工作坊
DESCRIPTION:• 人為什麼會發夢?\n• 夢境意味著什麼?\n• 到底在表達什麼信息？\n• 夢與身體、心理千絲萬縷的關係？\n• 夢境有什麽重要的功能？我需要學解夢嗎？ \n資深夢境治療師、註冊催眠治療師Donna Wong和嘉賓們，分享他們如何通過解夢療愈，提升心理質素，自我價值感，睡眠質素，到達身心平衡。 \n大家可以了解到： \n什麽是人性化、個人化的解夢；\n爲什麽解夢可以深度了解自己；\n明白自己真正的需要；\n找到問題的根源，疏解壓力、解開心結；\n改善家庭關係，走出情緒的困擾；\n找到自己的價值和渴望 。 \n有些朋友總是不記得夢境，有些天天都有記得的夢境，有些不想去記得，有些總是記得那些揮之不去的夢境，甚至童年夢…. \n不論你是哪一種狀況，夢境 – 我們潛意識在睡眠中的思想活動，都影響著我們的情緒和行為，和我們的身心健康息息相關。 \n帶著一份好奇心，一份渴望了解自己的心，一份渴望改善睡眠質素的心，來參加一個難忘的心靈之旅。 \nAbout Donna Wong： \n註冊催眠治療導師，夢境治療師Donna致力開啟人們的潛意識的智慧，用心靈的力量， MINDFULNESS，幫助人們提升情緒智商，戒除惡習，療愈身心病痛，提升心理質素，睡眠質素，改善與家人的關，發掘無限潛能。
URL:https://www.club-o.org/event/%e8%a7%a3%e5%a4%a2%e8%88%87%e8%ba%ab%e5%bf%83%e5%81%a5%e5%ba%b7%e5%b7%a5%e4%bd%9c%e5%9d%8a/
LOCATION:Club O\, 旺角亞皆老街86號昌明大厦7字樓FGH室
ATTACH;FMTTYPE=image/jpeg:https://www.club-o.org/wp-content/uploads/2022/08/解夢.jpg
END:VEVENT
BEGIN:VEVENT
DTSTART;TZID=UTC:20220925T093000
DTEND;TZID=UTC:20220925T123000
DTSTAMP:20260424T041213
CREATED:20220826T011028Z
LAST-MODIFIED:20220827T195206Z
UID:10418-1664098200-1664109000@www.club-o.org
SUMMARY:九月份行山活動
DESCRIPTION:
URL:https://www.club-o.org/event/%e4%b9%9d%e6%9c%88%e4%bb%bd%e8%a1%8c%e5%b1%b1%e6%b4%bb%e5%8b%95/
ATTACH;FMTTYPE=image/jpeg:https://www.club-o.org/wp-content/uploads/2022/08/22年9月活動行山.jpg
END:VEVENT
BEGIN:VEVENT
DTSTART;TZID=UTC:20221005T073000
DTEND;TZID=UTC:20221005T213000
DTSTAMP:20260424T041213
CREATED:20220926T220232Z
LAST-MODIFIED:20220926T220232Z
UID:10567-1664955000-1665005400@www.club-o.org
SUMMARY:芳香靜心精油按摩班
DESCRIPTION:
URL:https://www.club-o.org/event/%e8%8a%b3%e9%a6%99%e9%9d%9c%e5%bf%83%e7%b2%be%e6%b2%b9%e6%8c%89%e6%91%a9%e7%8f%ad/
LOCATION:Club O\, 旺角亞皆老街86號昌明大厦7字樓FGH室
ATTACH;FMTTYPE=image/png:https://www.club-o.org/wp-content/uploads/2022/09/螢幕截圖-2022-09-25-下午7.34.13.png
END:VEVENT
BEGIN:VEVENT
DTSTART;TZID=UTC:20221006T071500
DTEND;TZID=UTC:20221006T210000
DTSTAMP:20260424T041213
CREATED:20220926T220423Z
LAST-MODIFIED:20220926T220447Z
UID:10572-1665040500-1665090000@www.club-o.org
SUMMARY:手療師團隊愛心圈
DESCRIPTION:
URL:https://www.club-o.org/event/%e7%99%82%e7%99%92%e5%a4%9c-12/
LOCATION:Club O\, 旺角亞皆老街86號昌明大厦7字樓FGH室
ATTACH;FMTTYPE=image/png:https://www.club-o.org/wp-content/uploads/2022/09/螢幕截圖-2022-09-25-下午6.04.57.png
END:VEVENT
BEGIN:VEVENT
DTSTART;TZID=UTC:20221008T130000
DTEND;TZID=UTC:20221008T140000
DTSTAMP:20260424T041213
CREATED:20220926T220800Z
LAST-MODIFIED:20221006T012646Z
UID:10577-1665234000-1665237600@www.club-o.org
SUMMARY:10月份禪食體驗
DESCRIPTION:
URL:https://www.club-o.org/event/10%e6%9c%88%e4%bb%bd%e7%a6%aa%e9%a3%9f%e9%ab%94%e9%a9%97/
LOCATION:Club O\, 旺角亞皆老街86號昌明大厦7字樓FGH室
ATTACH;FMTTYPE=image/jpeg:https://www.club-o.org/wp-content/uploads/2022/10/10月活動-4.jpg
END:VEVENT
BEGIN:VEVENT
DTSTART;TZID=UTC:20221009T133000
DTEND;TZID=UTC:20221009T150000
DTSTAMP:20260424T041213
CREATED:20221005T200257Z
LAST-MODIFIED:20221005T200257Z
UID:10604-1665322200-1665327600@www.club-o.org
SUMMARY:屯門.麥徑十段 🍅水果練功日
DESCRIPTION:
URL:https://www.club-o.org/event/%e5%b1%af%e9%96%80-%e9%ba%a5%e5%be%91%e5%8d%81%e6%ae%b5-%f0%9f%8d%85%e6%b0%b4%e6%9e%9c%e7%b7%b4%e5%8a%9f%e6%97%a5/
ATTACH;FMTTYPE=image/png:https://www.club-o.org/wp-content/uploads/2022/09/螢幕截圖-2022-09-25-下午6.04.18.png
END:VEVENT
BEGIN:VEVENT
DTSTART;TZID=UTC:20221011T143000
DTEND;TZID=UTC:20221011T163000
DTSTAMP:20260424T041213
CREATED:20221005T200809Z
LAST-MODIFIED:20221006T012900Z
UID:10609-1665498600-1665505800@www.club-o.org
SUMMARY:長者芳香身心舒緩班
DESCRIPTION:
URL:https://www.club-o.org/event/%e9%95%b7%e8%80%85%e8%8a%b3%e9%a6%99%e8%ba%ab%e5%bf%83%e8%88%92%e7%b7%a9%e7%8f%ad/
LOCATION:Club O\, 旺角亞皆老街86號昌明大厦7字樓FGH室
ATTACH;FMTTYPE=image/png:https://www.club-o.org/wp-content/uploads/2022/09/螢幕截圖-2022-09-25-下午6.03.38.png
END:VEVENT
BEGIN:VEVENT
DTSTART;TZID=UTC:20221013T193000
DTEND;TZID=UTC:20221013T203000
DTSTAMP:20260424T041213
CREATED:20220926T215937Z
LAST-MODIFIED:20220926T215937Z
UID:10565-1665689400-1665693000@www.club-o.org
SUMMARY:頌缽浴
DESCRIPTION:
URL:https://www.club-o.org/event/%e9%a0%8c%e7%bc%bd%e6%b5%b4/
LOCATION:Club O\, 旺角亞皆老街86號昌明大厦7字樓FGH室
ATTACH;FMTTYPE=image/png:https://www.club-o.org/wp-content/uploads/2022/09/螢幕截圖-2022-09-25-下午7.34.53.png
END:VEVENT
BEGIN:VEVENT
DTSTART;TZID=UTC:20221015T110000
DTEND;TZID=UTC:20221015T123000
DTSTAMP:20260424T041213
CREATED:20220926T220928Z
LAST-MODIFIED:20221031T214213Z
UID:10580-1665831600-1665837000@www.club-o.org
SUMMARY:道家養生功
DESCRIPTION:
URL:https://www.club-o.org/event/10%e6%9c%88%e4%bb%bd%e9%81%93%e5%ae%b6%e9%a4%8a%e7%94%9f%e5%8a%9f/
LOCATION:Club O\, 旺角亞皆老街86號昌明大厦7字樓FGH室
ATTACH;FMTTYPE=image/png:https://www.club-o.org/wp-content/uploads/2022/09/螢幕截圖-2022-09-25-下午6.04.28.png
END:VEVENT
BEGIN:VEVENT
DTSTART;TZID=UTC:20221016T140000
DTEND;TZID=UTC:20221016T153000
DTSTAMP:20260424T041213
CREATED:20220926T215757Z
LAST-MODIFIED:20220926T215757Z
UID:10563-1665928800-1665934200@www.club-o.org
SUMMARY:天然手作護膚班
DESCRIPTION:
URL:https://www.club-o.org/event/%e5%a4%a9%e7%84%b6%e6%89%8b%e4%bd%9c%e8%ad%b7%e8%86%9a%e7%8f%ad/
LOCATION:Club O\, 旺角亞皆老街86號昌明大厦7字樓FGH室
ATTACH;FMTTYPE=image/png:https://www.club-o.org/wp-content/uploads/2022/09/螢幕截圖-2022-09-25-下午7.37.38.png
END:VEVENT
BEGIN:VEVENT
DTSTART;TZID=UTC:20221018T194500
DTEND;TZID=UTC:20221018T211500
DTSTAMP:20260424T041213
CREATED:20220926T220644Z
LAST-MODIFIED:20220926T220644Z
UID:10575-1666122300-1666127700@www.club-o.org
SUMMARY:中醫秋冬養生秘笈
DESCRIPTION:
URL:https://www.club-o.org/event/%e4%b8%ad%e9%86%ab%e7%a7%8b%e5%86%ac%e9%a4%8a%e7%94%9f%e7%a7%98%e7%ac%88/
LOCATION:Club O\, 旺角亞皆老街86號昌明大厦7字樓FGH室
ATTACH;FMTTYPE=image/png:https://www.club-o.org/wp-content/uploads/2022/09/螢幕截圖-2022-09-25-下午6.04.48.png
END:VEVENT
BEGIN:VEVENT
DTSTART;TZID=UTC:20221022T150000
DTEND;TZID=UTC:20221022T163000
DTSTAMP:20260424T041213
CREATED:20220926T215648Z
LAST-MODIFIED:20220926T215648Z
UID:10561-1666450800-1666456200@www.club-o.org
SUMMARY:秋冬養生食療
DESCRIPTION:
URL:https://www.club-o.org/event/%e7%a7%8b%e5%86%ac%e9%a4%8a%e7%94%9f%e9%a3%9f%e7%99%82/
LOCATION:Club O\, 旺角亞皆老街86號昌明大厦7字樓FGH室
ATTACH;FMTTYPE=image/png:https://www.club-o.org/wp-content/uploads/2022/09/螢幕截圖-2022-09-25-下午7.39.26.png
END:VEVENT
BEGIN:VEVENT
DTSTART;TZID=UTC:20221023T140000
DTEND;TZID=UTC:20221023T153000
DTSTAMP:20260424T041213
CREATED:20220926T215533Z
LAST-MODIFIED:20221006T025237Z
UID:10559-1666533600-1666539000@www.club-o.org
SUMMARY:輕鬆煮廚教室｜韓式蔬食
DESCRIPTION:
URL:https://www.club-o.org/event/%e8%bc%95%e9%ac%86%e7%85%ae%e5%bb%9a%e6%95%99%e5%ae%a4%ef%bd%9c%e9%9f%93%e5%bc%8f%e8%94%ac%e9%a3%9f/
LOCATION:Club O\, 旺角亞皆老街86號昌明大厦7字樓FGH室
ATTACH;FMTTYPE=image/png:https://www.club-o.org/wp-content/uploads/2022/10/螢幕截圖-2022-10-02-上午11.30.01.png
END:VEVENT
BEGIN:VEVENT
DTSTART;TZID=UTC:20221027T183000
DTEND;TZID=UTC:20221027T204500
DTSTAMP:20260424T041213
CREATED:20221006T013104Z
LAST-MODIFIED:20221031T214630Z
UID:10648-1666895400-1666903500@www.club-o.org
SUMMARY:脈輪療癒之旅｜ 大笑瑜伽‧脈輪舒導‧頌缽療癒
DESCRIPTION:
URL:https://www.club-o.org/event/%e8%84%88%e8%bc%aa%e7%99%82%e7%99%92%e4%b9%8b%e6%97%85%ef%bd%9c-%e5%a4%a7%e7%ac%91%e7%91%9c%e4%bc%bd%e2%80%a7%e8%84%88%e8%bc%aa%e8%88%92%e5%b0%8e%e2%80%a7%e9%a0%8c%e7%bc%bd%e7%99%82%e7%99%92/
LOCATION:Club O\, 旺角亞皆老街86號昌明大厦7字樓FGH室
ATTACH;FMTTYPE=image/png:https://www.club-o.org/wp-content/uploads/2022/10/螢幕截圖-2022-09-27-下午5.59.36.png
END:VEVENT
BEGIN:VEVENT
DTSTART;TZID=UTC:20221028T113000
DTEND;TZID=UTC:20221028T124500
DTSTAMP:20260424T041213
CREATED:20221005T202153Z
LAST-MODIFIED:20221005T202153Z
UID:10631-1666956600-1666961100@www.club-o.org
SUMMARY:網球伸展放鬆班
DESCRIPTION:
URL:https://www.club-o.org/event/%e7%b6%b2%e7%90%83%e4%bc%b8%e5%b1%95%e6%94%be%e9%ac%86%e7%8f%ad/
LOCATION:Club O\, 旺角亞皆老街86號昌明大厦7字樓FGH室
ATTACH;FMTTYPE=image/png:https://www.club-o.org/wp-content/uploads/2022/10/螢幕截圖-2022-10-06-上午11.41.08.png
END:VEVENT
BEGIN:VEVENT
DTSTART;TZID=UTC:20221029T140000
DTEND;TZID=UTC:20221029T163000
DTSTAMP:20260424T041213
CREATED:20221006T025401Z
LAST-MODIFIED:20221006T025401Z
UID:10665-1667052000-1667061000@www.club-o.org
SUMMARY:飯水分離陰陽飲食法分享會（蒸飯環節）
DESCRIPTION:
URL:https://www.club-o.org/event/%e9%a3%af%e6%b0%b4%e5%88%86%e9%9b%a2%e9%99%b0%e9%99%bd%e9%a3%b2%e9%a3%9f%e6%b3%95%e5%88%86%e4%ba%ab%e6%9c%83%ef%bc%88%e8%92%b8%e9%a3%af%e7%92%b0%e7%af%80%ef%bc%89/
LOCATION:Club O\, 旺角亞皆老街86號昌明大厦7字樓FGH室
ATTACH;FMTTYPE=image/png:https://www.club-o.org/wp-content/uploads/2022/10/螢幕截圖-2022-09-28-下午5.04.07.png
END:VEVENT
BEGIN:VEVENT
DTSTART;TZID=UTC:20221030T110000
DTEND;TZID=UTC:20221030T123000
DTSTAMP:20260424T041213
CREATED:20220926T215310Z
LAST-MODIFIED:20220926T215408Z
UID:10539-1667127600-1667133000@www.club-o.org
SUMMARY:種得幸福、吃得幸福Club O 工作坊
DESCRIPTION:「種得幸福、吃得幸福」半年課程  \n2022年10月至2023年3月 ，每月一次的周日敘會，上午11：00至下午12：30；在六節工作坊中，Club O酷農夫、種植及飲食達人會和大家一齊探討如何種得安心及吃的放心。 \n  \n10月30日      做個幸福酷農夫 \n秋冬因蟲害較少，收成的作物如番茄、甘荀、紅菜頭等又甜又美，資深耕種導師陳佩貞會教大家如何在農田或家中打造有機菜園，除了秋冬作物種植竅門外，還會分享從田園到餐桌之道，做一個懂得享受收成農作物的幸福人。 \n  \n11月27日      香草種植與料理 \n如何從小小的種子或幼苗開始培植香草，看著它長大然後採收？就讓香草的氣息為我們的生活增添情趣和品味。Club O酷農夫也會分享如何用香草為飲食添風味，用有機香草如薄荷、迷迭香及羅勒入饌或調製飲料。 \n  \n12月18日      應用順勢療法呵護植物 \n不少西方家園和農埸巳選用順勢療法(Homeopathy)此另類方法來照顧植物及防治蟲害，植物「病」了可以使用順勢療法的療劑，既安全又有效。新西蘭註冊高級順勢療法師Michelle Chu這守護大自然環保友人，會和我們分享如何應用順勢療法愛護植物，為它們減少寒冬（冷親）及炎夏（中暑）的傷害，以及防治蟲害，讓植物成長得更健康快樂.。 \n  \n1月29日        蟲害防治及施肥攻略 \n好食物，由愛心開始，農作物能健康成長必須面對蟲害的挑戰，Rita會種出又肥大又甜美的瓜菜，只因她甪心和作物溝通及費心保護作物，她會分享如何管理蟲害。此外使用天然或有機肥料對保護環境及個人健康至為重要。Club O酷農夫會分享如何選擇肥料及有效施肥，因為作物在不同生長階段 (如長葉、開花、結果) 所需要的生長素有所不同呢。 \n  \n2月26日        幸福種及食生料理小貼士 \n種植失敗的原因很多，可能是缺水、不通風、不夠陽光…..等，Club O酷農夫訪問了種植前輩，會和大家分享所收集的種植小貼士。大家都知道鮮採的作物營養最高，食生(raw)料理最能保存其中的酵素，對身体至為重要，Raw kitchen導師嬌姐及食生達人Helen等會分享食生料理小貼士，讓自己及家人吃出青春活力原來好easy。 \n  \n3月26日        DIY良食及「幸福吃」派對 \nClub O酷農夫會使用風乾、醃漬等方法，使當造收成的農作物得以保存成良食，一齊來研習如何做風乾蘿蔔/菜乾/番茄、糖漬木瓜等。為慶祝半年的共學緣份，每一位參加者會帶來個人份量的天然良食 ，一齊共享「幸福吃」派對 。 \n  \n費用：全期六課：原價$500\, 早鳥優惠$300；會員原價$450\, \, 早鳥優惠$270 \n單堂報讀：$80\, 會員$70 \n名額有限，只收8位，先到先得
URL:https://www.club-o.org/event/%e7%a8%ae%e5%be%97%e5%b9%b8%e7%a6%8f%e3%80%81%e5%90%83%e5%be%97%e5%b9%b8%e7%a6%8fclub-o-%e5%b7%a5%e4%bd%9c%e5%9d%8a/
LOCATION:Club O\, 旺角亞皆老街86號昌明大厦7字樓FGH室
ATTACH;FMTTYPE=image/jpeg:https://www.club-o.org/wp-content/uploads/2022/09/WhatsApp-Image-2022-09-24-at-3.41.36-PM.jpeg
END:VEVENT
BEGIN:VEVENT
DTSTART;TZID=UTC:20221030T140000
DTEND;TZID=UTC:20221030T153000
DTSTAMP:20260424T041213
CREATED:20221006T024839Z
LAST-MODIFIED:20221006T024839Z
UID:10654-1667138400-1667143800@www.club-o.org
SUMMARY:輕鬆煮廚教室｜ 腐皮料理
DESCRIPTION:
URL:https://www.club-o.org/event/%e8%bc%95%e9%ac%86%e7%85%ae%e5%bb%9a%e6%95%99%e5%ae%a4%ef%bd%9c-%e8%85%90%e7%9a%ae%e6%96%99%e7%90%86/
LOCATION:Club O\, 旺角亞皆老街86號昌明大厦7字樓FGH室
ATTACH;FMTTYPE=image/png:https://www.club-o.org/wp-content/uploads/2022/09/螢幕截圖-2022-09-25-下午7.40.49.png
END:VEVENT
BEGIN:VEVENT
DTSTART;TZID=UTC:20221103T143000
DTEND;TZID=UTC:20221103T153000
DTSTAMP:20260424T041213
CREATED:20221031T211352Z
LAST-MODIFIED:20221031T211352Z
UID:10847-1667485800-1667489400@www.club-o.org
SUMMARY:動感人生－歡樂健康舒痛班
DESCRIPTION:
URL:https://www.club-o.org/event/%e5%8b%95%e6%84%9f%e4%ba%ba%e7%94%9f%ef%bc%8d%e6%ad%a1%e6%a8%82%e5%81%a5%e5%ba%b7%e8%88%92%e7%97%9b%e7%8f%ad/
LOCATION:Club O\, 旺角亞皆老街86號昌明大厦7字樓FGH室
ATTACH;FMTTYPE=image/png:https://www.club-o.org/wp-content/uploads/2022/09/螢幕截圖-2022-09-25-下午6.04.03.png
END:VEVENT
BEGIN:VEVENT
DTSTART;TZID=UTC:20221103T191500
DTEND;TZID=UTC:20221103T210000
DTSTAMP:20260424T041213
CREATED:20221031T211152Z
LAST-MODIFIED:20221031T211152Z
UID:10845-1667502900-1667509200@www.club-o.org
SUMMARY:手療師團隊愛心圈
DESCRIPTION:
URL:https://www.club-o.org/event/%e6%89%8b%e7%99%82%e5%b8%ab%e5%9c%98%e9%9a%8a%e6%84%9b%e5%bf%83%e5%9c%88-2/
LOCATION:Club O\, 旺角亞皆老街86號昌明大厦7字樓FGH室
ATTACH;FMTTYPE=image/jpeg:https://www.club-o.org/wp-content/uploads/2022/10/WhatsApp-Image-2022-10-30-at-2.32.19-PM.jpeg
END:VEVENT
BEGIN:VEVENT
DTSTART;TZID=UTC:20221105T130000
DTEND;TZID=UTC:20221105T140000
DTSTAMP:20260424T041213
CREATED:20221031T211505Z
LAST-MODIFIED:20221031T211505Z
UID:10852-1667653200-1667656800@www.club-o.org
SUMMARY:禪食體驗（11月）
DESCRIPTION:
URL:https://www.club-o.org/event/%e7%a6%aa%e9%a3%9f%e9%ab%94%e9%a9%97%ef%bc%8811%e6%9c%88%ef%bc%89/
LOCATION:Club O\, 旺角亞皆老街86號昌明大厦7字樓FGH室
ATTACH;FMTTYPE=image/jpeg:https://www.club-o.org/wp-content/uploads/2022/11/WhatsApp-Image-2022-10-29-at-5.11.58-PM.jpeg
END:VEVENT
BEGIN:VEVENT
DTSTART;TZID=UTC:20221108T193000
DTEND;TZID=UTC:20221108T210000
DTSTAMP:20260424T041213
CREATED:20221031T211705Z
LAST-MODIFIED:20221031T211705Z
UID:10855-1667935800-1667941200@www.club-o.org
SUMMARY:「拍拍我心的塵土」心像術系列課程
DESCRIPTION:
URL:https://www.club-o.org/event/%e3%80%8c%e6%8b%8d%e6%8b%8d%e6%88%91%e5%bf%83%e7%9a%84%e5%a1%b5%e5%9c%9f%e3%80%8d%e5%bf%83%e5%83%8f%e8%a1%93%e7%b3%bb%e5%88%97%e8%aa%b2%e7%a8%8b/
LOCATION:Club O\, 旺角亞皆老街86號昌明大厦7字樓FGH室
ATTACH;FMTTYPE=image/jpeg:https://www.club-o.org/wp-content/uploads/2022/10/WhatsApp-Image-2022-10-26-at-6.45.04-PM.jpeg
END:VEVENT
BEGIN:VEVENT
DTSTART;TZID=UTC:20221110T193000
DTEND;TZID=UTC:20221110T210000
DTSTAMP:20260424T041213
CREATED:20221031T213854Z
LAST-MODIFIED:20221031T213854Z
UID:10862-1668108600-1668114000@www.club-o.org
SUMMARY:單弦琴X催眠舒壓
DESCRIPTION:
URL:https://www.club-o.org/event/%e5%96%ae%e5%bc%a6%e7%90%b4x%e5%82%ac%e7%9c%a0%e8%88%92%e5%a3%93/
LOCATION:Club O\, 旺角亞皆老街86號昌明大厦7字樓FGH室
ATTACH;FMTTYPE=image/jpeg:https://www.club-o.org/wp-content/uploads/2022/10/WhatsApp-Image-2022-10-26-at-6.45.06-PM-1.jpeg
END:VEVENT
BEGIN:VEVENT
DTSTART;TZID=UTC:20221112T150000
DTEND;TZID=UTC:20221112T160000
DTSTAMP:20260424T041213
CREATED:20221031T213957Z
LAST-MODIFIED:20221031T213957Z
UID:10865-1668265200-1668268800@www.club-o.org
SUMMARY:環保摺紙靜心工作坊
DESCRIPTION:
URL:https://www.club-o.org/event/%e7%92%b0%e4%bf%9d%e6%91%ba%e7%b4%99%e9%9d%9c%e5%bf%83%e5%b7%a5%e4%bd%9c%e5%9d%8a/
LOCATION:Club O\, 旺角亞皆老街86號昌明大厦7字樓FGH室
ATTACH;FMTTYPE=image/png:https://www.club-o.org/wp-content/uploads/2022/11/螢幕截圖-2022-10-23-下午3.30.51.png
END:VEVENT
BEGIN:VEVENT
DTSTART;TZID=UTC:20221113T130000
DTEND;TZID=UTC:20221113T150000
DTSTAMP:20260424T041213
CREATED:20221031T215031Z
LAST-MODIFIED:20221031T215031Z
UID:10886-1668344400-1668351600@www.club-o.org
SUMMARY:11月份行山樂｜水果練功日
DESCRIPTION:
URL:https://www.club-o.org/event/11%e6%9c%88%e4%bb%bd%e8%a1%8c%e5%b1%b1%e6%a8%82%ef%bd%9c%e6%b0%b4%e6%9e%9c%e7%b7%b4%e5%8a%9f%e6%97%a5/
ATTACH;FMTTYPE=image/png:https://www.club-o.org/wp-content/uploads/2022/11/螢幕截圖-2022-10-26-下午6.56.27.png
END:VEVENT
BEGIN:VEVENT
DTSTART;TZID=UTC:20221120T143000
DTEND;TZID=UTC:20221120T153000
DTSTAMP:20260424T041213
CREATED:20221031T214730Z
LAST-MODIFIED:20221031T214730Z
UID:10882-1668954600-1668958200@www.club-o.org
SUMMARY:生機麵包班戟班
DESCRIPTION:
URL:https://www.club-o.org/event/%e7%94%9f%e6%a9%9f%e9%ba%b5%e5%8c%85%e7%8f%ad%e6%88%9f%e7%8f%ad/
LOCATION:Club O\, 旺角亞皆老街86號昌明大厦7字樓FGH室
ATTACH;FMTTYPE=image/jpeg:https://www.club-o.org/wp-content/uploads/2022/10/WhatsApp-Image-2022-10-29-at-5.11.56-PM.jpeg
END:VEVENT
BEGIN:VEVENT
DTSTART;TZID=UTC:20221124T110000
DTEND;TZID=UTC:20221124T123000
DTSTAMP:20260424T041213
CREATED:20221031T214326Z
LAST-MODIFIED:20221031T214434Z
UID:10873-1669287600-1669293000@www.club-o.org
SUMMARY:書法靜心
DESCRIPTION:
URL:https://www.club-o.org/event/%e6%9b%b8%e6%b3%95%e9%9d%9c%e5%bf%83/
LOCATION:Club O\, 旺角亞皆老街86號昌明大厦7字樓FGH室
ATTACH;FMTTYPE=image/jpeg:https://www.club-o.org/wp-content/uploads/2022/11/靜心書法_1018_b.jpg
END:VEVENT
END:VCALENDAR