BEGIN:VCALENDAR
VERSION:2.0
PRODID:-//綠色生活教育基金 - ECPv6.15.18//NONSGML v1.0//EN
CALSCALE:GREGORIAN
METHOD:PUBLISH
X-WR-CALNAME:綠色生活教育基金
X-ORIGINAL-URL:https://www.club-o.org
X-WR-CALDESC:Events for 綠色生活教育基金
REFRESH-INTERVAL;VALUE=DURATION:PT1H
X-Robots-Tag:noindex
X-PUBLISHED-TTL:PT1H
BEGIN:VTIMEZONE
TZID:UTC
BEGIN:STANDARD
TZOFFSETFROM:+0000
TZOFFSETTO:+0000
TZNAME:UTC
DTSTART:20160101T000000
END:STANDARD
END:VTIMEZONE
BEGIN:VEVENT
DTSTART;TZID=UTC:20170506T160000
DTEND;TZID=UTC:20170506T173000
DTSTAMP:20260423T043141
CREATED:20171019T203031Z
LAST-MODIFIED:20171026T180549Z
UID:2374-1494086400-1494091800@www.club-o.org
SUMMARY:食生食走了癌症分享
DESCRIPTION:主講：周兆祥博士\n\n\n嫁了去英國，她的兒子患了末期癌症，在絕望中，決定兩母子都全素食生。三個月後，愛兒康復了，逃出生天，奇蹟還不斷在生命中出現。她決定了回流香港，開食生餐廳……本地食生先鋒祥哥帶她來，分享感恩的神奇故事。 \n\n			\n		\n	\n	\n	\n	\n		1 食生食走了癌症分享2 食生食走了癌症分享3 食生食走了癌症分享4 食生食走了癌症分享5 食生食走了癌症分享
URL:https://www.club-o.org/event/%e9%a3%9f%e7%94%9f%e9%a3%9f%e8%b5%b0%e4%ba%86%e7%99%8c%e7%97%87%e5%88%86%e4%ba%ab/
CATEGORIES:綠色茶座,網上錄音
ATTACH;FMTTYPE=image/jpeg:https://www.club-o.org/wp-content/uploads/2017/10/33993696884_b325e1ab69_k.jpg
END:VEVENT
BEGIN:VEVENT
DTSTART;TZID=UTC:20170513T190000
DTEND;TZID=UTC:20170513T204500
DTSTAMP:20260423T043141
CREATED:20171025T192629Z
LAST-MODIFIED:20171026T180543Z
UID:2617-1494702000-1494708300@www.club-o.org
SUMMARY:教你一分鐘看穿他人人格
DESCRIPTION:主講：Benny Siu\n（注冊催眠治療師，禪藝繪畫/五門靜心/解夢重建導師）\n\n\n如若你是領袖… 看穿團隊每個人的特質，適當地 分配崗位； 如若你是員工… 看穿自己先天特質，選擇合適 自己出路； 如若你是小女人… 看穿自己與他人特質，選擇合 適的伴侶或學會與現時的伴侶 相處； 如若你是學生… 看穿自己特質，選擇適合前路， 以免浪費數年青春； 如若你是創業者… 看穿自己優勢與缺點，尋找合適出路與你該與什麼人合作。 \n一生人之中，多花短短兩小時。打破局限思維，學習了解遠古 傳承下來的先天人格學，選擇對自己最好的出路。 \n\n			\n		\n	\n	\n	\n	\n		1 教你一分鐘看穿他人人格2 教你一分鐘看穿他人人格3 教你一分鐘看穿他人人格4 教你一分鐘看穿他人人格
URL:https://www.club-o.org/event/%e6%95%99%e4%bd%a0%e4%b8%80%e5%88%86%e9%90%98%e7%9c%8b%e7%a9%bf%e4%bb%96%e4%ba%ba%e4%ba%ba%e6%a0%bc/
CATEGORIES:網上錄音,高能量晚會
ATTACH;FMTTYPE=image/jpeg:https://www.club-o.org/wp-content/uploads/2017/10/linkedin-sales-navigator-403828-scaled.jpg
END:VEVENT
BEGIN:VEVENT
DTSTART;TZID=UTC:20170527T160000
DTEND;TZID=UTC:20170527T173000
DTSTAMP:20260423T043141
CREATED:20171019T203522Z
LAST-MODIFIED:20171026T180538Z
UID:2394-1495900800-1495906200@www.club-o.org
SUMMARY:家族業力的治療
DESCRIPTION:主講：賴柏諭博士\n（ISP創始人，臨床催眠治療師)\n\n\n家族系統動力例如與父母的關係；家族中有重大事件如墮胎、意外身亡、父母再婚、早死、子女早夭折；家族序位對下一代人生，如事業、關係、親子方面的影響，及如何改變有關的業力。賴博士會分享每個人的靈魂深處存在的靈魂基因(SoulGenetic)，包括與歷代祖先的連結如何影響一個人的命運，及可以即場教導一些簡單的冥想方法如何改變靈魂基因，幫助自己人生變得更順暢、成功和快樂。 \n\n			\n		\n	\n	\n	\n	\n		1 家族業力的治療2 家族業力的治療3 家族業力的治療4 家族業力的治療5 家族業力的治療
URL:https://www.club-o.org/event/%e5%ae%b6%e6%97%8f%e6%a5%ad%e5%8a%9b%e7%9a%84%e6%b2%bb%e7%99%82/
CATEGORIES:綠色茶座,網上錄音
ATTACH;FMTTYPE=image/jpeg:https://www.club-o.org/wp-content/uploads/2017/10/34056052852_003517fbfe_k.jpg
END:VEVENT
BEGIN:VEVENT
DTSTART;TZID=UTC:20170527T180000
DTEND;TZID=UTC:20170527T190000
DTSTAMP:20260423T043141
CREATED:20170622T000500Z
LAST-MODIFIED:20170622T000500Z
UID:1704-1495908000-1495911600@www.club-o.org
SUMMARY:狗狗可以食素嗎？
DESCRIPTION:高能量晚會 \n主講：Helen Kwok\n（「三綠狗素學」創辨人）\n中醫是身心靈合一的整全醫學，認為各種肉體上的疾病，皆與心神靈性有關。要得到療癒，除了要解決身體的原因外，更要發現心靈上的原因；我們的身心又與人生有密切關係，因此要獲得健康，更需要學懂如何做人，從改變生活入手。今晚本會主席李博士將會給現場參加者，透過直接面色診斷，解釋疾病不同層次的成因，對如何療癒給予人生指引。 \n\n			\n		\n	\n	\n	\n	\n		1 狗狗可以食素嗎？2 狗狗可以食素嗎？3 狗狗可以食素嗎？
URL:https://www.club-o.org/event/%e7%8b%97%e7%8b%97%e5%8f%af%e4%bb%a5%e9%a3%9f%e7%b4%a0%e5%97%8e%ef%bc%9f/
END:VEVENT
BEGIN:VEVENT
DTSTART;TZID=UTC:20170527T190000
DTEND;TZID=UTC:20170527T204500
DTSTAMP:20260423T043141
CREATED:20171025T193332Z
LAST-MODIFIED:20171026T180531Z
UID:2624-1495911600-1495917900@www.club-o.org
SUMMARY:狗狗可以食素嗎？
DESCRIPTION:主講：Helen Kwok\n（「三綠狗素學」創辨人）\n\n\n狗狗可以食素嗎？純素飲食對狗狗的影響是什麼？牠們每餐需要吃什麼？為我的狗狗製作食物時\,有哪些成分可以使用？如果你想知道上述問題的答案，5月27日來到ClubO吧！「三綠狗素學」創辨人HelenKwok將與您分享她的想法和經驗。 \n「三綠狗素學」BooRanZiadVEGture受三隻領養回來的素食狗狗(Boogie\,Ranger\,Zidane)啟發。三綠狗素學致力帶動更多人為自己(和狗狗)選擇不含肉、奶、蛋的純素飲食；選擇不含動物毛皮的服裝、鞋類和配飾；及領養混種狗狗。 \n\n			\n		\n	\n	\n	\n	\n		1 狗狗可以食素嗎？2 狗狗可以食素嗎？3 狗狗可以食素嗎？
URL:https://www.club-o.org/event/%e7%8b%97%e7%8b%97%e5%8f%af%e4%bb%a5%e9%a3%9f%e7%b4%a0%e5%97%8e%ef%bc%9f-2/
CATEGORIES:網上錄音,高能量晚會
ATTACH;FMTTYPE=image/jpeg:https://www.club-o.org/wp-content/uploads/2017/10/sweet-ice-cream-photography-321073-scaled.jpg
END:VEVENT
BEGIN:VEVENT
DTSTART;TZID=UTC:20170527T190000
DTEND;TZID=UTC:20170527T204500
DTSTAMP:20260423T043141
CREATED:20171025T211602Z
LAST-MODIFIED:20171026T180524Z
UID:2639-1495911600-1495917900@www.club-o.org
SUMMARY:《做自己的解夢師》體驗工作坊
DESCRIPTION:主講：Donna Wong\n（註冊催眠師培訓導師；臨床催眠治療師；夢境治療師）\n\n\n每個人都可以掌控自己的心理！每個人都可以成為自己的解夢師，自己最好的心理醫生！一個人性化，個人化催眠解夢旅程，舒心減壓，提升睡眠質素！心理質素！一個夢境療癒的分享會，產生集體療癒，感受心靈平靜和滋潤，找到夢境潛意識無窮的智慧，無限可能性！ \n講者投影片：《做自己的解夢師》體驗工作坊 \n\n			\n		\n	\n	\n	\n	\n		1 《做自己的解夢師》體驗工作坊2 《做自己的解夢師》體驗工作坊3 《做自己的解夢師》體驗工作坊4 《做自己的解夢師》體驗工作坊5 《做自己的解夢師》體驗工作坊
URL:https://www.club-o.org/event/%e3%80%8a%e5%81%9a%e8%87%aa%e5%b7%b1%e7%9a%84%e8%a7%a3%e5%a4%a2%e5%b8%ab%e3%80%8b%e9%ab%94%e9%a9%97%e5%b7%a5%e4%bd%9c%e5%9d%8a/
CATEGORIES:網上錄音,高能量晚會
ATTACH;FMTTYPE=image/jpeg:https://www.club-o.org/wp-content/uploads/2017/10/dyaa-eldin-103-scaled.jpg
END:VEVENT
END:VCALENDAR