BEGIN:VCALENDAR
VERSION:2.0
PRODID:-//綠色生活教育基金 - ECPv6.15.18//NONSGML v1.0//EN
CALSCALE:GREGORIAN
METHOD:PUBLISH
X-WR-CALNAME:綠色生活教育基金
X-ORIGINAL-URL:https://www.club-o.org
X-WR-CALDESC:Events for 綠色生活教育基金
REFRESH-INTERVAL;VALUE=DURATION:PT1H
X-Robots-Tag:noindex
X-PUBLISHED-TTL:PT1H
BEGIN:VTIMEZONE
TZID:UTC
BEGIN:STANDARD
TZOFFSETFROM:+0000
TZOFFSETTO:+0000
TZNAME:UTC
DTSTART:20160101T000000
END:STANDARD
END:VTIMEZONE
BEGIN:VEVENT
DTSTART;TZID=UTC:20170601T170000
DTEND;TZID=UTC:20170601T180000
DTSTAMP:20260423T031859
CREATED:20170621T235549Z
LAST-MODIFIED:20170622T012547Z
UID:1695-1496336400-1496340000@www.club-o.org
SUMMARY:李大夫與你講健康
DESCRIPTION:週四療癒夜\n \n主講：李宇銘博士\n（中醫師、前香港中文大學中醫學院講師）\n中醫是身心靈合一的整全醫學，認為各種肉體上的疾病，皆與心神靈性有關。要得到療癒，除了要解決身體的原因外，更要發現心靈上的原因；我們的身心又與人生有密切關係，因此要獲得健康，更需要學懂如何做人，從改變生活入手。今晚本會主席李博士將會給現場參加者，透過直接面色診斷，解釋疾病不同層次的成因，對如何療癒給予人生指引。 \n\n			\n		\n	\n	\n	\n	\n		1 李大夫與你講健康2 李大夫與你講健康3 李大夫與你講健康4 李大夫與你講健康
URL:https://www.club-o.org/event/%e6%9d%8e%e5%a4%a7%e5%a4%ab%e8%88%87%e4%bd%a0%e8%ac%9b%e5%81%a5%e5%ba%b7/
CATEGORIES:療癒夜,網上錄音
END:VEVENT
BEGIN:VEVENT
DTSTART;TZID=UTC:20170601T193000
DTEND;TZID=UTC:20170601T204500
DTSTAMP:20260423T031859
CREATED:20171019T183320Z
LAST-MODIFIED:20171026T180518Z
UID:2219-1496345400-1496349900@www.club-o.org
SUMMARY:李大夫與你講健康
DESCRIPTION:主講：李宇銘博士\n(中醫師、前香港中文大學中醫學院講師)\n\n\n中醫是身心靈合一的整全醫學，認為各種肉體上的疾病，皆與心神靈性有關。要得到療癒，除了要解決身體的原因外，更要發現心靈上的原因；我們的身心又與人生有密切關係，因此要獲得健康，更需要學懂如何做人，從改變生活入手。今晚本會主席李博士將會給現場參加者，透過直接面色診斷，解釋疾病不同層次的成因，對如何療癒給予人生指引。 \n\n			\n		\n	\n	\n	\n	\n		1 李大夫與你講健康2 李大夫與你講健康3 李大夫與你講健康4 李大夫與你講健康
URL:https://www.club-o.org/event/%e6%9d%8e%e5%a4%a7%e5%a4%ab%e8%88%87%e4%bd%a0%e8%ac%9b%e5%81%a5%e5%ba%b7-4/
CATEGORIES:療癒夜,網上錄音
ATTACH;FMTTYPE=image/jpeg:https://www.club-o.org/wp-content/uploads/2017/10/30306316244_c2e212fd47_k.jpg
END:VEVENT
BEGIN:VEVENT
DTSTART;TZID=UTC:20170608T180000
DTEND;TZID=UTC:20170608T193000
DTSTAMP:20260423T031859
CREATED:20170621T233452Z
LAST-MODIFIED:20170621T235909Z
UID:1680-1496944800-1496950200@www.club-o.org
SUMMARY:五(十)個現代人對身體的誤解
DESCRIPTION:週四療癒夜\n主講：符慧敏醫生\n正常生理取決於哪些物質與能量機制？豐盈物質需怎樣的能量配合？佳美能量又有哪些因素？新世代資訊及另類療癒有哪些最新建議？對照之下，何止五十？大有可能我們對自己身體的誤解還多多多啲呢！
URL:https://www.club-o.org/event/%e4%ba%94%e5%8d%81%e5%80%8b%e7%8f%be%e4%bb%a3%e4%ba%ba%e5%b0%8d%e8%ba%ab%e9%ab%94%e7%9a%84%e8%aa%a4%e8%a7%a3/
CATEGORIES:療癒夜,網上錄音
END:VEVENT
BEGIN:VEVENT
DTSTART;TZID=UTC:20170608T193000
DTEND;TZID=UTC:20170608T204500
DTSTAMP:20260423T031859
CREATED:20171019T184033Z
LAST-MODIFIED:20171026T180512Z
UID:2244-1496950200-1496954700@www.club-o.org
SUMMARY:五(十)個現代人對身體的誤解
DESCRIPTION:主講：符慧敏醫生\n\n\n正常生理取決於哪些物質與能量機制？豐盈物質需怎樣的能量配合？佳美能量又有哪些因素？新世代資訊及另類療癒有哪些最新建議？對照之下，何止五十？大有可能我們對自己身體的誤解還多多多啲呢！
URL:https://www.club-o.org/event/%e4%ba%94%e5%8d%81%e5%80%8b%e7%8f%be%e4%bb%a3%e4%ba%ba%e5%b0%8d%e8%ba%ab%e9%ab%94%e7%9a%84%e8%aa%a4%e8%a7%a3-2/
CATEGORIES:療癒夜,網上錄音
ATTACH;FMTTYPE=image/png:https://www.club-o.org/wp-content/uploads/2017/10/Screen-Shot-2017-10-20-at-10.37.33-AM.png
END:VEVENT
BEGIN:VEVENT
DTSTART;TZID=UTC:20170610T160000
DTEND;TZID=UTC:20170610T173000
DTSTAMP:20260423T031859
CREATED:20171019T203837Z
LAST-MODIFIED:20171026T180912Z
UID:2403-1497110400-1497115800@www.club-o.org
SUMMARY:太極醫道——太極龍虎宴、辟穀治病法
DESCRIPTION:主講：楊雲中\n（太極智慧學院院長，如是太極太極拳創始人）\n\n\n太極龍虎宴辟穀法是國學大師，養生專家，人的科學創始人龐明教授傳授的，是傳統的經典辟穀功法，是太極醫道的重要功法。通過龍咽津液虎喉呼吸打開生命第二模式，駕馭宇宙第三層物質，強化意識主宰生命的能力，汲取大自然中最精微的能量，增強人體與大自然信息和能量的交換，減少或斷除對有形物質依賴，使人的生命活動得到自由解放，意識活動自覺光明。 \n龍虎宴辟穀治病法可使百病早癒——腸胃全面休息，全面啟動自我療癒的機制，發揮器官自動修復功能，讓身體自動恢復各種平衡(血壓、體重、血糖量、體質寒熱等)的作用，加速各種大小病患快速痊癒，尤其是結石、痔瘡、腫瘤、腸胃病、皮膚病、敏感性、肝病、糖尿、心臟血管症、感冒、發燒等。。 \n\n			\n		\n	\n	\n	\n	\n		1 太極醫道——太極龍虎宴、辟穀治病法2 太極醫道——太極龍虎宴、辟穀治病法3 太極醫道——太極龍虎宴、辟穀治病法4 太極醫道——太極龍虎宴、辟穀治病法5 太極醫道——太極龍虎宴、辟穀治病法
URL:https://www.club-o.org/event/%e5%a4%aa%e6%a5%b5%e9%86%ab%e9%81%93-%e5%a4%aa%e6%a5%b5%e9%be%8d%e8%99%8e%e5%ae%b4%e3%80%81%e8%be%9f%e7%a9%80%e6%b2%bb%e7%97%85%e6%b3%95/
CATEGORIES:綠色茶座,網上錄音
ATTACH;FMTTYPE=image/jpeg:https://www.club-o.org/wp-content/uploads/2017/10/33402700803_fd35982847_k.jpg
END:VEVENT
BEGIN:VEVENT
DTSTART;TZID=UTC:20170610T190000
DTEND;TZID=UTC:20170610T204500
DTSTAMP:20260423T031859
CREATED:20171025T205053Z
LAST-MODIFIED:20171026T180907Z
UID:2630-1497121200-1497127500@www.club-o.org
SUMMARY:沖劑好定煲藥好？—— 吃中藥問題全面剖析
DESCRIPTION:主講：李宇銘博士\n（中醫師）\n\n\n現在流行中藥濃縮沖劑，究竟吃濃縮沖劑好還是 自己煲藥好？吃中成藥又怎麼樣？藥材打粉與沖 劑有甚麼不同？中藥材含有農藥重金屬嗎？怎樣 分辨中藥材優劣？如何避免假冒偽劣藥材？煲中 藥之前要不要洗藥？藥材要不要浸泡？煲中藥是 否應該翻煲？藥方之中藥味種類多好還是藥味少 好？本次講座邀請了中醫專家李宇銘博士，與你 全面剖析吃中藥的各種常見問題。 \n\n			\n		\n	\n	\n	\n	\n		1 沖劑好定煲藥好？—— 吃中藥問題全面剖析2 沖劑好定煲藥好？—— 吃中藥問題全面剖析3 沖劑好定煲藥好？—— 吃中藥問題全面剖析4 沖劑好定煲藥好？—— 吃中藥問題全面剖析5 沖劑好定煲藥好？—— 吃中藥問題全面剖析
URL:https://www.club-o.org/event/%e6%b2%96%e5%8a%91%e5%a5%bd%e5%ae%9a%e7%85%b2%e8%97%a5%e5%a5%bd%ef%bc%9f-%e5%90%83%e4%b8%ad%e8%97%a5%e5%95%8f%e9%a1%8c%e5%85%a8%e9%9d%a2%e5%89%96%e6%9e%90/
CATEGORIES:網上錄音,高能量晚會
ATTACH;FMTTYPE=image/jpeg:https://www.club-o.org/wp-content/uploads/2017/10/Chinese-Herbs.jpg
END:VEVENT
BEGIN:VEVENT
DTSTART;TZID=UTC:20170615T080000
DTEND;TZID=UTC:20170615T170000
DTSTAMP:20260423T031859
CREATED:20170615T013159Z
LAST-MODIFIED:20170912T131146Z
UID:1473-1497513600-1497546000@www.club-o.org
SUMMARY:自製梅果汁
DESCRIPTION:自製梅酒，相信你也聽過，也會懂做。\n不勝酒意的你，有什麼可以選擇呢？\n你有想過自製梅果汁，製作材料其實很簡單，不需要任何機器、化學調味料，只要一雙手及一個樽就可以製作了！ 唯一的調味就是糖， 糖也可以選擇的， 這樣飲下去，就不會有罪惡感，至少避免化學果糖吧！\n*請自行攜帶已消毒的玻璃樽 \n● 導師：岸本太太\n（香港女生，日本媳婦；《無難度燜燒杯料理》作者）\n● 日期：6月4日(週日)\n● 時間：上午11:00 – 下午1:30\n● 地點：Club O 會址G、H室\n● 費用：$248(會員$218)\n● Facebook：Mrs.Kishimoto 岸本家媳婦
URL:https://www.club-o.org/event/%e8%87%aa%e8%a3%bd%e6%a2%85%e6%9e%9c%e6%b1%81/
CATEGORIES:綠色廚房
END:VEVENT
BEGIN:VEVENT
DTSTART;TZID=UTC:20170617T160000
DTEND;TZID=UTC:20170617T173000
DTSTAMP:20260423T031859
CREATED:20171019T204532Z
LAST-MODIFIED:20171026T180901Z
UID:2412-1497715200-1497720600@www.club-o.org
SUMMARY:香港回憶
DESCRIPTION:主講：區仕美、陳慧敏\n\n\n全港市民曾被邀請從一百項候選香建築物名單當中，投票選出十項他們最愛的建築。投票結果得獎建築包括（排名按筆劃序）：九龍城寨、大澳棚屋、山頂纜車、尖沙咀天星碼頭連五支旗桿和中環天星碼頭、志蓮淨苑、香港大學本部樓、香港國際機場、海洋公園、雷生春，以及舊尖沙咀火車總站連尖沙咀鐘樓。名單當中既有盛載港人成長回憶和情感的建築，亦反映本土特色、歷史文化、建築美學和社會發展的項目，盡見本地多元的獨特之處。你的看法是什麼? \n講者投影片1：香港回憶-1 \n講者投影片2:  香港回憶-2 \n\n			\n		\n	\n	\n	\n	\n		1 香港回憶2 香港回憶3 香港回憶4 香港回憶5 香港回憶
URL:https://www.club-o.org/event/%e9%a6%99%e6%b8%af%e5%9b%9e%e6%86%b6/
CATEGORIES:綠色茶座,網上錄音
ATTACH;FMTTYPE=image/jpeg:https://www.club-o.org/wp-content/uploads/2017/10/34056052852_003517fbfe_k.jpg
END:VEVENT
BEGIN:VEVENT
DTSTART;TZID=UTC:20170622T080000
DTEND;TZID=UTC:20170622T170000
DTSTAMP:20260423T031859
CREATED:20170622T005107Z
LAST-MODIFIED:20170622T013103Z
UID:1723-1498118400-1498150800@www.club-o.org
SUMMARY:玄功易學保青春
DESCRIPTION:義務導師 : 錢福培、李行健\n●  日期及時間:7月1\, 15日，8月5日 \n(每月第一、三個星期六)上午10:00-11:00 \n●  地點:Club O 會址G、H室 \n●  費用:每堂$30(會員$25)，全部撥歸Club O以支持綠色生活教育 事業。每月第1堂即場報名。 \n玄功二十訣是道家著名養生功法，簡單易學，能活化全身骨椎血 液，活絡全身活動關節，只要次序井然勤練習，便可卻病延年。
URL:https://www.club-o.org/event/%e7%8e%84%e5%8a%9f%e6%98%93%e5%ad%b8%e4%bf%9d%e9%9d%92%e6%98%a5/
LOCATION:Club O\, 旺角亞皆老街86號昌明大厦7字樓FGH室
CATEGORIES:心靈互動
END:VEVENT
BEGIN:VEVENT
DTSTART;TZID=UTC:20170624T150000
DTEND;TZID=UTC:20170624T160000
DTSTAMP:20260423T031859
CREATED:20170622T004530Z
LAST-MODIFIED:20170622T013050Z
UID:1719-1498316400-1498320000@www.club-o.org
SUMMARY:香功、瑜伽關節操、道家養生功
DESCRIPTION:導師 : 胡錦文、歐振宗、湛燕歡\n● 日期及時間:逢星期六下午3:00-4:00 \n● 地點:Club O會址G、H室 \n● 費用:隨緣樂捐，支持綠色生活教育事業 \n  \n\n\n香功易學、氣感強、療效神奇、好玩，不但可加強免疫力，益壽延 年，還能減壓安睡、優化內心世界、調和情緒，令你更自在可愛。瑜伽關節操由上而下伸展關節，為各種運動最好的熱身準備，對 改善關節功能，有莫大裨益。 \n道家養生功是一套以「內臟體操」為主，通過抖動以及模仿大鵬、 靈龜、金蟾、神龍與鳳凰之動作而成的運動。初步可令到肢體運轉 柔軟，進而調節內分泌抗體，增強人體免疫力。 \n 
URL:https://www.club-o.org/event/%e9%a6%99%e5%8a%9f%e3%80%81%e7%91%9c%e4%bc%bd%e9%97%9c%e7%af%80%e6%93%8d%e3%80%81%e9%81%93%e5%ae%b6%e9%a4%8a%e7%94%9f%e5%8a%9f/
CATEGORIES:心靈互動
END:VEVENT
BEGIN:VEVENT
DTSTART;VALUE=DATE:20170626
DTEND;VALUE=DATE:20170627
DTSTAMP:20260423T031859
CREATED:20170622T001747Z
LAST-MODIFIED:20210908T011313Z
UID:1711-1498435200-1498521599@www.club-o.org
SUMMARY:(Club O 店及辦事處 休息 - closed)
DESCRIPTION:
URL:https://www.club-o.org/event/club-o-%e5%ba%97%e5%8f%8a%e8%be%a6%e4%ba%8b%e8%99%95-%e4%bc%91%e6%81%af-closed/
CATEGORIES:admin
END:VEVENT
BEGIN:VEVENT
DTSTART;TZID=UTC:20170629T043000
DTEND;TZID=UTC:20170629T180000
DTSTAMP:20260423T031859
CREATED:20170622T004033Z
LAST-MODIFIED:20170622T010217Z
UID:1714-1498710600-1498759200@www.club-o.org
SUMMARY:接收宇宙能量
DESCRIPTION:主持 : Victor D ́Aquino、陳愛眉( Amy D ́Aquino )、 豆豆率領Club O 療癒師團。\n每月多次舉行的送愛療癒聚會，由Club O療癒 師義務發心接引宇宙療癒能量，與同場者合一 共療，歡迎你陪同需要療癒的親友來Club O接 收宇宙大愛能量，更歡迎你隨心光臨親身體驗 祝福人間有緣眾生。 \n\n 「療癒課」: 逢週四下午4:30-6:00 (禪食晚餐6:30開始)\n 「愛心圈」: 每月第1個星期六晚上7:00-8:45 (禪食晚餐6:00開始)\n 地點:Club O會址G、H室
URL:https://www.club-o.org/event/%e6%8e%a5%e6%94%b6%e5%ae%87%e5%ae%99%e8%83%bd%e9%87%8f/
CATEGORIES:心靈互動
ATTACH;FMTTYPE=image/jpeg:https://www.club-o.org/wp-content/uploads/2017/06/TS_P0950-B3-00822-1-1920x1155.jpg
END:VEVENT
END:VCALENDAR