BEGIN:VCALENDAR
VERSION:2.0
PRODID:-//綠色生活教育基金 - ECPv6.15.18//NONSGML v1.0//EN
CALSCALE:GREGORIAN
METHOD:PUBLISH
X-ORIGINAL-URL:https://www.club-o.org
X-WR-CALDESC:Events for 綠色生活教育基金
REFRESH-INTERVAL;VALUE=DURATION:PT1H
X-Robots-Tag:noindex
X-PUBLISHED-TTL:PT1H
BEGIN:VTIMEZONE
TZID:UTC
BEGIN:STANDARD
TZOFFSETFROM:+0000
TZOFFSETTO:+0000
TZNAME:UTC
DTSTART:20170101T000000
END:STANDARD
END:VTIMEZONE
BEGIN:VEVENT
DTSTART;TZID=UTC:20180201T110000
DTEND;TZID=UTC:20180201T200000
DTSTAMP:20260422T164746
CREATED:20180115T191607Z
LAST-MODIFIED:20180115T191607Z
UID:3051-1517482800-1517515200@www.club-o.org
SUMMARY:樂活博覽及亞洲素食展
DESCRIPTION:樂活博覽及亞洲素食展是香港最大型天然、有機、綠色、環保生活展覽－樂活博覽2018，將於2018年2月1-3日香港會議展覽中心盛大舉行，為您展示全球最新最優質嘅樂活產品及提供最新的市場資訊。 \nClub O及香港素食會將參展【樂活博覽及亞洲素食展】 \n展覽日期：2018年2月1 – 2日（週四至週五）僅供業內人士免費入場參觀 \n2018年2月3日（週六）公眾及業內人士參觀 \n展覽地點：香港會議展覽中心\, 5F & 5G展覽廳 \n門票可於Club O 索取。
URL:https://www.club-o.org/event/%e6%a8%82%e6%b4%bb%e5%8d%9a%e8%a6%bd%e5%8f%8a%e4%ba%9e%e6%b4%b2%e7%b4%a0%e9%a3%9f%e5%b1%95/
ATTACH;FMTTYPE=image/jpeg:https://www.club-o.org/wp-content/uploads/2018/01/421356_538312536186015_1462978957_n.jpg
END:VEVENT
BEGIN:VEVENT
DTSTART;TZID=UTC:20180201T183000
DTEND;TZID=UTC:20180201T200000
DTSTAMP:20260422T164746
CREATED:20180115T192435Z
LAST-MODIFIED:20180115T192435Z
UID:3056-1517509800-1517515200@www.club-o.org
SUMMARY:自在蔬食-地中海菜
DESCRIPTION:誠邀大家來Club O慢活品嚐上盛蔬食，每星期有不同主題的美食，並可學習食材的烹調及營養知識，然後與Club O療癒師一起做靜心練習，享受一個沒有壓力的晚上。 \n2月1日-地中海菜，由移民西班牙的廚師Tom主理。收費：$168 (會員$150) \n時間：星期四   晚上 6:30 – 8:00             歡迎於致電26190000訂座時查詢菜單
URL:https://www.club-o.org/event/%e8%87%aa%e5%9c%a8%e8%94%ac%e9%a3%9f-%e5%9c%b0%e4%b8%ad%e6%b5%b7%e8%8f%9c/
LOCATION:Club O\, 旺角亞皆老街86號昌明大厦7字樓FGH室
ATTACH;FMTTYPE=image/jpeg:https://www.club-o.org/wp-content/uploads/2018/01/The-Ultimate-Mediterranean-Bowl-SQUARE.jpg
END:VEVENT
BEGIN:VEVENT
DTSTART;TZID=UTC:20180203T110000
DTEND;TZID=UTC:20180203T150000
DTSTAMP:20260422T164746
CREATED:20180115T192951Z
LAST-MODIFIED:20180115T193032Z
UID:3059-1517655600-1517670000@www.club-o.org
SUMMARY:古法茶果、煎堆工作坊
DESCRIPTION:古法茶果、煎堆工作坊 \n遵循古法製作茶果、煎堆，用米糠油炸煎堆，避免街外千年油，成品可取回家，請自攜盒。 \n導師：曾任寺院主廚的May姐 \n上課時間：2月2日 （星期六） 上午11:00-下午3:00 \n費用：非會員$349 ; 會員$314
URL:https://www.club-o.org/event/%e5%8f%a4%e6%b3%95%e8%8c%b6%e6%9e%9c%e3%80%81%e7%85%8e%e5%a0%86%e5%b7%a5%e4%bd%9c%e5%9d%8a/
LOCATION:Club O\, 旺角亞皆老街86號昌明大厦7字樓FGH室
CATEGORIES:綠色廚房
ATTACH;FMTTYPE=image/jpeg:https://www.club-o.org/wp-content/uploads/2018/01/600x400_49e3aeeebbdebefca16d12ba66bd2985.jpg
END:VEVENT
BEGIN:VEVENT
DTSTART;TZID=UTC:20180204T100000
DTEND;TZID=UTC:20180204T130000
DTSTAMP:20260422T164746
CREATED:20180111T020406Z
LAST-MODIFIED:20180111T020406Z
UID:3003-1517738400-1517749200@www.club-o.org
SUMMARY:能量療癒義診
DESCRIPTION:能量療癒義診 \n運用擴大療癒法的雷射光束，掃描、清理、釋放、轉化、重建身體的所有糸統，治療身、心、靈各層面問題。 \n治療師：蔡穎輝\n日期：2月4日 （星期日）\n時間：10 am – 1pm\n地點：Club O B 室\n名額：3人
URL:https://www.club-o.org/event/%e8%83%bd%e9%87%8f%e7%99%82%e7%99%92%e7%be%a9%e8%a8%ba-2/
LOCATION:Club O\, 旺角亞皆老街86號昌明大厦7字樓FGH室
ATTACH;FMTTYPE=image/jpeg:https://www.club-o.org/wp-content/uploads/2018/01/healing.jpeg
END:VEVENT
BEGIN:VEVENT
DTSTART;TZID=UTC:20180204T140000
DTEND;TZID=UTC:20180204T163000
DTSTAMP:20260422T164746
CREATED:20180115T193649Z
LAST-MODIFIED:20180115T193649Z
UID:3062-1517752800-1517761800@www.club-o.org
SUMMARY:運動基本法 1 – 擊退痛症工作坊
DESCRIPTION:運動基本法 1 – 擊退痛症工作坊\n現在很多都市人因工作繁忙，缺乏運動，加上飲食失調，受長期痛症困擾，影響身體及情緒。此工作坊與大家分享改善關節飲食及抗炎飲食，再透過適當的關節保健運動，改善姿勢及關節問題，讓大家可以掌握擊退痛症的基本方法。 \n工作坊內容： \n\n改善關節飲食及認識抗炎飲食\n如何保持良好及改善姿勢，包括行、站、坐、臥、下蹲、提取重物等姿勢。\n關節保健運動\n認識活動關節的分類\n強化軸心肌肉運動\n脊骨：頸、背、腰\n肩、膝\n\n  \n主講：鄭浩光 (國家高級公共營養師) \n日期：2月4日 (週日) \n時間：下午2:00 – 4 :30 \n地點：Club O 會址 G、H 室 \n收費：$100 (會員$90) \n註：綠色人生證書課程必修科 – 2 學分
URL:https://www.club-o.org/event/%e9%81%8b%e5%8b%95%e5%9f%ba%e6%9c%ac%e6%b3%95-1-%e6%93%8a%e9%80%80%e7%97%9b%e7%97%87%e5%b7%a5%e4%bd%9c%e5%9d%8a/
LOCATION:Club O\, 旺角亞皆老街86號昌明大厦7字樓FGH室
ATTACH;FMTTYPE=image/jpeg:https://www.club-o.org/wp-content/uploads/2018/01/34026913023_7678a3aa95_z.jpg
END:VEVENT
BEGIN:VEVENT
DTSTART;TZID=UTC:20180208T183000
DTEND;TZID=UTC:20180208T200000
DTSTAMP:20260422T164746
CREATED:20180115T194355Z
LAST-MODIFIED:20180115T194355Z
UID:3069-1518114600-1518120000@www.club-o.org
SUMMARY:自在蔬食- 古早味年菜
DESCRIPTION:誠邀大家來Club O慢活品嚐上盛蔬食，每星期有不同主題的美食，並可學習食材的烹調及營養知識，然後與Club O療癒師一起做靜心練習，享受一個沒有壓力的晚上。 \n2月8日- 古早味年菜，由Club O總廚 Daisy主理。收費：$168 (會員$150) \n時間：星期四   晚上 6:30 – 8:00             歡迎於致電訂座時查詢菜單
URL:https://www.club-o.org/event/%e8%87%aa%e5%9c%a8%e8%94%ac%e9%a3%9f-%e5%8f%a4%e6%97%a9%e5%91%b3%e5%b9%b4%e8%8f%9c/
LOCATION:Club O\, 旺角亞皆老街86號昌明大厦7字樓FGH室
CATEGORIES:綠色廚房
ATTACH;FMTTYPE=image/jpeg:https://www.club-o.org/wp-content/uploads/2018/01/25660484978_f6cd65c5f7_k.jpg
END:VEVENT
BEGIN:VEVENT
DTSTART;TZID=UTC:20180210T110000
DTEND;TZID=UTC:20180210T150000
DTSTAMP:20260422T164746
CREATED:20180115T195010Z
LAST-MODIFIED:20180115T195010Z
UID:3072-1518260400-1518274800@www.club-o.org
SUMMARY:農曆新年傳統年菜工作坊(二)
DESCRIPTION:教你使用鮮猴頭菇、白雲卷、腐皮及支竹等常用素食材料製作精緻賀年美食。 \n上課時間：2月10日 （星期六）   上午11:00- 3:00 \n導師：Club O總廚 Daisy \n收費：$380 (會員$342) \n 
URL:https://www.club-o.org/event/%e8%be%b2%e6%9b%86%e6%96%b0%e5%b9%b4%e5%82%b3%e7%b5%b1%e5%b9%b4%e8%8f%9c%e5%b7%a5%e4%bd%9c%e5%9d%8a%e4%ba%8c/
LOCATION:Club O\, 旺角亞皆老街86號昌明大厦7字樓FGH室
ATTACH;FMTTYPE=image/jpeg:https://www.club-o.org/wp-content/uploads/2018/01/12509229_1522708428058989_8202427874655123609_n.jpg
END:VEVENT
BEGIN:VEVENT
DTSTART;TZID=UTC:20180214T080000
DTEND;TZID=UTC:20180214T170000
DTSTAMP:20260422T164746
CREATED:20180115T195216Z
LAST-MODIFIED:20180115T195216Z
UID:3075-1518595200-1518627600@www.club-o.org
SUMMARY:年廿九。Club O 店及辦事處營業至下5時，道家養生功練習工作坊將暫停一次，敬請留意。
DESCRIPTION:年廿九。Club O 店及辦事處營業至下5時，道家養生功練習工作坊將暫停一次，敬請留意。
URL:https://www.club-o.org/event/%e5%b9%b4%e5%bb%bf%e4%b9%9d%e3%80%82club-o-%e5%ba%97%e5%8f%8a%e8%be%a6%e4%ba%8b%e8%99%95%e7%87%9f%e6%a5%ad%e8%87%b3%e4%b8%8b5%e6%99%82%ef%bc%8c%e9%81%93%e5%ae%b6%e9%a4%8a%e7%94%9f%e5%8a%9f%e7%b7%b4/
END:VEVENT
BEGIN:VEVENT
DTSTART;VALUE=DATE:20180215
DTEND;VALUE=DATE:20180222
DTSTAMP:20260422T164746
CREATED:20180115T195404Z
LAST-MODIFIED:20180115T195404Z
UID:3077-1518652800-1519257599@www.club-o.org
SUMMARY:農曆新年休息
DESCRIPTION:
URL:https://www.club-o.org/event/%e8%be%b2%e6%9b%86%e6%96%b0%e5%b9%b4%e4%bc%91%e6%81%af/
ATTACH;FMTTYPE=image/jpeg:https://www.club-o.org/wp-content/uploads/2018/01/MagazinePic-05-2.3.001-bigpicture_05_1.jpg
END:VEVENT
BEGIN:VEVENT
DTSTART;VALUE=DATE:20180222
DTEND;VALUE=DATE:20180223
DTSTAMP:20260422T164746
CREATED:20180115T195547Z
LAST-MODIFIED:20180115T195547Z
UID:3080-1519257600-1519343999@www.club-o.org
SUMMARY:初七啟市  （Club O店及辦事處照常營業）自在蔬食及晚上活動將暫停一次。
DESCRIPTION:
URL:https://www.club-o.org/event/%e5%88%9d%e4%b8%83%e5%95%9f%e5%b8%82-%ef%bc%88club-o%e5%ba%97%e5%8f%8a%e8%be%a6%e4%ba%8b%e8%99%95%e7%85%a7%e5%b8%b8%e7%87%9f%e6%a5%ad%ef%bc%89%e8%87%aa%e5%9c%a8%e8%94%ac%e9%a3%9f%e5%8f%8a%e6%99%9a/
ATTACH;FMTTYPE=image/jpeg:https://www.club-o.org/wp-content/uploads/2018/01/MagazinePic-01-2.3.001-bigpicture_01_1.jpg
END:VEVENT
BEGIN:VEVENT
DTSTART;TZID=UTC:20180224T191500
DTEND;TZID=UTC:20180224T204500
DTSTAMP:20260422T164746
CREATED:20180115T200042Z
LAST-MODIFIED:20180224T204144Z
UID:3083-1519499700-1519505100@www.club-o.org
SUMMARY:中醫怎樣看排毒反應？
DESCRIPTION:【中醫怎樣看排毒反應？】 \n排毒反應，又稱為好轉反應、暝眩反應、排病反應、退病反應等，是民間用語，是指身體在好轉、變得健康的過程中卻反而出現不適，這常見於吃素、食生，或者練習各種功法、運動的過程，又或使用各種療法，卻反而出現了新的症狀。究竟如何辨別自己是否在「排毒」？還是正在生病惡化？本次講座，邀請了本會主席李宇銘中醫學博士到來，跟大家深入解釋醫學原理。 \n主持︰Club O主席李宇銘中醫學博士 \n日期：2月24日（星期六） \n時間：晚上7:15-8:45 \nhttps://www.club-o.org/wp-content/uploads/2018/01/20180224.mp3
URL:https://www.club-o.org/event/%e4%b8%ad%e9%86%ab%e6%80%8e%e6%a8%a3%e7%9c%8b%e6%8e%92%e6%af%92%e5%8f%8d%e6%87%89%ef%bc%9f/
LOCATION:Club O\, 旺角亞皆老街86號昌明大厦7字樓FGH室
CATEGORIES:網上錄音,高能量晚會
ATTACH;FMTTYPE=image/jpeg:https://www.club-o.org/wp-content/uploads/2018/01/IMG_20171202_165357-scaled.jpg
END:VEVENT
BEGIN:VEVENT
DTSTART;TZID=UTC:20180225T093000
DTEND;TZID=UTC:20180225T113000
DTSTAMP:20260422T164746
CREATED:20180115T200844Z
LAST-MODIFIED:20180115T200844Z
UID:3087-1519551000-1519558200@www.club-o.org
SUMMARY:行山－大尾督新娘潭
DESCRIPTION:起點:大尾督   終點:新娘潭 \n長度: 約 4.4 公里 \n需時: 約 2.0 小時 \n難度: ＊＊ \n上午9：30大埔墟火車站外新達廣場梯口集合（大尾督新娘潭）
URL:https://www.club-o.org/event/%e8%a1%8c%e5%b1%b1%ef%bc%8d%e5%a4%a7%e5%b0%be%e7%9d%a3%e6%96%b0%e5%a8%98%e6%bd%ad/
CATEGORIES:身心舒展
ATTACH;FMTTYPE=image/jpeg:https://www.club-o.org/wp-content/uploads/2018/01/FAI_7817And8more-Edit.jpg
END:VEVENT
END:VCALENDAR