BEGIN:VCALENDAR
VERSION:2.0
PRODID:-//綠色生活教育基金 - ECPv6.15.18//NONSGML v1.0//EN
CALSCALE:GREGORIAN
METHOD:PUBLISH
X-WR-CALNAME:綠色生活教育基金
X-ORIGINAL-URL:https://www.club-o.org
X-WR-CALDESC:Events for 綠色生活教育基金
REFRESH-INTERVAL;VALUE=DURATION:PT1H
X-Robots-Tag:noindex
X-PUBLISHED-TTL:PT1H
BEGIN:VTIMEZONE
TZID:UTC
BEGIN:STANDARD
TZOFFSETFROM:+0000
TZOFFSETTO:+0000
TZNAME:UTC
DTSTART:20220101T000000
END:STANDARD
END:VTIMEZONE
BEGIN:VEVENT
DTSTART;TZID=UTC:20230301T140000
DTEND;TZID=UTC:20230301T153000
DTSTAMP:20260422T163318
CREATED:20230215T220121Z
LAST-MODIFIED:20230215T220121Z
UID:11413-1677679200-1677684600@www.club-o.org
SUMMARY:彩虹活力星期三
DESCRIPTION:
URL:https://www.club-o.org/event/%e5%bd%a9%e8%99%b9%e6%b4%bb%e5%8a%9b%e6%98%9f%e6%9c%9f%e4%b8%89-2/
ATTACH;FMTTYPE=image/jpeg:https://www.club-o.org/wp-content/uploads/2023/02/彩虹活力星期三-3月.jpg
END:VEVENT
BEGIN:VEVENT
DTSTART;TZID=UTC:20230302T110000
DTEND;TZID=UTC:20230302T123000
DTSTAMP:20260422T163318
CREATED:20230215T215955Z
LAST-MODIFIED:20230215T215955Z
UID:11404-1677754800-1677760200@www.club-o.org
SUMMARY:手穴養生保健班
DESCRIPTION:
URL:https://www.club-o.org/event/%e6%89%8b%e7%a9%b4%e9%a4%8a%e7%94%9f%e4%bf%9d%e5%81%a5%e7%8f%ad/
LOCATION:Club O\, 旺角亞皆老街86號昌明大厦7字樓FGH室
ATTACH;FMTTYPE=image/jpeg:https://www.club-o.org/wp-content/uploads/2023/02/Blue-Pastel-and-Citrus-Green-Colorful-Playful-Skincare-Ingredient-Instagram-Post.jpg
END:VEVENT
BEGIN:VEVENT
DTSTART;TZID=UTC:20230302T191500
DTEND;TZID=UTC:20230302T204500
DTSTAMP:20260422T163318
CREATED:20230215T220343Z
LAST-MODIFIED:20230215T220343Z
UID:11419-1677784500-1677789900@www.club-o.org
SUMMARY:手療師團隊愛心圈3月
DESCRIPTION:
URL:https://www.club-o.org/event/%e6%89%8b%e7%99%82%e5%b8%ab%e5%9c%98%e9%9a%8a%e6%84%9b%e5%bf%83%e5%9c%883%e6%9c%88/
LOCATION:Club O\, 旺角亞皆老街86號昌明大厦7字樓FGH室
ATTACH;FMTTYPE=image/jpeg:https://www.club-o.org/wp-content/uploads/2023/02/Club-O-手療師團隊3月.jpg
END:VEVENT
BEGIN:VEVENT
DTSTART;TZID=UTC:20230304T103000
DTEND;TZID=UTC:20230304T120000
DTSTAMP:20260422T163318
CREATED:20230215T220442Z
LAST-MODIFIED:20230215T220442Z
UID:11423-1677925800-1677931200@www.club-o.org
SUMMARY:道家養生功
DESCRIPTION:
URL:https://www.club-o.org/event/%e9%81%93%e5%ae%b6%e9%a4%8a%e7%94%9f%e5%8a%9f-11/
LOCATION:Club O\, 旺角亞皆老街86號昌明大厦7字樓FGH室
ATTACH;FMTTYPE=image/jpeg:https://www.club-o.org/wp-content/uploads/2023/02/道家養生功3月.jpg
END:VEVENT
BEGIN:VEVENT
DTSTART;TZID=UTC:20230304T130000
DTEND;TZID=UTC:20230304T140000
DTSTAMP:20260422T163318
CREATED:20230215T220808Z
LAST-MODIFIED:20230217T004609Z
UID:11426-1677934800-1677938400@www.club-o.org
SUMMARY:禪食體驗3月
DESCRIPTION:了解更多有關禪食｜\nhttps://www.club-o.org/%e7%a6%aa%e9%a3%9f%e9%ab%94%e9%a9%97/
URL:https://www.club-o.org/event/%e7%a6%aa%e9%a3%9f%e9%ab%94%e9%a9%972%e6%9c%88/
LOCATION:Club O\, 旺角亞皆老街86號昌明大厦7字樓FGH室
ATTACH;FMTTYPE=image/jpeg:https://www.club-o.org/wp-content/uploads/2023/02/2-1.jpg
END:VEVENT
BEGIN:VEVENT
DTSTART;TZID=UTC:20230304T141500
DTEND;TZID=UTC:20230304T151500
DTSTAMP:20260422T163318
CREATED:20230215T221203Z
LAST-MODIFIED:20230215T221330Z
UID:11430-1677939300-1677942900@www.club-o.org
SUMMARY:香功
DESCRIPTION:
URL:https://www.club-o.org/event/%e9%a6%99%e5%8a%9f/
LOCATION:Club O\, 旺角亞皆老街86號昌明大厦7字樓FGH室
END:VEVENT
BEGIN:VEVENT
DTSTART;TZID=UTC:20230305T140000
DTEND;TZID=UTC:20230305T160000
DTSTAMP:20260422T163318
CREATED:20230215T221535Z
LAST-MODIFIED:20230215T221755Z
UID:11434-1678024800-1678032000@www.club-o.org
SUMMARY:廚藝證書課程 - 開飯易
DESCRIPTION:
URL:https://www.club-o.org/event/%e5%bb%9a%e8%97%9d%e8%ad%89%e6%9b%b8%e8%aa%b2%e7%a8%8b-%e9%96%8b%e9%a3%af%e6%98%93/
LOCATION:Club O\, 旺角亞皆老街86號昌明大厦7字樓FGH室
ATTACH;FMTTYPE=image/jpeg:https://www.club-o.org/wp-content/uploads/2023/02/蔬食廚藝實習-證書課程2.jpg
END:VEVENT
BEGIN:VEVENT
DTSTART;TZID=UTC:20230309T143000
DTEND;TZID=UTC:20230309T153000
DTSTAMP:20260422T163318
CREATED:20230215T222026Z
LAST-MODIFIED:20230215T222026Z
UID:11442-1678372200-1678375800@www.club-o.org
SUMMARY:動感人生 – 歡樂健康舒痛班
DESCRIPTION:
URL:https://www.club-o.org/event/%e5%8b%95%e6%84%9f%e4%ba%ba%e7%94%9f-%e6%ad%a1%e6%a8%82%e5%81%a5%e5%ba%b7%e8%88%92%e7%97%9b%e7%8f%ad/
ATTACH;FMTTYPE=image/jpeg:https://www.club-o.org/wp-content/uploads/2023/02/動感人生歡樂健康舒痛班.jpg
END:VEVENT
BEGIN:VEVENT
DTSTART;TZID=UTC:20230312T133000
DTEND;TZID=UTC:20230312T163000
DTSTAMP:20260422T163318
CREATED:20230215T223508Z
LAST-MODIFIED:20230215T223508Z
UID:11451-1678627800-1678638600@www.club-o.org
SUMMARY:南丫島水果練功
DESCRIPTION:
URL:https://www.club-o.org/event/%e5%8d%97%e4%b8%ab%e5%b3%b6%e6%b0%b4%e6%9e%9c%e7%b7%b4%e5%8a%9f/
ATTACH;FMTTYPE=image/jpeg:https://www.club-o.org/wp-content/uploads/2023/02/行山樂.jpg
END:VEVENT
BEGIN:VEVENT
DTSTART;TZID=UTC:20230323T183000
DTEND;TZID=UTC:20230323T204500
DTSTAMP:20260422T163318
CREATED:20230215T223627Z
LAST-MODIFIED:20230215T223627Z
UID:11453-1679596200-1679604300@www.club-o.org
SUMMARY:脈輪療癒之旅
DESCRIPTION:
URL:https://www.club-o.org/event/%e8%84%88%e8%bc%aa%e7%99%82%e7%99%92%e4%b9%8b%e6%97%85-3/
LOCATION:Club O\, 旺角亞皆老街86號昌明大厦7字樓FGH室
ATTACH;FMTTYPE=image/jpeg:https://www.club-o.org/wp-content/uploads/2023/02/脈輪2-2.jpg
END:VEVENT
BEGIN:VEVENT
DTSTART;TZID=UTC:20230326T093000
DTEND;TZID=UTC:20230326T123000
DTSTAMP:20260422T163318
CREATED:20230215T223403Z
LAST-MODIFIED:20230215T223403Z
UID:11447-1679823000-1679833800@www.club-o.org
SUMMARY:3月份行山樂
DESCRIPTION:
URL:https://www.club-o.org/event/3%e6%9c%88%e4%bb%bd%e8%a1%8c%e5%b1%b1%e6%a8%82/
ATTACH;FMTTYPE=image/jpeg:https://www.club-o.org/wp-content/uploads/2023/02/行山樂.jpg
END:VEVENT
END:VCALENDAR