BEGIN:VCALENDAR
VERSION:2.0
PRODID:-//綠色生活教育基金 - ECPv6.15.18//NONSGML v1.0//EN
CALSCALE:GREGORIAN
METHOD:PUBLISH
X-WR-CALNAME:綠色生活教育基金
X-ORIGINAL-URL:https://www.club-o.org
X-WR-CALDESC:Events for 綠色生活教育基金
REFRESH-INTERVAL;VALUE=DURATION:PT1H
X-Robots-Tag:noindex
X-PUBLISHED-TTL:PT1H
BEGIN:VTIMEZONE
TZID:UTC
BEGIN:STANDARD
TZOFFSETFROM:+0000
TZOFFSETTO:+0000
TZNAME:UTC
DTSTART:20230101T000000
END:STANDARD
END:VTIMEZONE
BEGIN:VEVENT
DTSTART;TZID=UTC:20240301T093000
DTEND;TZID=UTC:20240301T110000
DTSTAMP:20260421T012843
CREATED:20240302T092531Z
LAST-MODIFIED:20240302T092531Z
UID:13204-1709285400-1709290800@www.club-o.org
SUMMARY:長者增肌體態班 (A)
DESCRIPTION:日期：3月 1，8，15，22日 \n時間：9:30-11:00 \n地點：Club O 活動室 \n費用：$200 / 月 \n導師：Jacky
URL:https://www.club-o.org/event/%e9%95%b7%e8%80%85%e5%a2%9e%e8%82%8c%e9%ab%94%e6%85%8b%e7%8f%ad-a/
LOCATION:Club O\, 旺角亞皆老街86號昌明大厦7字樓FGH室
ATTACH;FMTTYPE=image/png:https://www.club-o.org/wp-content/uploads/2024/03/3月-長者生肌體態班-.png
END:VEVENT
BEGIN:VEVENT
DTSTART;TZID=UTC:20240301T111500
DTEND;TZID=UTC:20240301T124500
DTSTAMP:20260421T012843
CREATED:20240302T092806Z
LAST-MODIFIED:20240302T092806Z
UID:13210-1709291700-1709297100@www.club-o.org
SUMMARY:長者增肌體態班 (B)
DESCRIPTION:日期：3月 1，8，15，22日 \n時間：11:15-12:45 \n地點：Club O 活動室 \n費用：$200 / 月 \n導師：Jacky
URL:https://www.club-o.org/event/%e9%95%b7%e8%80%85%e5%a2%9e%e8%82%8c%e9%ab%94%e6%85%8b%e7%8f%ad-b/
LOCATION:Club O\, 旺角亞皆老街86號昌明大厦7字樓FGH室
ATTACH;FMTTYPE=image/png:https://www.club-o.org/wp-content/uploads/2024/03/3月-長者生肌體態班-.png
END:VEVENT
BEGIN:VEVENT
DTSTART;TZID=UTC:20240301T131500
DTEND;TZID=UTC:20240301T144500
DTSTAMP:20260421T012843
CREATED:20240302T093134Z
LAST-MODIFIED:20240302T093332Z
UID:13215-1709298900-1709304300@www.club-o.org
SUMMARY:會員瑜珈班
DESCRIPTION:日期：3月1\, 8\, 15\, 22日（五） \n時間：13:15-14:45 \n地點：Club O 活動室 \n費用：＄240 / 月（會員） \n導師：黃麗娥
URL:https://www.club-o.org/event/%e6%9c%83%e5%93%a1%e7%91%9c%e7%8f%88%e7%8f%ad/
LOCATION:Club O\, 旺角亞皆老街86號昌明大厦7字樓FGH室
ATTACH;FMTTYPE=image/png:https://www.club-o.org/wp-content/uploads/2024/03/3月-瑜伽班-1.png
END:VEVENT
BEGIN:VEVENT
DTSTART;TZID=UTC:20240302T130000
DTEND;TZID=UTC:20240302T140000
DTSTAMP:20260421T012843
CREATED:20240302T094517Z
LAST-MODIFIED:20240302T094517Z
UID:13233-1709384400-1709388000@www.club-o.org
SUMMARY:禪食體驗
DESCRIPTION:日期：3月2\, 9\, 16日（六） \n時間：13:00-14:00 \n地點：Club O 活動室 \n費用：自由定價
URL:https://www.club-o.org/event/%e7%a6%aa%e9%a3%9f%e9%ab%94%e9%a9%97-9/
LOCATION:Club O\, 旺角亞皆老街86號昌明大厦7字樓FGH室
ATTACH;FMTTYPE=image/png:https://www.club-o.org/wp-content/uploads/2024/03/三月禪食.png
END:VEVENT
BEGIN:VEVENT
DTSTART;TZID=UTC:20240302T150000
DTEND;TZID=UTC:20240302T163000
DTSTAMP:20260421T012843
CREATED:20240302T094909Z
LAST-MODIFIED:20240302T094909Z
UID:13239-1709391600-1709397000@www.club-o.org
SUMMARY:頌缽療癒結合經絡調理工作坊(一)
DESCRIPTION:日期：3月 2日（六） \n時間：15:00-16:30 \n地點：Club O 活動室 \n費用：$320/288 \n導師：Cora Cheng \n工作坊(一) 氣滯 — 靜心調神，疏解肝鬱
URL:https://www.club-o.org/event/%e9%a0%8c%e7%bc%bd%e7%99%82%e7%99%92%e7%b5%90%e5%90%88%e7%b6%93%e7%b5%a1%e8%aa%bf%e7%90%86%e5%b7%a5%e4%bd%9c%e5%9d%8a%e4%b8%80/
LOCATION:Club O\, 旺角亞皆老街86號昌明大厦7字樓FGH室
END:VEVENT
BEGIN:VEVENT
DTSTART;VALUE=DATE:20240304
DTEND;VALUE=DATE:20240305
DTSTAMP:20260421T012843
CREATED:20170622T001747Z
LAST-MODIFIED:20170622T001747Z
UID:12179-1709510400-1709596799@www.club-o.org
SUMMARY:(Club O 店及辦事處 休息 - closed)
DESCRIPTION:
URL:https://www.club-o.org/event/club-o-%e5%ba%97%e5%8f%8a%e8%be%a6%e4%ba%8b%e8%99%95-%e4%bc%91%e6%81%af-closed-2024-03-04/
CATEGORIES:admin
END:VEVENT
BEGIN:VEVENT
DTSTART;TZID=UTC:20240305T193000
DTEND;TZID=UTC:20240305T223000
DTSTAMP:20260421T012843
CREATED:20240302T095720Z
LAST-MODIFIED:20240302T095720Z
UID:13248-1709667000-1709677800@www.club-o.org
SUMMARY:創造生命的奇蹟課程（Level 2）
DESCRIPTION:日期：3月5\,12\,19\,26日/ 4月16日（二） \n時間：19:30-22:30 \n地點：Club O 活動室 \n費用：$2800/2280 \n導師：Hera 希拉老師
URL:https://www.club-o.org/event/%e5%89%b5%e9%80%a0%e7%94%9f%e5%91%bd%e7%9a%84%e5%a5%87%e8%b9%9f%e8%aa%b2%e7%a8%8b%ef%bc%88level-2%ef%bc%89/
LOCATION:Club O\, 旺角亞皆老街86號昌明大厦7字樓FGH室
END:VEVENT
BEGIN:VEVENT
DTSTART;TZID=UTC:20240306T140000
DTEND;TZID=UTC:20240306T153000
DTSTAMP:20260421T012843
CREATED:20240302T092059Z
LAST-MODIFIED:20240302T092114Z
UID:13195-1709733600-1709739000@www.club-o.org
SUMMARY:彩虹活力星期三
DESCRIPTION:彩虹活力星期三 \n日期：3月 6\, 13\, 20\, 27日逢星期三 \n時間：14:00-15:30 \n地點：戶外 \n費用：不需報名 免費參加 \n導師：歐振宗團隊
URL:https://www.club-o.org/event/%e5%bd%a9%e8%99%b9%e6%b4%bb%e5%8a%9b%e6%98%9f%e6%9c%9f%e4%b8%89-3/
LOCATION:Club O\, 旺角亞皆老街86號昌明大厦7字樓FGH室
ATTACH;FMTTYPE=image/png:https://www.club-o.org/wp-content/uploads/2024/03/三月彩虹活力.png
END:VEVENT
BEGIN:VEVENT
DTSTART;TZID=UTC:20240306T193000
DTEND;TZID=UTC:20240306T210000
DTSTAMP:20260421T012843
CREATED:20240302T101204Z
LAST-MODIFIED:20240302T101204Z
UID:13268-1709753400-1709758800@www.club-o.org
SUMMARY:靈魂頌唱與静心公益音樂會
DESCRIPTION:日期：3月6日（三） \n時間：19:30-21:00 \n地點：Club O 活動室 \n費用：隨緣樂捐 \n導師：Asti & Kakeru
URL:https://www.club-o.org/event/%e9%9d%88%e9%ad%82%e9%a0%8c%e5%94%b1%e8%88%87%e9%9d%99%e5%bf%83%e5%85%ac%e7%9b%8a%e9%9f%b3%e6%a8%82%e6%9c%83/
LOCATION:Club O\, 旺角亞皆老街86號昌明大厦7字樓FGH室
END:VEVENT
BEGIN:VEVENT
DTSTART;TZID=UTC:20240308T093000
DTEND;TZID=UTC:20240308T110000
DTSTAMP:20260421T012843
CREATED:20240302T092531Z
LAST-MODIFIED:20240302T092531Z
UID:13207-1709890200-1709895600@www.club-o.org
SUMMARY:長者增肌體態班 (A)
DESCRIPTION:日期：3月 1，8，15，22日 \n時間：9:30-11:00 \n地點：Club O 活動室 \n費用：$200 / 月 \n導師：Jacky
URL:https://www.club-o.org/event/%e9%95%b7%e8%80%85%e5%a2%9e%e8%82%8c%e9%ab%94%e6%85%8b%e7%8f%ad-a-2024-03-08/
LOCATION:Club O\, 旺角亞皆老街86號昌明大厦7字樓FGH室
ATTACH;FMTTYPE=image/png:https://www.club-o.org/wp-content/uploads/2024/03/3月-長者生肌體態班-.png
END:VEVENT
BEGIN:VEVENT
DTSTART;TZID=UTC:20240308T111500
DTEND;TZID=UTC:20240308T124500
DTSTAMP:20260421T012843
CREATED:20240302T092806Z
LAST-MODIFIED:20240302T092806Z
UID:13212-1709896500-1709901900@www.club-o.org
SUMMARY:長者增肌體態班 (B)
DESCRIPTION:日期：3月 1，8，15，22日 \n時間：11:15-12:45 \n地點：Club O 活動室 \n費用：$200 / 月 \n導師：Jacky
URL:https://www.club-o.org/event/%e9%95%b7%e8%80%85%e5%a2%9e%e8%82%8c%e9%ab%94%e6%85%8b%e7%8f%ad-b-2024-03-08/
LOCATION:Club O\, 旺角亞皆老街86號昌明大厦7字樓FGH室
ATTACH;FMTTYPE=image/png:https://www.club-o.org/wp-content/uploads/2024/03/3月-長者生肌體態班-.png
END:VEVENT
BEGIN:VEVENT
DTSTART;TZID=UTC:20240308T131500
DTEND;TZID=UTC:20240308T144500
DTSTAMP:20260421T012843
CREATED:20240302T093134Z
LAST-MODIFIED:20240302T093332Z
UID:13218-1709903700-1709909100@www.club-o.org
SUMMARY:會員瑜珈班
DESCRIPTION:日期：3月1\, 8\, 15\, 22日（五） \n時間：13:15-14:45 \n地點：Club O 活動室 \n費用：＄240 / 月（會員） \n導師：黃麗娥
URL:https://www.club-o.org/event/%e6%9c%83%e5%93%a1%e7%91%9c%e7%8f%88%e7%8f%ad-2024-03-08/
LOCATION:Club O\, 旺角亞皆老街86號昌明大厦7字樓FGH室
ATTACH;FMTTYPE=image/png:https://www.club-o.org/wp-content/uploads/2024/03/3月-瑜伽班-1.png
END:VEVENT
BEGIN:VEVENT
DTSTART;TZID=UTC:20240309T103000
DTEND;TZID=UTC:20240309T120000
DTSTAMP:20260421T012843
CREATED:20240302T093617Z
LAST-MODIFIED:20240302T093617Z
UID:13225-1709980200-1709985600@www.club-o.org
SUMMARY:道家養生功
DESCRIPTION:日期：3月 9\, 23日（隔個星期六） \n時間：10:30-12:00 \n地點：Club O 活動室 \n費用：＄120 /$160  \n導師：李踐生 \n已滿不招生
URL:https://www.club-o.org/event/%e9%81%93%e5%ae%b6%e9%a4%8a%e7%94%9f%e5%8a%9f-20/
LOCATION:Club O\, 旺角亞皆老街86號昌明大厦7字樓FGH室
ATTACH;FMTTYPE=image/png:https://www.club-o.org/wp-content/uploads/2024/03/三月道家養生功.png
END:VEVENT
BEGIN:VEVENT
DTSTART;TZID=UTC:20240309T130000
DTEND;TZID=UTC:20240309T140000
DTSTAMP:20260421T012843
CREATED:20240302T094517Z
LAST-MODIFIED:20240302T094517Z
UID:13235-1709989200-1709992800@www.club-o.org
SUMMARY:禪食體驗
DESCRIPTION:日期：3月2\, 9\, 16日（六） \n時間：13:00-14:00 \n地點：Club O 活動室 \n費用：自由定價
URL:https://www.club-o.org/event/%e7%a6%aa%e9%a3%9f%e9%ab%94%e9%a9%97-9-2024-03-09/
LOCATION:Club O\, 旺角亞皆老街86號昌明大厦7字樓FGH室
ATTACH;FMTTYPE=image/png:https://www.club-o.org/wp-content/uploads/2024/03/三月禪食.png
END:VEVENT
BEGIN:VEVENT
DTSTART;TZID=UTC:20240309T150000
DTEND;TZID=UTC:20240309T163000
DTSTAMP:20260421T012843
CREATED:20240302T095038Z
LAST-MODIFIED:20240302T095038Z
UID:13242-1709996400-1710001800@www.club-o.org
SUMMARY:頌缽療癒結合經絡調理工作坊(二)
DESCRIPTION:日期：3月 9日（六） \n時間：15:00-16:30 \n地點：Club O 活動室 \n費用：$320/288 \n導師：Cora Cheng \n工作坊(二) 血瘀 — 宮腔調養，排寒暖宮
URL:https://www.club-o.org/event/%e9%a0%8c%e7%bc%bd%e7%99%82%e7%99%92%e7%b5%90%e5%90%88%e7%b6%93%e7%b5%a1%e8%aa%bf%e7%90%86%e5%b7%a5%e4%bd%9c%e5%9d%8a%e4%ba%8c/
LOCATION:Club O\, 旺角亞皆老街86號昌明大厦7字樓FGH室
ATTACH;FMTTYPE=image/png:https://www.club-o.org/wp-content/uploads/2024/03/三月頌缽經絡工作坊.png
END:VEVENT
BEGIN:VEVENT
DTSTART;TZID=UTC:20240310T133000
DTEND;TZID=UTC:20240310T153000
DTSTAMP:20260421T012843
CREATED:20240302T093842Z
LAST-MODIFIED:20240302T093842Z
UID:13228-1710077400-1710084600@www.club-o.org
SUMMARY:水果綀功日
DESCRIPTION:日期：3月10日（日） \n時間：13:30-15:30 \n地點：戶外 \n費用：不需報名 免費參加 \n導師：歐振宗團隊
URL:https://www.club-o.org/event/%e6%b0%b4%e6%9e%9c%e7%b6%80%e5%8a%9f%e6%97%a5/
LOCATION:Club O\, 旺角亞皆老街86號昌明大厦7字樓FGH室
ATTACH;FMTTYPE=image/png:https://www.club-o.org/wp-content/uploads/2024/03/三月行山樂.png
END:VEVENT
BEGIN:VEVENT
DTSTART;VALUE=DATE:20240311
DTEND;VALUE=DATE:20240312
DTSTAMP:20260421T012843
CREATED:20170622T001747Z
LAST-MODIFIED:20170622T001747Z
UID:12180-1710115200-1710201599@www.club-o.org
SUMMARY:(Club O 店及辦事處 休息 - closed)
DESCRIPTION:
URL:https://www.club-o.org/event/club-o-%e5%ba%97%e5%8f%8a%e8%be%a6%e4%ba%8b%e8%99%95-%e4%bc%91%e6%81%af-closed-2024-03-11/
CATEGORIES:admin
END:VEVENT
BEGIN:VEVENT
DTSTART;TZID=UTC:20240312T193000
DTEND;TZID=UTC:20240312T223000
DTSTAMP:20260421T012843
CREATED:20240302T095720Z
LAST-MODIFIED:20240302T095720Z
UID:13250-1710271800-1710282600@www.club-o.org
SUMMARY:創造生命的奇蹟課程（Level 2）
DESCRIPTION:日期：3月5\,12\,19\,26日/ 4月16日（二） \n時間：19:30-22:30 \n地點：Club O 活動室 \n費用：$2800/2280 \n導師：Hera 希拉老師
URL:https://www.club-o.org/event/%e5%89%b5%e9%80%a0%e7%94%9f%e5%91%bd%e7%9a%84%e5%a5%87%e8%b9%9f%e8%aa%b2%e7%a8%8b%ef%bc%88level-2%ef%bc%89-2024-03-12/
LOCATION:Club O\, 旺角亞皆老街86號昌明大厦7字樓FGH室
END:VEVENT
BEGIN:VEVENT
DTSTART;TZID=UTC:20240313T140000
DTEND;TZID=UTC:20240313T153000
DTSTAMP:20260421T012843
CREATED:20240302T092059Z
LAST-MODIFIED:20240302T092114Z
UID:13197-1710338400-1710343800@www.club-o.org
SUMMARY:彩虹活力星期三
DESCRIPTION:彩虹活力星期三 \n日期：3月 6\, 13\, 20\, 27日逢星期三 \n時間：14:00-15:30 \n地點：戶外 \n費用：不需報名 免費參加 \n導師：歐振宗團隊
URL:https://www.club-o.org/event/%e5%bd%a9%e8%99%b9%e6%b4%bb%e5%8a%9b%e6%98%9f%e6%9c%9f%e4%b8%89-3-2024-03-13/
LOCATION:Club O\, 旺角亞皆老街86號昌明大厦7字樓FGH室
ATTACH;FMTTYPE=image/png:https://www.club-o.org/wp-content/uploads/2024/03/三月彩虹活力.png
END:VEVENT
BEGIN:VEVENT
DTSTART;TZID=UTC:20240314T193000
DTEND;TZID=UTC:20240314T223000
DTSTAMP:20260421T012843
CREATED:20240302T095235Z
LAST-MODIFIED:20240302T095235Z
UID:13244-1710444600-1710455400@www.club-o.org
SUMMARY:「肯定句」x 「相片療法」工作坊
DESCRIPTION:日期：3月 14日（四） \n時間：19:30-22:30 \n地點：Club O 活動室 \n費用：$150 \n導師：Hera 希拉老師 \n如報讀認證課程，可扣除費用。
URL:https://www.club-o.org/event/%e3%80%8c%e8%82%af%e5%ae%9a%e5%8f%a5%e3%80%8dx-%e3%80%8c%e7%9b%b8%e7%89%87%e7%99%82%e6%b3%95%e3%80%8d%e5%b7%a5%e4%bd%9c%e5%9d%8a/
LOCATION:Club O\, 旺角亞皆老街86號昌明大厦7字樓FGH室
END:VEVENT
BEGIN:VEVENT
DTSTART;TZID=UTC:20240315T093000
DTEND;TZID=UTC:20240315T110000
DTSTAMP:20260421T012843
CREATED:20240302T092531Z
LAST-MODIFIED:20240302T092531Z
UID:13208-1710495000-1710500400@www.club-o.org
SUMMARY:長者增肌體態班 (A)
DESCRIPTION:日期：3月 1，8，15，22日 \n時間：9:30-11:00 \n地點：Club O 活動室 \n費用：$200 / 月 \n導師：Jacky
URL:https://www.club-o.org/event/%e9%95%b7%e8%80%85%e5%a2%9e%e8%82%8c%e9%ab%94%e6%85%8b%e7%8f%ad-a-2024-03-15/
LOCATION:Club O\, 旺角亞皆老街86號昌明大厦7字樓FGH室
ATTACH;FMTTYPE=image/png:https://www.club-o.org/wp-content/uploads/2024/03/3月-長者生肌體態班-.png
END:VEVENT
BEGIN:VEVENT
DTSTART;TZID=UTC:20240315T111500
DTEND;TZID=UTC:20240315T124500
DTSTAMP:20260421T012843
CREATED:20240302T092806Z
LAST-MODIFIED:20240302T092806Z
UID:13213-1710501300-1710506700@www.club-o.org
SUMMARY:長者增肌體態班 (B)
DESCRIPTION:日期：3月 1，8，15，22日 \n時間：11:15-12:45 \n地點：Club O 活動室 \n費用：$200 / 月 \n導師：Jacky
URL:https://www.club-o.org/event/%e9%95%b7%e8%80%85%e5%a2%9e%e8%82%8c%e9%ab%94%e6%85%8b%e7%8f%ad-b-2024-03-15/
LOCATION:Club O\, 旺角亞皆老街86號昌明大厦7字樓FGH室
ATTACH;FMTTYPE=image/png:https://www.club-o.org/wp-content/uploads/2024/03/3月-長者生肌體態班-.png
END:VEVENT
BEGIN:VEVENT
DTSTART;TZID=UTC:20240315T131500
DTEND;TZID=UTC:20240315T144500
DTSTAMP:20260421T012843
CREATED:20240302T093134Z
LAST-MODIFIED:20240302T093333Z
UID:13219-1710508500-1710513900@www.club-o.org
SUMMARY:會員瑜珈班
DESCRIPTION:日期：3月1\, 8\, 15\, 22日（五） \n時間：13:15-14:45 \n地點：Club O 活動室 \n費用：＄240 / 月（會員） \n導師：黃麗娥
URL:https://www.club-o.org/event/%e6%9c%83%e5%93%a1%e7%91%9c%e7%8f%88%e7%8f%ad-2024-03-15/
LOCATION:Club O\, 旺角亞皆老街86號昌明大厦7字樓FGH室
ATTACH;FMTTYPE=image/png:https://www.club-o.org/wp-content/uploads/2024/03/3月-瑜伽班-1.png
END:VEVENT
BEGIN:VEVENT
DTSTART;TZID=UTC:20240315T193000
DTEND;TZID=UTC:20240315T210000
DTSTAMP:20260421T012843
CREATED:20240302T095403Z
LAST-MODIFIED:20240302T095403Z
UID:13246-1710531000-1710536400@www.club-o.org
SUMMARY:流動頌缽浴及實踐工作坊
DESCRIPTION:日期：3月 15日（五） \n時間：19:30-21:00 \n地點：Club O 活動室 \n費用：$150 \n導師：Akana Au Yeung
URL:https://www.club-o.org/event/%e6%b5%81%e5%8b%95%e9%a0%8c%e7%bc%bd%e6%b5%b4%e5%8f%8a%e5%af%a6%e8%b8%90%e5%b7%a5%e4%bd%9c%e5%9d%8a-2/
LOCATION:Club O\, 旺角亞皆老街86號昌明大厦7字樓FGH室
ATTACH;FMTTYPE=image/png:https://www.club-o.org/wp-content/uploads/2024/03/3月頌缽療癒公益-.png
END:VEVENT
BEGIN:VEVENT
DTSTART;TZID=UTC:20240316T130000
DTEND;TZID=UTC:20240316T140000
DTSTAMP:20260421T012843
CREATED:20240302T094517Z
LAST-MODIFIED:20240302T094517Z
UID:13236-1710594000-1710597600@www.club-o.org
SUMMARY:禪食體驗
DESCRIPTION:日期：3月2\, 9\, 16日（六） \n時間：13:00-14:00 \n地點：Club O 活動室 \n費用：自由定價
URL:https://www.club-o.org/event/%e7%a6%aa%e9%a3%9f%e9%ab%94%e9%a9%97-9-2024-03-16/
LOCATION:Club O\, 旺角亞皆老街86號昌明大厦7字樓FGH室
ATTACH;FMTTYPE=image/png:https://www.club-o.org/wp-content/uploads/2024/03/三月禪食.png
END:VEVENT
BEGIN:VEVENT
DTSTART;TZID=UTC:20240316T150000
DTEND;TZID=UTC:20240316T163000
DTSTAMP:20260421T012843
CREATED:20240302T101325Z
LAST-MODIFIED:20240302T101325Z
UID:13270-1710601200-1710606600@www.club-o.org
SUMMARY:心輪。輪瑜伽．公益班
DESCRIPTION:日期：3月16\, 28日（六，四） \n時間：15:00-16:30 \n地點：Club O 活動室 \n費用：隨緣樂捐 \n導師：Bowie
URL:https://www.club-o.org/event/%e5%bf%83%e8%bc%aa%e3%80%82%e8%bc%aa%e7%91%9c%e4%bc%bd%ef%bc%8e%e5%85%ac%e7%9b%8a%e7%8f%ad/
LOCATION:Club O\, 旺角亞皆老街86號昌明大厦7字樓FGH室
ATTACH;FMTTYPE=image/png:https://www.club-o.org/wp-content/uploads/2024/03/三月-心輪輪瑜伽.png
END:VEVENT
BEGIN:VEVENT
DTSTART;VALUE=DATE:20240318
DTEND;VALUE=DATE:20240319
DTSTAMP:20260421T012843
CREATED:20170622T001747Z
LAST-MODIFIED:20170622T001747Z
UID:12181-1710720000-1710806399@www.club-o.org
SUMMARY:(Club O 店及辦事處 休息 - closed)
DESCRIPTION:
URL:https://www.club-o.org/event/club-o-%e5%ba%97%e5%8f%8a%e8%be%a6%e4%ba%8b%e8%99%95-%e4%bc%91%e6%81%af-closed-2024-03-18/
CATEGORIES:admin
END:VEVENT
BEGIN:VEVENT
DTSTART;TZID=UTC:20240319T193000
DTEND;TZID=UTC:20240319T223000
DTSTAMP:20260421T012843
CREATED:20240302T095720Z
LAST-MODIFIED:20240302T095720Z
UID:13251-1710876600-1710887400@www.club-o.org
SUMMARY:創造生命的奇蹟課程（Level 2）
DESCRIPTION:日期：3月5\,12\,19\,26日/ 4月16日（二） \n時間：19:30-22:30 \n地點：Club O 活動室 \n費用：$2800/2280 \n導師：Hera 希拉老師
URL:https://www.club-o.org/event/%e5%89%b5%e9%80%a0%e7%94%9f%e5%91%bd%e7%9a%84%e5%a5%87%e8%b9%9f%e8%aa%b2%e7%a8%8b%ef%bc%88level-2%ef%bc%89-2024-03-19/
LOCATION:Club O\, 旺角亞皆老街86號昌明大厦7字樓FGH室
END:VEVENT
BEGIN:VEVENT
DTSTART;TZID=UTC:20240320T140000
DTEND;TZID=UTC:20240320T153000
DTSTAMP:20260421T012843
CREATED:20240302T092059Z
LAST-MODIFIED:20240302T092115Z
UID:13198-1710943200-1710948600@www.club-o.org
SUMMARY:彩虹活力星期三
DESCRIPTION:彩虹活力星期三 \n日期：3月 6\, 13\, 20\, 27日逢星期三 \n時間：14:00-15:30 \n地點：戶外 \n費用：不需報名 免費參加 \n導師：歐振宗團隊
URL:https://www.club-o.org/event/%e5%bd%a9%e8%99%b9%e6%b4%bb%e5%8a%9b%e6%98%9f%e6%9c%9f%e4%b8%89-3-2024-03-20/
LOCATION:Club O\, 旺角亞皆老街86號昌明大厦7字樓FGH室
ATTACH;FMTTYPE=image/png:https://www.club-o.org/wp-content/uploads/2024/03/三月彩虹活力.png
END:VEVENT
BEGIN:VEVENT
DTSTART;TZID=UTC:20240320T160000
DTEND;TZID=UTC:20240320T180000
DTSTAMP:20260421T012843
CREATED:20240302T101445Z
LAST-MODIFIED:20240302T101445Z
UID:13272-1710950400-1710957600@www.club-o.org
SUMMARY:流動頌缽聲頻浴
DESCRIPTION:日期：3月 20日（三） \n時間：16:00-18:00 \n地點：Club O 活動室 \n費用：隨緣樂捐 \n導師：Akana Au Yeung
URL:https://www.club-o.org/event/%e6%b5%81%e5%8b%95%e9%a0%8c%e7%bc%bd%e8%81%b2%e9%a0%bb%e6%b5%b4-3/
LOCATION:Club O\, 旺角亞皆老街86號昌明大厦7字樓FGH室
END:VEVENT
END:VCALENDAR